From mboxrd@z Thu Jan 1 00:00:00 1970 Return-Path: Received: from mails.dpdk.org (mails.dpdk.org [217.70.189.124]) by inbox.dpdk.org (Postfix) with ESMTP id 1E9B548A53 for ; Wed, 29 Oct 2025 20:05:01 +0100 (CET) Received: from mails.dpdk.org (localhost [127.0.0.1]) by mails.dpdk.org (Postfix) with ESMTP id F070940150; Wed, 29 Oct 2025 20:05:00 +0100 (CET) Received: from mail-il1-f225.google.com (mail-il1-f225.google.com [209.85.166.225]) by mails.dpdk.org (Postfix) with ESMTP id 0AA1840150 for ; Wed, 29 Oct 2025 20:05:00 +0100 (CET) Received: by mail-il1-f225.google.com with SMTP id e9e14a558f8ab-430cd27de3eso544595ab.1 for ; Wed, 29 Oct 2025 12:04:59 -0700 (PDT) DKIM-Signature: v=1; a=rsa-sha256; c=relaxed/relaxed; d=iol.unh.edu; s=unh-iol; t=1761764699; x=1762369499; darn=dpdk.org; h=references:in-reply-to:cc:to:from:subject:message-id:date:from:to :cc:subject:date:message-id:reply-to; bh=vnqDvxgrhGd58LHBSpwlCB9cHNdfVKdYCS2qwoLXyxU=; b=fRleXEPKH35Csk/sjzx+aZDTMMlpj6SXPOg4PVQuBX02QxFuSZ3ZCw5O02sksQ8oNH VSvsg9Z2srizRCBQezSMMIRluccDmf6/lLLbx/hMAV2X0TSIDvoo0sDpDl3MUNV3EVI0 dRKBJHynKTTFbgsYn8cmRpebwBywLMaAZ1b10= X-Google-DKIM-Signature: v=1; a=rsa-sha256; c=relaxed/relaxed; d=1e100.net; s=20230601; t=1761764699; x=1762369499; h=references:in-reply-to:cc:to:from:subject:message-id:date :x-gm-message-state:from:to:cc:subject:date:message-id:reply-to; bh=vnqDvxgrhGd58LHBSpwlCB9cHNdfVKdYCS2qwoLXyxU=; b=CTRVNq2ZV2KHMGofYiwnPdwCoJMoGnD7jomfg7MTgfLxP2pQZ38z5FZHAdZXwPHKUJ 852prO6I97+cGMaMMZnSSo9dEHPm8OJCQw5LyVPvTnB9iJ8PbTfJLEsCxWvkESBBdD+e WVSEEyO4xIf54/jTU06ltqG91sgS0VTt/W+4hsRsvyd3YaKOHA5VRVUKPH35Tk0Qo40r cCdux+eG3mB2TcSDUxDwW6VlbZktY6M1EBcwwo/BaqfxsuUKzw3bwifPMfy7/rrDfWUX VZWJai84ZOl6Rn9C02Orp3Uxau6IA24Z3CyYWuzCIpRnE3s4Hr406bBawpyd5uWULQFN v/dw== X-Gm-Message-State: AOJu0YwpCUtOj/WTNE1NBWBEpbO/eUILsxc+y0sUbqLRPezXT99zB10I 6c6Wc5TCJ0R2uhfkunQ50yqu53d+LKPogG6ndrF+BPkA98XLf4rmKQqXQBHSeTp4gMlhV1OQv/V aMiHAFuIrzZCPSu0bT0ZXRzay6oM37V471tc6nYVKQwX+ X-Gm-Gg: ASbGncufHWvRrsurd5ADGiAREEK4kUMb11S1PkEUJmuilxXF8sO5kYqn1wDJKBwSVxy L279H5NL2oIUkKd0bNDH9/x48pzOKxdg24ku8rVn6oTPKeundsveVWSdcCHj58ZSISIQ8XU3hQV jEwHM5p0vFP7sJ+6FRG1kek3Fnxj6XANPyHXVlrya8Uxi58NIYwvTRiqxBqJ9t8wkjM4giB0tdD wH7QOTWp6cPlKsF6MmUF7S3e0i3Z7dZmacn+BnCe09wODjCs966kHZmOwp1wb3E8k+ET/cfvCTm 6Iwwg4UyaBWT4n6FjSuEr591AeVV01wGdIvlIRqZhNdnm2sEnHzlTbipX+BBKOVahclX8vDAFGa QQ3o4KnJ8o6V2aOQ2WEiyiHK49BCfz0s= X-Google-Smtp-Source: AGHT+IH5vQen0rM3SWow+7vEgLffY3rFVdJuDnw+tfAYo/O/Php0lSGltI7yoKmUYZd/8VvANqDQVev+JkHf X-Received: by 2002:a05:6e02:148a:b0:430:d061:d9f7 with SMTP id e9e14a558f8ab-43301552662mr7381015ab.23.1761764699159; Wed, 29 Oct 2025 12:04:59 -0700 (PDT) Received: from postal.iol.unh.edu (postal.iol.unh.edu. [132.177.123.84]) by smtp-relay.gmail.com with ESMTPS id e9e14a558f8ab-431f67f7d91sm13141125ab.9.2025.10.29.12.04.58 (version=TLS1_2 cipher=ECDHE-ECDSA-AES128-GCM-SHA256 bits=128/128); Wed, 29 Oct 2025 12:04:59 -0700 (PDT) X-Relaying-Domain: iol.unh.edu Date: Wed, 29 Oct 2025 12:04:59 -0700 (PDT) Message-ID: <6902655b.050a0220.1acbcf.0348SMTPIN_ADDED_MISSING@mx.google.com> Received: from [172.21.0.2] (unknown [172.18.0.240]) by postal.iol.unh.edu (Postfix) with ESMTP id 7A6FE604D420; Wed, 29 Oct 2025 15:04:58 -0400 (EDT) Subject: |WARNING| pw158223-158224 [PATCH] [3/3] net/mlx5: support flow metad From: dpdklab@iol.unh.edu To: Test Report Cc: dpdk-test-reports@iol.unh.edu In-Reply-To: <20251029155711.169580-3-getelson@nvidia.com> References: <20251029155711.169580-3-getelson@nvidia.com> Content-Type: text/plain X-BeenThere: test-report@dpdk.org X-Mailman-Version: 2.1.29 Precedence: list List-Id: automatic DPDK test reports List-Unsubscribe: , List-Archive: List-Post: List-Help: List-Subscribe: , Errors-To: test-report-bounces@dpdk.org Test-Label: iol-compile-amd64-testing Test-Status: WARNING http://dpdk.org/patch/158224 _Testing issues_ Submitter: Gregory Etelson Date: Wednesday, October 29 2025 15:57:10 DPDK git baseline: Repo:dpdk-next-net-mlx Branch: master CommitID:39b54f2dcf44ad1f91eabc7080cd5dea763607fd 158223-158224 --> testing issues Upstream job id: Windows-Compile-DPDK-Native#31989 Test environment and result as below: +-------------------------------+--------------------+-------------------+------------------+-------------------+-------------------------+ | Environment | dpdk_meson_compile | dpdk_compile_spdk | dpdk_compile_ovs | dpdk_msvc_compile | dpdk_llvm_clang_compile | +===============================+====================+===================+==================+===================+=========================+ | FreeBSD 14.2 | PASS | SKIPPED | SKIPPED | SKIPPED | SKIPPED | +-------------------------------+--------------------+-------------------+------------------+-------------------+-------------------------+ | CentOS Stream 9 | PASS | WARN | SKIPPED | SKIPPED | SKIPPED | +-------------------------------+--------------------+-------------------+------------------+-------------------+-------------------------+ | CentOS Stream 10 | PASS | SKIPPED | SKIPPED | SKIPPED | SKIPPED | +-------------------------------+--------------------+-------------------+------------------+-------------------+-------------------------+ | Debian GNU/Linux 12 | PASS | WARN | SKIPPED | SKIPPED | SKIPPED | +-------------------------------+--------------------+-------------------+------------------+-------------------+-------------------------+ | Ubuntu 20.04 | PASS | SKIPPED | SKIPPED | SKIPPED | SKIPPED | +-------------------------------+--------------------+-------------------+------------------+-------------------+-------------------------+ | Fedora Linux 42 | PASS | WARN | PASS | SKIPPED | SKIPPED | +-------------------------------+--------------------+-------------------+------------------+-------------------+-------------------------+ | openSUSE Leap 15.6 | PASS | SKIPPED | SKIPPED | SKIPPED | SKIPPED | +-------------------------------+--------------------+-------------------+------------------+-------------------+-------------------------+ | Red Hat Enterprise Linux 8.10 | PASS | SKIPPED | SKIPPED | SKIPPED | SKIPPED | +-------------------------------+--------------------+-------------------+------------------+-------------------+-------------------------+ | Red Hat Enterprise Linux 9.5 | PASS | SKIPPED | SKIPPED | SKIPPED | SKIPPED | +-------------------------------+--------------------+-------------------+------------------+-------------------+-------------------------+ | Ubuntu 22.04 | PASS | WARN | SKIPPED | SKIPPED | SKIPPED | +-------------------------------+--------------------+-------------------+------------------+-------------------+-------------------------+ | Ubuntu 24.04 | PASS | WARN | PASS | SKIPPED | SKIPPED | +-------------------------------+--------------------+-------------------+------------------+-------------------+-------------------------+ | Alpine Linux 3.22.0 | PASS | SKIPPED | SKIPPED | SKIPPED | SKIPPED | +-------------------------------+--------------------+-------------------+------------------+-------------------+-------------------------+ | Windows Server 2022 | SKIPPED | SKIPPED | SKIPPED | PASS | PASS | +-------------------------------+--------------------+-------------------+------------------+-------------------+-------------------------+ ==== 20 line log output for Ubuntu 24.04 (dpdk_compile_spdk): ==== --- Failed to get log output --- ==== End log output ==== FreeBSD 14.2 Kernel: 14.2-RELEASE Compiler: clang 18.1.6 CentOS Stream 9 Kernel: 5.15 Compiler: gcc gcc (GCC) 11.5.0 20240719 (Red Hat 11.5.0-11) CentOS Stream 10 Kernel: 5.15 Compiler: gcc gcc (GCC) 14.2.1 20250110 (Red Hat 14.2.1-8) Debian GNU/Linux 12 Kernel: 5.15 Compiler: gcc gcc (Debian 12.2.0-14+deb12u1) 12.2.0 Ubuntu 20.04 Kernel: 4.19 Compiler: gcc gcc (Ubuntu 9.4.0-1ubuntu1~20.04.2) 9.4.0 Fedora Linux 42 Kernel: 5.15 Compiler: clang gcc (GCC) 15.2.1 20250808 (Red Hat 15.2.1-1) openSUSE Leap 15.6 Kernel: 5.15 Compiler: gcc gcc (SUSE Linux) 7.5.0 Red Hat Enterprise Linux 8.10 Kernel: 5.15 Compiler: gcc gcc (GCC) 8.5.0 20210514 (Red Hat 8.5.0-22) Red Hat Enterprise Linux 9.5 Kernel: 5.15 Compiler: gcc gcc (GCC) 11.5.0 20240719 (Red Hat 11.5.0-2) Ubuntu 22.04 Kernel: 5.15 Compiler: gcc gcc (Ubuntu 11.4.0-1ubuntu1~22.04) 11.4.0 Ubuntu 24.04 Kernel: 5.15 Compiler: gcc gcc (Ubuntu 13.3.0-6ubuntu2~24.04) 13.3.0 Alpine Linux 3.22.0 Kernel: 5.15 Compiler: gcc gcc (Alpine 14.2.0) 14.2.0 Windows Server 2022 Kernel: 10.0.20348.2031 Compiler: clang 15.0.7, gcc 14.1.0 (MinGW), and MSVC VS 19.39.33521 To view detailed results, visit: https://lab.dpdk.org/results/dashboard/patchsets/34418/ UNH-IOL DPDK Community Lab To manage your email subscriptions, visit: https://lab.dpdk.org/results/dashboard/preferences/subscriptions/