From mboxrd@z Thu Jan 1 00:00:00 1970 Return-Path: Received: from mails.dpdk.org (mails.dpdk.org [217.70.189.124]) by inbox.dpdk.org (Postfix) with ESMTP id 1D0E748A05 for ; Wed, 29 Oct 2025 20:16:14 +0100 (CET) Received: from mails.dpdk.org (localhost [127.0.0.1]) by mails.dpdk.org (Postfix) with ESMTP id 0F38A40150; Wed, 29 Oct 2025 20:16:14 +0100 (CET) Received: from mail-ua1-f99.google.com (mail-ua1-f99.google.com [209.85.222.99]) by mails.dpdk.org (Postfix) with ESMTP id 13EAA40150 for ; Wed, 29 Oct 2025 20:16:13 +0100 (CET) Received: by mail-ua1-f99.google.com with SMTP id a1e0cc1a2514c-932bbd6ba76so93377241.0 for ; Wed, 29 Oct 2025 12:16:12 -0700 (PDT) DKIM-Signature: v=1; a=rsa-sha256; c=relaxed/relaxed; d=iol.unh.edu; s=unh-iol; t=1761765372; x=1762370172; darn=dpdk.org; h=references:in-reply-to:cc:to:from:subject:message-id:date:from:to :cc:subject:date:message-id:reply-to; bh=mjRAXeybiMYjKJ2vhHibIKtkpw1Ba28mTBPTnvpW5og=; b=B0JKkZEnqc/7dvgzoPMq7D6AOzKN1e+7MzOvgJt/z4mRV745OXG3o5JHPPPxhq7E+j p/h3XNBq39HUzzAgFMUmiJSo/7XMObPtlBYs1oJQMkYR5VALrJreAKnHdFPsTwzITa8C UW1GBuCLGVnfo2WGS7jLfLXxTDdgNrFShJPxU= X-Google-DKIM-Signature: v=1; a=rsa-sha256; c=relaxed/relaxed; d=1e100.net; s=20230601; t=1761765372; x=1762370172; h=references:in-reply-to:cc:to:from:subject:message-id:date :x-gm-message-state:from:to:cc:subject:date:message-id:reply-to; bh=mjRAXeybiMYjKJ2vhHibIKtkpw1Ba28mTBPTnvpW5og=; b=GMZ6mJexPClJRYzdd4iLMKRaCS5VWbWQrNzvcP+25O5Z5xfp4f5zp34ABglhGlH50Y sSro1JfW2dZom1dVLc+iDoNURkZdqw4ZhE0JHYy9I/LskqdwNwmp0YV+yeVZ60mada1O c40jW8mkSfLw3i7cl02S3/g3xiv5X10ox//ioZQro4I6k5DpUH6A8rGqwGJH5+JDey7e t4LS5OsrCEeoV3dvLboNaaFMUAEbuoagd+FvArm78hpntlYL/oVeqZRtTuB4M6+f2cow DDsq8fgd/c0o5DMFBUCAFtALRNBqEdjDCbSrglLA+i3mXntATAQu6zQrf94/jfNrzC+b J+sQ== X-Gm-Message-State: AOJu0Yzzb5ErX7oliPOIIp5CTzOhMhGuhEHr84GfcwGn73uvim0icN4P KkZ+WtMw3k0LCgVU5UKAQVe/KFzGMywgb9bzGHJQYuVJP7k9XGlFfyFF5+MXf7kmoGF9yBllL0m YwEC+1Ci8iK9gYqVjX8efFPC4h8MouBeAGhpoDBJV0vql X-Gm-Gg: ASbGncud+bETLwQFw4gCzUqGlBdWy/TiAL1yGdNxYdA7ptGXlWsLxCYIT+u6EQei4ZB qjFnmQrg+eVYpwTvFHjmN2bHB8FFiMegvHLnFxXt7BiIFXeXtarvagv/mQoHXp0zuhvm2fnba32 sf0ovuVqBVgCaTVSEGplYf1G/nrpHUe93utC8sR1ut1Kvy/CTvb6EXzY6Ae86pXqtSmXljlyRr2 ORLdkBjmOYTRRtCoLS81v1YqbgPtNxrFepBqQ18THSFbprnB2J9gfQlovDq6LEKbv7GGr/Arkoa lnUutv7aaN2HDNIec0JhgnkKYn1C3u/QQcJXMY49lKx6cgR0jiKriOKoDoTTpxO+3iZcCZOIOeZ kIrHIPIisjhHS4y4AX1DCB8Ml7r2mRq8= X-Google-Smtp-Source: AGHT+IGLwA+wl4C16lBmxdw3KAEsPfspXjd5D9/zLE9dOo+RX8Y5peTQdCevUcAAR0/bF/02dsTgj+bSHnzu X-Received: by 2002:a05:6102:6886:b0:523:759e:b0cf with SMTP id ada2fe7eead31-5db90655142mr1261927137.21.1761765372399; Wed, 29 Oct 2025 12:16:12 -0700 (PDT) Received: from postal.iol.unh.edu (postal.iol.unh.edu. [132.177.123.84]) by smtp-relay.gmail.com with ESMTPS id a1e0cc1a2514c-934c3fe962dsm309874241.5.2025.10.29.12.16.12 (version=TLS1_2 cipher=ECDHE-ECDSA-AES128-GCM-SHA256 bits=128/128); Wed, 29 Oct 2025 12:16:12 -0700 (PDT) X-Relaying-Domain: iol.unh.edu Date: Wed, 29 Oct 2025 12:16:12 -0700 (PDT) Message-ID: <690267fc.050a0220.33c4d9.e49aSMTPIN_ADDED_MISSING@mx.google.com> Received: from [172.21.0.2] (unknown [172.18.0.240]) by postal.iol.unh.edu (Postfix) with ESMTP id 1B1556051830; Wed, 29 Oct 2025 15:16:12 -0400 (EDT) Subject: |SUCCESS| pw158227-158282 [PATCH] [v5,57/57] net/bnxt/tf_ulp: remove From: dpdklab@iol.unh.edu To: Test Report Cc: dpdk-test-reports@iol.unh.edu In-Reply-To: <20251029160712.58519-58-manish.kurup@broadcom.com> References: <20251029160712.58519-58-manish.kurup@broadcom.com> Content-Type: text/plain X-BeenThere: test-report@dpdk.org X-Mailman-Version: 2.1.29 Precedence: list List-Id: automatic DPDK test reports List-Unsubscribe: , List-Archive: List-Post: List-Help: List-Subscribe: , Errors-To: test-report-bounces@dpdk.org Test-Label: iol-unit-amd64-testing Test-Status: SUCCESS http://dpdk.org/patch/158282 _Testing PASS_ Submitter: Manish Kurup Date: Wednesday, October 29 2025 16:07:12 DPDK git baseline: Repo:dpdk Branch: master CommitID:39b54f2dcf44ad1f91eabc7080cd5dea763607fd 158227-158282 --> testing pass Upstream job id: Generic-VM-Unit-Test-DPDK#32165 Test environment and result as below: +-------------------------------+----------------+ | Environment | dpdk_unit_test | +===============================+================+ | Debian GNU/Linux 12 | PASS | +-------------------------------+----------------+ | CentOS Stream 10 | PASS | +-------------------------------+----------------+ | CentOS Stream 9 | PASS | +-------------------------------+----------------+ | Fedora Linux 40 | PASS | +-------------------------------+----------------+ | Fedora Linux 41 | PASS | +-------------------------------+----------------+ | Fedora Linux 42 | PASS | +-------------------------------+----------------+ | Red Hat Enterprise Linux 9.5 | PASS | +-------------------------------+----------------+ | Red Hat Enterprise Linux 8.10 | PASS | +-------------------------------+----------------+ | Ubuntu 20.04 | PASS | +-------------------------------+----------------+ | Ubuntu 22.04 | PASS | +-------------------------------+----------------+ | Ubuntu 24.04 | PASS | +-------------------------------+----------------+ | Windows Server 2022 | PASS | +-------------------------------+----------------+ Debian GNU/Linux 12 Kernel: 5.15 Compiler: gcc gcc (Debian 12.2.0-14+deb12u1) 12.2.0 CentOS Stream 10 Kernel: 5.15 Compiler: gcc gcc (GCC) 14.2.1 20250110 (Red Hat 14.2.1-8) CentOS Stream 9 Kernel: 5.15 Compiler: gcc gcc (GCC) 11.5.0 20240719 (Red Hat 11.5.0-11) Fedora Linux 40 Kernel: 5.15 Compiler: clang gcc (GCC) 14.2.1 20240912 (Red Hat 14.2.1-3) Fedora Linux 41 Kernel: 5.15 Compiler: gcc gcc (GCC) 14.3.1 20250523 (Red Hat 14.3.1-1) Fedora Linux 42 Kernel: 5.15 Compiler: clang gcc (GCC) 15.2.1 20250808 (Red Hat 15.2.1-1) Red Hat Enterprise Linux 9.5 Kernel: 5.15 Compiler: gcc gcc (GCC) 11.5.0 20240719 (Red Hat 11.5.0-2) Red Hat Enterprise Linux 8.10 Kernel: 5.15 Compiler: gcc gcc (GCC) 8.5.0 20210514 (Red Hat 8.5.0-22) Ubuntu 20.04 Kernel: 5.15 Compiler: gcc gcc (Ubuntu 9.4.0-1ubuntu1~20.04.2) 9.4.0 Ubuntu 22.04 Kernel: 5.15 Compiler: gcc gcc (Ubuntu 11.4.0-1ubuntu1~22.04) 11.4.0 Ubuntu 24.04 Kernel: 5.15 Compiler: gcc gcc (Ubuntu 13.3.0-6ubuntu2~24.04) 13.3.0 Windows Server 2022 Kernel: 10.0.20348.2031 Compiler: clang 15.0.7, gcc 14.1.0 (MinGW), and MSVC VS 19.39.33521 To view detailed results, visit: https://lab.dpdk.org/results/dashboard/patchsets/34419/ UNH-IOL DPDK Community Lab To manage your email subscriptions, visit: https://lab.dpdk.org/results/dashboard/preferences/subscriptions/