From mboxrd@z Thu Jan 1 00:00:00 1970 Return-Path: Received: from mails.dpdk.org (mails.dpdk.org [217.70.189.124]) by inbox.dpdk.org (Postfix) with ESMTP id 42D9848A08 for ; Wed, 29 Oct 2025 20:28:25 +0100 (CET) Received: from mails.dpdk.org (localhost [127.0.0.1]) by mails.dpdk.org (Postfix) with ESMTP id 203E540150; Wed, 29 Oct 2025 20:28:25 +0100 (CET) Received: from mail-ua1-f98.google.com (mail-ua1-f98.google.com [209.85.222.98]) by mails.dpdk.org (Postfix) with ESMTP id 5B65440150 for ; Wed, 29 Oct 2025 20:28:24 +0100 (CET) Received: by mail-ua1-f98.google.com with SMTP id a1e0cc1a2514c-932c247fb9aso109203241.2 for ; Wed, 29 Oct 2025 12:28:24 -0700 (PDT) DKIM-Signature: v=1; a=rsa-sha256; c=relaxed/relaxed; d=iol.unh.edu; s=unh-iol; t=1761766103; x=1762370903; darn=dpdk.org; h=references:in-reply-to:cc:to:from:subject:message-id:date:from:to :cc:subject:date:message-id:reply-to; bh=s6tMJOzsxBu1EigzWA0qmO7J2Lr6DnXdsmpjrCGMegQ=; b=OiQEzXnJlwA70LHURJzP6iIsXiqzKG2YeMtzrULjfP3ROelLIdbZ6XeEJQWauXIQd6 CpV9QptaaX3749jMBW5NMRdgpSHsDOrpkZdbJJbmjaQvsNL1TTadVtKFP2ryOETbTWdH iLNMV5GZ4R/OycGIKHa8YHHcL50atSgsTVR9I= X-Google-DKIM-Signature: v=1; a=rsa-sha256; c=relaxed/relaxed; d=1e100.net; s=20230601; t=1761766103; x=1762370903; h=references:in-reply-to:cc:to:from:subject:message-id:date :x-gm-message-state:from:to:cc:subject:date:message-id:reply-to; bh=s6tMJOzsxBu1EigzWA0qmO7J2Lr6DnXdsmpjrCGMegQ=; b=wPKoggwuyXFe8e5g4y4uj0IqJI7x8UdJCeHW+st6PVEuBJBHP5TnqV2YX/w0aK6o6v 1Codd+R41liBSVAR6ezkmM+WkOh8ZKgi4sw2hhZfHSo7RFgrmNyuN5JaZO30ebsy1PAE vus8/1L1sIdzSh3E3CHgEJqD/PH5mu0FjXcOEXYOpSAJEMdfVpEHs5R1PrRuA5oLb2Ln VIk6EpwLziRIvcAGI3/9ilr+T7fq1d5RsBZQnDL2cTIyDEvrHA+jJxEvnpuyjU12n9uU ttOr9oJwM9k7XrEMW9wKezspT33hLwDBwc5LyK4aGNzyt0WUA5BDDoHkUqFoI92ofFoY C+Qw== X-Gm-Message-State: AOJu0Yweha/oCfjpeAOSdhhFnv2mUkajgtBJNM8Oz24VrlOTRfcIcmNF fT5zNjr9blanOE7weZjjQYDmcYALQf26pgRNjEO1VEMlNwzy6FbD2KaIg2jrT4KaCbgnDSQaX8N aQ9LwSYjL0MdJLHlHbaMbkZ/2nzUBJWA8NCFrBwLvgBJG X-Gm-Gg: ASbGnctRrhW8w4eDzuQLfFTWcJYWmjg1OwrD2B3r9HQx9wDacpd794vIWJEjM3BaGll OkBXC89UB/kfX0XsB+d4m+V4JmTM1zSt3EkO0VM5xiCHSs1V1a3fXt7cpw37reoqZx/LHh+/0Yc Zd872fAL9cWcuUWDaS7MPO3Y2HgLPX2NiH2KKprJtT8w0hNuvTjLY31+yJr9khWDNPn1VldSkp9 KR4v1rDP5ehryRc+i3AIJjxMTuxlZ8AP1+DcYM28EiRx5JxgUHKN7duZDbtkKKKoDpGNyGxtuxi 6m7gnfRZE4O/KEgA5TMFUTUcPfOk2452Y+ZBmS2wH2DLGOUn+YvMyVeLKgH5FPVae5Vt2fxDDsg UZ8DEjRC6kBSQeAdqAjMsAcs8t+oJnJ0= X-Google-Smtp-Source: AGHT+IHSYFNmM/KqTWK3B+r+f3Wz84eUeqgY6r2v+b2MzOBwitSYOIebTlbXjOjj4knJO138vfGRMAikXQHu X-Received: by 2002:a05:6102:b0d:b0:5d6:5ac:3902 with SMTP id ada2fe7eead31-5db906768f9mr1427564137.21.1761766103705; Wed, 29 Oct 2025 12:28:23 -0700 (PDT) Received: from postal.iol.unh.edu (postal.iol.unh.edu. [132.177.123.84]) by smtp-relay.gmail.com with ESMTPS id 71dfb90a1353d-557ddab692asm1560173e0c.0.2025.10.29.12.28.23 (version=TLS1_2 cipher=ECDHE-ECDSA-AES128-GCM-SHA256 bits=128/128); Wed, 29 Oct 2025 12:28:23 -0700 (PDT) X-Relaying-Domain: iol.unh.edu Date: Wed, 29 Oct 2025 12:28:23 -0700 (PDT) Message-ID: <69026ad7.050a0220.33266f.8578SMTPIN_ADDED_MISSING@mx.google.com> Received: from [172.21.0.2] (unknown [172.18.0.240]) by postal.iol.unh.edu (Postfix) with ESMTP id 72A6E6050A61; Wed, 29 Oct 2025 15:28:23 -0400 (EDT) Subject: |SUCCESS| pw158227-158282 [PATCH] [v5,57/57] net/bnxt/tf_ulp: remove From: dpdklab@iol.unh.edu To: Test Report Cc: dpdk-test-reports@iol.unh.edu In-Reply-To: <20251029160712.58519-58-manish.kurup@broadcom.com> References: <20251029160712.58519-58-manish.kurup@broadcom.com> Content-Type: text/plain X-BeenThere: test-report@dpdk.org X-Mailman-Version: 2.1.29 Precedence: list List-Id: automatic DPDK test reports List-Unsubscribe: , List-Archive: List-Post: List-Help: List-Subscribe: , Errors-To: test-report-bounces@dpdk.org Test-Label: iol-unit-amd64-testing Test-Status: SUCCESS http://dpdk.org/patch/158282 _Testing PASS_ Submitter: Manish Kurup Date: Wednesday, October 29 2025 16:07:12 DPDK git baseline: Repo:dpdk Branch: master CommitID:39b54f2dcf44ad1f91eabc7080cd5dea763607fd 158227-158282 --> testing pass Upstream job id: Generic-VM-Unit-Test-DPDK#32166 Test environment and result as below: +-------------------------------+----------------+ | Environment | dpdk_unit_test | +===============================+================+ | Debian GNU/Linux 12 | PASS | +-------------------------------+----------------+ | CentOS Stream 10 | PASS | +-------------------------------+----------------+ | CentOS Stream 9 | PASS | +-------------------------------+----------------+ | Fedora Linux 40 | PASS | +-------------------------------+----------------+ | Fedora Linux 41 | PASS | +-------------------------------+----------------+ | Fedora Linux 42 | PASS | +-------------------------------+----------------+ | Red Hat Enterprise Linux 9.5 | PASS | +-------------------------------+----------------+ | Red Hat Enterprise Linux 8.10 | PASS | +-------------------------------+----------------+ | Ubuntu 20.04 | PASS | +-------------------------------+----------------+ | Ubuntu 22.04 | PASS | +-------------------------------+----------------+ | Ubuntu 24.04 | PASS | +-------------------------------+----------------+ | Windows Server 2022 | PASS | +-------------------------------+----------------+ Debian GNU/Linux 12 Kernel: 5.15 Compiler: gcc gcc (Debian 12.2.0-14+deb12u1) 12.2.0 CentOS Stream 10 Kernel: 5.15 Compiler: gcc gcc (GCC) 14.2.1 20250110 (Red Hat 14.2.1-8) CentOS Stream 9 Kernel: 5.15 Compiler: gcc gcc (GCC) 11.5.0 20240719 (Red Hat 11.5.0-11) Fedora Linux 40 Kernel: 5.15 Compiler: clang gcc (GCC) 14.2.1 20240912 (Red Hat 14.2.1-3) Fedora Linux 41 Kernel: 5.15 Compiler: gcc gcc (GCC) 14.3.1 20250523 (Red Hat 14.3.1-1) Fedora Linux 42 Kernel: 5.15 Compiler: clang gcc (GCC) 15.2.1 20250808 (Red Hat 15.2.1-1) Red Hat Enterprise Linux 9.5 Kernel: 5.15 Compiler: gcc gcc (GCC) 11.5.0 20240719 (Red Hat 11.5.0-2) Red Hat Enterprise Linux 8.10 Kernel: 5.15 Compiler: gcc gcc (GCC) 8.5.0 20210514 (Red Hat 8.5.0-22) Ubuntu 20.04 Kernel: 5.15 Compiler: gcc gcc (Ubuntu 9.4.0-1ubuntu1~20.04.2) 9.4.0 Ubuntu 22.04 Kernel: 5.15 Compiler: gcc gcc (Ubuntu 11.4.0-1ubuntu1~22.04) 11.4.0 Ubuntu 24.04 Kernel: 5.15 Compiler: gcc gcc (Ubuntu 13.3.0-6ubuntu2~24.04) 13.3.0 Windows Server 2022 Kernel: 10.0.20348.2031 Compiler: clang 15.0.7, gcc 14.1.0 (MinGW), and MSVC VS 19.39.33521 To view detailed results, visit: https://lab.dpdk.org/results/dashboard/patchsets/34419/ UNH-IOL DPDK Community Lab To manage your email subscriptions, visit: https://lab.dpdk.org/results/dashboard/preferences/subscriptions/