From mboxrd@z Thu Jan 1 00:00:00 1970 Return-Path: Received: from mails.dpdk.org (mails.dpdk.org [217.70.189.124]) by inbox.dpdk.org (Postfix) with ESMTP id 8874748A08 for ; Wed, 29 Oct 2025 20:31:50 +0100 (CET) Received: from mails.dpdk.org (localhost [127.0.0.1]) by mails.dpdk.org (Postfix) with ESMTP id 6F11640150; Wed, 29 Oct 2025 20:31:50 +0100 (CET) Received: from mail-qk1-f225.google.com (mail-qk1-f225.google.com [209.85.222.225]) by mails.dpdk.org (Postfix) with ESMTP id AC2E340150 for ; Wed, 29 Oct 2025 20:31:49 +0100 (CET) Received: by mail-qk1-f225.google.com with SMTP id af79cd13be357-89048f76ec2so21678185a.1 for ; Wed, 29 Oct 2025 12:31:49 -0700 (PDT) DKIM-Signature: v=1; a=rsa-sha256; c=relaxed/relaxed; d=iol.unh.edu; s=unh-iol; t=1761766309; x=1762371109; darn=dpdk.org; h=references:in-reply-to:cc:to:from:subject:message-id:date:from:to :cc:subject:date:message-id:reply-to; bh=83aFsoS/NeBMAwPQWhH5ZsxMHQLFx+y8OmPd+WfAZRM=; b=ZE6cUAMbGhtOuxTT2CdFMY/VGFiC8swfM9h7y5TqaMC4+rObMRqtz+xF/4lSZx9/Iq +66JIKlhhaFcalCTCBf/XZO93T3UBv130e1+42f1u+TOUMd4JYVsiks/sXgF9lwuxGHc vBCbzJeVI3cz/RA7zlk4tGAHPhb0/3fwD0Nbk= X-Google-DKIM-Signature: v=1; a=rsa-sha256; c=relaxed/relaxed; d=1e100.net; s=20230601; t=1761766309; x=1762371109; h=references:in-reply-to:cc:to:from:subject:message-id:date :x-gm-message-state:from:to:cc:subject:date:message-id:reply-to; bh=83aFsoS/NeBMAwPQWhH5ZsxMHQLFx+y8OmPd+WfAZRM=; b=l1JNbsjI0ePd3o6S8XkoaIN6AWq6yXxi82Px52fcj6oNFVmk45UY30AqiqavJoWC5t qOtgEXvDbPpyvVAt+nFK+645nn7mD85m58eWjaUuVz/+CttDsCMZupdluY5HqjV22ByM D7HO6tItwkfEKQvq0Feg1CTSBcbHeJqEsIyF/0u+pVeL0WRLG+tgeskMjqK+4ieIhuTU 7pbqIovZvtQC/8ej/jrAA8gBOnFcAr4/aDxvC4YA/8L0IxSEtC09D1wPy6GF6CT6Vc4D ptgTieA0QNB1km2a6mssfn07XDUleJdVCxuDfVV/8sOd4ap+dZzmOtIoqkqXOe9UUjKw uxMw== X-Gm-Message-State: AOJu0Ywpz9bie7aVzEzp7gLTwqqkC9VzdL4G0woylJFEKu3IZpvxbxaf W1xKmXcYeK4ipzd17tot4IdVJnoSmQqlm4AfFwnutmwy7WRPRWrjQVcY72nZ8uT3b61bzqA1prr XG3f+TbqW/KqjjoLqkxBH3g2HRXD0D+7+w8lKxCnorrlgWl+gkYOUazbxTp7S X-Gm-Gg: ASbGncu5OLyECBVhgYUj8F1jIHqMiJxWJKCA49lkC3vdkjMG1VctU+cFgK/s+nThdvb 0mU3pn0SVnrnojpoEe9yNNhlSzeC3l8wa/up7LqLwloeY49RwCic1UKH0izDSwTR6NpMOHPNAEt MBUwESNJVT+/zj73nviJES9BGnZqV/IcNREyRjky9NKC66PThdoegtGAzTvYSFw8nDUQ4ABi2FX ZK1nTG8tAPWzo/gU4ktX2PuNn4TKLMORZi/7NmDWIBcGmCybKUNDuEG6xjdCSB5brwNvOAioJY5 cuByZ6Fnh+bgtaKvpXho3LjAHbB9IqQiQEXKGmwqQTJEr7Ni8a0J1J9JWXVi3EXyEUWgvsxP43k F8Icfq1mk X-Google-Smtp-Source: AGHT+IHJjSU26zvLdX8ShznaPM12uPMsAe7LFmuUXTgdwBiyzWgcJFdFXdH1NAKomY94NYwJEa09P94ScYwg X-Received: by 2002:a05:620a:4081:b0:8a2:9b71:da9c with SMTP id af79cd13be357-8a8e473a1f7mr601790685a.25.1761766308957; Wed, 29 Oct 2025 12:31:48 -0700 (PDT) Received: from postal.iol.unh.edu (postal.iol.unh.edu. [2606:4100:3880:1234::84]) by smtp-relay.gmail.com with ESMTPS id af79cd13be357-89f24bdcdaasm121851085a.7.2025.10.29.12.31.48 (version=TLS1_2 cipher=ECDHE-ECDSA-AES128-GCM-SHA256 bits=128/128); Wed, 29 Oct 2025 12:31:48 -0700 (PDT) X-Relaying-Domain: iol.unh.edu Date: Wed, 29 Oct 2025 12:31:48 -0700 (PDT) Message-ID: <69026ba4.050a0220.3ccd27.958bSMTPIN_ADDED_MISSING@mx.google.com> Received: from [172.21.0.2] (unknown [172.18.0.240]) by postal.iol.unh.edu (Postfix) with ESMTP id ADB13604D420; Wed, 29 Oct 2025 15:31:48 -0400 (EDT) Subject: |WARNING| pw158227-158282 [PATCH] [v5,57/57] net/bnxt/tf_ulp: remove From: dpdklab@iol.unh.edu To: Test Report Cc: dpdk-test-reports@iol.unh.edu In-Reply-To: <20251029160712.58519-58-manish.kurup@broadcom.com> References: <20251029160712.58519-58-manish.kurup@broadcom.com> Content-Type: text/plain X-BeenThere: test-report@dpdk.org X-Mailman-Version: 2.1.29 Precedence: list List-Id: automatic DPDK test reports List-Unsubscribe: , List-Archive: List-Post: List-Help: List-Subscribe: , Errors-To: test-report-bounces@dpdk.org Test-Label: iol-compile-amd64-testing Test-Status: WARNING http://dpdk.org/patch/158282 _Testing issues_ Submitter: Manish Kurup Date: Wednesday, October 29 2025 16:07:12 DPDK git baseline: Repo:dpdk Branch: master CommitID:39b54f2dcf44ad1f91eabc7080cd5dea763607fd 158227-158282 --> testing issues Upstream job id: Generic-DPDK-Compile-Meson#439112 Test environment and result as below: +---------------------+--------------------+-------------------+-------------------+------------------+ | Environment | dpdk_meson_compile | dpdk_msvc_compile | dpdk_compile_spdk | dpdk_compile_ovs | +=====================+====================+===================+===================+==================+ | FreeBSD 14.2 | PASS | SKIPPED | SKIPPED | SKIPPED | +---------------------+--------------------+-------------------+-------------------+------------------+ | Ubuntu 20.04 | PASS | SKIPPED | SKIPPED | SKIPPED | +---------------------+--------------------+-------------------+-------------------+------------------+ | CentOS Stream 9 | PASS | SKIPPED | WARN | SKIPPED | +---------------------+--------------------+-------------------+-------------------+------------------+ | CentOS Stream 10 | PASS | SKIPPED | SKIPPED | SKIPPED | +---------------------+--------------------+-------------------+-------------------+------------------+ | Debian GNU/Linux 12 | PASS | SKIPPED | WARN | SKIPPED | +---------------------+--------------------+-------------------+-------------------+------------------+ | Fedora Linux 42 | PASS | SKIPPED | WARN | PASS | +---------------------+--------------------+-------------------+-------------------+------------------+ | Windows Server 2022 | SKIPPED | PASS | SKIPPED | SKIPPED | +---------------------+--------------------+-------------------+-------------------+------------------+ ==== 20 line log output for Fedora Linux 42 (dpdk_compile_spdk): ==== --- Failed to get log output --- ==== End log output ==== FreeBSD 14.2 Kernel: 14.2-RELEASE Compiler: clang 18.1.6 Ubuntu 20.04 Kernel: 4.19 Compiler: gcc gcc (Ubuntu 9.4.0-1ubuntu1~20.04.2) 9.4.0 CentOS Stream 9 Kernel: 5.15 Compiler: gcc gcc (GCC) 11.5.0 20240719 (Red Hat 11.5.0-11) CentOS Stream 10 Kernel: 5.15 Compiler: gcc gcc (GCC) 14.2.1 20250110 (Red Hat 14.2.1-8) Debian GNU/Linux 12 Kernel: 5.15 Compiler: gcc gcc (Debian 12.2.0-14+deb12u1) 12.2.0 Fedora Linux 42 Kernel: 5.15 Compiler: clang gcc (GCC) 15.2.1 20250808 (Red Hat 15.2.1-1) Windows Server 2022 Kernel: 10.0.20348.2031 Compiler: clang 15.0.7, gcc 14.1.0 (MinGW), and MSVC VS 19.39.33521 To view detailed results, visit: https://lab.dpdk.org/results/dashboard/patchsets/34419/ UNH-IOL DPDK Community Lab To manage your email subscriptions, visit: https://lab.dpdk.org/results/dashboard/preferences/subscriptions/