From mboxrd@z Thu Jan 1 00:00:00 1970 Return-Path: Received: from mails.dpdk.org (mails.dpdk.org [217.70.189.124]) by inbox.dpdk.org (Postfix) with ESMTP id 0B65A48A08 for ; Wed, 29 Oct 2025 20:36:53 +0100 (CET) Received: from mails.dpdk.org (localhost [127.0.0.1]) by mails.dpdk.org (Postfix) with ESMTP id EA59040150; Wed, 29 Oct 2025 20:36:52 +0100 (CET) Received: from mail-il1-f226.google.com (mail-il1-f226.google.com [209.85.166.226]) by mails.dpdk.org (Postfix) with ESMTP id DAD8E40150 for ; Wed, 29 Oct 2025 20:36:51 +0100 (CET) Received: by mail-il1-f226.google.com with SMTP id e9e14a558f8ab-430e6ac6bccso7244465ab.0 for ; Wed, 29 Oct 2025 12:36:51 -0700 (PDT) DKIM-Signature: v=1; a=rsa-sha256; c=relaxed/relaxed; d=iol.unh.edu; s=unh-iol; t=1761766611; x=1762371411; darn=dpdk.org; h=references:in-reply-to:cc:to:from:subject:message-id:date:from:to :cc:subject:date:message-id:reply-to; bh=4H4MDcvZMzGXxBaF2ZP45X/jUoneqQrLhjhVISb7k5U=; b=bq2d4T/Y3SJs4GhsHbRe3KzbpRAIzYwHJMxfj1y3OAc/eu5NOmY74MN4LXcUmlMZw9 HDPZtEVEe3uTaNJ9+UEHtN8J0BxfhtylyoqgEhMrjkTHPzStWm4kqi2C9f15cUOUvSQE fjbT0edpKjudoyYJ3+ZOaVqK6VaqcVSp4GImU= X-Google-DKIM-Signature: v=1; a=rsa-sha256; c=relaxed/relaxed; d=1e100.net; s=20230601; t=1761766611; x=1762371411; h=references:in-reply-to:cc:to:from:subject:message-id:date :x-gm-message-state:from:to:cc:subject:date:message-id:reply-to; bh=4H4MDcvZMzGXxBaF2ZP45X/jUoneqQrLhjhVISb7k5U=; b=tkGdisiR0Etynr/6eDG6Qghe9kdP9FhA790YEyGrBEUXcD4rPAdK8jR9JxNI///+ZA SW+8Yg1BsosO+x45nhY+aIhA2ZvQquXjD6ZtMCg4AI854oIVw8Q3Pb1Ncn9PMS9PMG4k MZqXlImg0vm7R1+G6tQ9ROE0Cs6cUsiwjHS6b1k1eOkQgeGqEkCk6mCAxMYBJNGGYiyq +X5o+vpJaVz55b7LsJpLUekIwhBhD2cOIDDNXghoCYmmi2fiK0xiCw06JHFjV3oHnajc ldgAZNq8EQXCl1g3m5UiMbamQjGteDVC2oCpXLQcQcCdOiW+oL1cpDgezj8fMqdklx6t TOuA== X-Gm-Message-State: AOJu0Ywhqhwzr9RWhZ5Bh3EMRzjHggIaIqLR0H3sHr7RxtnkxycVUmSZ TeQwWWYOQFbhttoc13jFtHweOtf9vwA+bB76W5uCMk17wG77awAaiIQV11oxwibdt/0sWTDgoin C/o/iAmGGQ1Go2+vz22+K2zC4IypS7wm6R2xsxVgzdrBo X-Gm-Gg: ASbGncsfzOzVOvTHMtfhc453Oky0nGCZJC1gn5MYtMNg7HVWtSnGa0QwAk3fkAL3e0x JuVwaYREUaIkmya73c4LdhjIIEsB2iqUDLrNhnmfG77/H2WYtRfx+Szce+Bfi+RRT+19saPifSM Yjah1IUcqqSQBHGUc7lLkclcHBThXJBk2vsKN79a7Hyr5GCRNyWQ0cuVbHwLw3fY3HQ9pr7W/Ra 5hMMvuA9WmeIq/OsasHzAQuTtxr3FcJXneFc1hcpa1HoVEsPcxXGrOvCgQvELeXDNX8I06uOVu6 kYLE9qsMyFjW2zQF4p8ThQ7ENmvmncXVpWpKI8oyCBgSDzjgo1hWsEwOHQaMqcbP+SXZMLAGl8d i9jxd45dzVe0IiJwDCg0X0RSm5UmeSTA= X-Google-Smtp-Source: AGHT+IEe1lpQo8DmrgQSffry2H1eEg0VR1/MEhUgfNQuAYU/dzVgNOuxPX8dwfBxbHmm1lDu5jvCzVa6uqSA X-Received: by 2002:a92:d4c5:0:b0:431:d678:fcb with SMTP id e9e14a558f8ab-433012205b6mr9147435ab.9.1761766611076; Wed, 29 Oct 2025 12:36:51 -0700 (PDT) Received: from postal.iol.unh.edu (postal.iol.unh.edu. [132.177.123.84]) by smtp-relay.gmail.com with ESMTPS id 8926c6da1cb9f-5aea9e33387sm1115715173.31.2025.10.29.12.36.50 (version=TLS1_2 cipher=ECDHE-ECDSA-AES128-GCM-SHA256 bits=128/128); Wed, 29 Oct 2025 12:36:51 -0700 (PDT) X-Relaying-Domain: iol.unh.edu Date: Wed, 29 Oct 2025 12:36:51 -0700 (PDT) Message-ID: <69026cd3.050a0220.1d7db8.4089SMTPIN_ADDED_MISSING@mx.google.com> Received: from [172.21.0.2] (unknown [172.18.0.240]) by postal.iol.unh.edu (Postfix) with ESMTP id 8514E604D420; Wed, 29 Oct 2025 15:36:50 -0400 (EDT) Subject: |WARNING| pw158227-158282 [PATCH] [v5,57/57] net/bnxt/tf_ulp: remove From: dpdklab@iol.unh.edu To: Test Report Cc: dpdk-test-reports@iol.unh.edu In-Reply-To: <20251029160712.58519-58-manish.kurup@broadcom.com> References: <20251029160712.58519-58-manish.kurup@broadcom.com> Content-Type: text/plain X-BeenThere: test-report@dpdk.org X-Mailman-Version: 2.1.29 Precedence: list List-Id: automatic DPDK test reports List-Unsubscribe: , List-Archive: List-Post: List-Help: List-Subscribe: , Errors-To: test-report-bounces@dpdk.org Test-Label: iol-compile-amd64-testing Test-Status: WARNING http://dpdk.org/patch/158282 _Testing issues_ Submitter: Manish Kurup Date: Wednesday, October 29 2025 16:07:12 DPDK git baseline: Repo:dpdk Branch: master CommitID:39b54f2dcf44ad1f91eabc7080cd5dea763607fd 158227-158282 --> testing issues Upstream job id: Generic-DPDK-Compile-Meson#439115 Test environment and result as below: +-------------------------------+--------------------+-------------------+-------------------+------------------+ | Environment | dpdk_meson_compile | dpdk_msvc_compile | dpdk_compile_spdk | dpdk_compile_ovs | +===============================+====================+===================+===================+==================+ | FreeBSD 14.2 | PASS | SKIPPED | SKIPPED | SKIPPED | +-------------------------------+--------------------+-------------------+-------------------+------------------+ | Ubuntu 20.04 | PASS | SKIPPED | SKIPPED | SKIPPED | +-------------------------------+--------------------+-------------------+-------------------+------------------+ | CentOS Stream 9 | PASS | SKIPPED | WARN | SKIPPED | +-------------------------------+--------------------+-------------------+-------------------+------------------+ | CentOS Stream 10 | PASS | SKIPPED | SKIPPED | SKIPPED | +-------------------------------+--------------------+-------------------+-------------------+------------------+ | Debian GNU/Linux 12 | PASS | SKIPPED | WARN | SKIPPED | +-------------------------------+--------------------+-------------------+-------------------+------------------+ | Fedora Linux 42 | PASS | SKIPPED | WARN | PASS | +-------------------------------+--------------------+-------------------+-------------------+------------------+ | openSUSE Leap 15.6 | PASS | SKIPPED | SKIPPED | SKIPPED | +-------------------------------+--------------------+-------------------+-------------------+------------------+ | Red Hat Enterprise Linux 8.10 | PASS | SKIPPED | SKIPPED | SKIPPED | +-------------------------------+--------------------+-------------------+-------------------+------------------+ | Windows Server 2022 | SKIPPED | PASS | SKIPPED | SKIPPED | +-------------------------------+--------------------+-------------------+-------------------+------------------+ ==== 20 line log output for Fedora Linux 42 (dpdk_compile_spdk): ==== --- Failed to get log output --- ==== End log output ==== FreeBSD 14.2 Kernel: 14.2-RELEASE Compiler: clang 18.1.6 Ubuntu 20.04 Kernel: 4.19 Compiler: gcc gcc (Ubuntu 9.4.0-1ubuntu1~20.04.2) 9.4.0 CentOS Stream 9 Kernel: 5.15 Compiler: gcc gcc (GCC) 11.5.0 20240719 (Red Hat 11.5.0-11) CentOS Stream 10 Kernel: 5.15 Compiler: gcc gcc (GCC) 14.2.1 20250110 (Red Hat 14.2.1-8) Debian GNU/Linux 12 Kernel: 5.15 Compiler: gcc gcc (Debian 12.2.0-14+deb12u1) 12.2.0 Fedora Linux 42 Kernel: 5.15 Compiler: clang gcc (GCC) 15.2.1 20250808 (Red Hat 15.2.1-1) openSUSE Leap 15.6 Kernel: 5.15 Compiler: gcc gcc (SUSE Linux) 7.5.0 Red Hat Enterprise Linux 8.10 Kernel: 5.15 Compiler: gcc gcc (GCC) 8.5.0 20210514 (Red Hat 8.5.0-22) Windows Server 2022 Kernel: 10.0.20348.2031 Compiler: clang 15.0.7, gcc 14.1.0 (MinGW), and MSVC VS 19.39.33521 To view detailed results, visit: https://lab.dpdk.org/results/dashboard/patchsets/34419/ UNH-IOL DPDK Community Lab To manage your email subscriptions, visit: https://lab.dpdk.org/results/dashboard/preferences/subscriptions/