automatic DPDK test reports
 help / color / mirror / Atom feed
From: dpdklab@iol.unh.edu
To: Test Report <test-report@dpdk.org>
Cc: dpdk-test-reports@iol.unh.edu
Subject: |WARNING| pw158227-158282 [PATCH] [v5,57/57] net/bnxt/tf_ulp: remove
Date: Wed, 29 Oct 2025 12:39:55 -0700 (PDT)	[thread overview]
Message-ID: <69026d8b.170a0220.3be04d.8d38SMTPIN_ADDED_MISSING@mx.google.com> (raw)
In-Reply-To: <20251029160712.58519-58-manish.kurup@broadcom.com>

Test-Label: iol-compile-amd64-testing
Test-Status: WARNING
http://dpdk.org/patch/158282

_Testing issues_

Submitter: Manish Kurup <manish.kurup@broadcom.com>
Date: Wednesday, October 29 2025 16:07:12 
DPDK git baseline: Repo:dpdk
  Branch: master
  CommitID:39b54f2dcf44ad1f91eabc7080cd5dea763607fd

158227-158282 --> testing issues

Upstream job id: Generic-DPDK-Compile-Meson#439116

Test environment and result as below:

+-------------------------------+--------------------+-------------------+-------------------+------------------+
|          Environment          | dpdk_meson_compile | dpdk_msvc_compile | dpdk_compile_spdk | dpdk_compile_ovs |
+===============================+====================+===================+===================+==================+
| FreeBSD 14.2                  | PASS               | SKIPPED           | SKIPPED           | SKIPPED          |
+-------------------------------+--------------------+-------------------+-------------------+------------------+
| Ubuntu 20.04                  | PASS               | SKIPPED           | SKIPPED           | SKIPPED          |
+-------------------------------+--------------------+-------------------+-------------------+------------------+
| CentOS Stream 9               | PASS               | SKIPPED           | WARN              | SKIPPED          |
+-------------------------------+--------------------+-------------------+-------------------+------------------+
| CentOS Stream 10              | PASS               | SKIPPED           | SKIPPED           | SKIPPED          |
+-------------------------------+--------------------+-------------------+-------------------+------------------+
| Debian GNU/Linux 12           | PASS               | SKIPPED           | WARN              | SKIPPED          |
+-------------------------------+--------------------+-------------------+-------------------+------------------+
| Fedora Linux 42               | PASS               | SKIPPED           | WARN              | PASS             |
+-------------------------------+--------------------+-------------------+-------------------+------------------+
| openSUSE Leap 15.6            | PASS               | SKIPPED           | SKIPPED           | SKIPPED          |
+-------------------------------+--------------------+-------------------+-------------------+------------------+
| Red Hat Enterprise Linux 8.10 | PASS               | SKIPPED           | SKIPPED           | SKIPPED          |
+-------------------------------+--------------------+-------------------+-------------------+------------------+
| Red Hat Enterprise Linux 9.5  | PASS               | SKIPPED           | SKIPPED           | SKIPPED          |
+-------------------------------+--------------------+-------------------+-------------------+------------------+
| Windows Server 2022           | SKIPPED            | PASS              | SKIPPED           | SKIPPED          |
+-------------------------------+--------------------+-------------------+-------------------+------------------+

==== 20 line log output for Fedora Linux 42 (dpdk_compile_spdk): ====
 --- Failed to get log output --- 
==== End log output ====

FreeBSD 14.2
	Kernel: 14.2-RELEASE
	Compiler: clang 18.1.6

Ubuntu 20.04
	Kernel: 4.19
	Compiler: gcc gcc (Ubuntu 9.4.0-1ubuntu1~20.04.2) 9.4.0

CentOS Stream 9
	Kernel: 5.15
	Compiler: gcc gcc (GCC) 11.5.0 20240719 (Red Hat 11.5.0-11)

CentOS Stream 10
	Kernel: 5.15
	Compiler: gcc gcc (GCC) 14.2.1 20250110 (Red Hat 14.2.1-8)

Debian GNU/Linux 12
	Kernel: 5.15
	Compiler: gcc gcc (Debian 12.2.0-14+deb12u1) 12.2.0

Fedora Linux 42
	Kernel: 5.15
	Compiler: clang gcc (GCC) 15.2.1 20250808 (Red Hat 15.2.1-1)

openSUSE Leap 15.6
	Kernel: 5.15
	Compiler: gcc gcc (SUSE Linux) 7.5.0

Red Hat Enterprise Linux 8.10
	Kernel: 5.15
	Compiler: gcc gcc (GCC) 8.5.0 20210514 (Red Hat 8.5.0-22)

Red Hat Enterprise Linux 9.5
	Kernel: 5.15
	Compiler: gcc gcc (GCC) 11.5.0 20240719 (Red Hat 11.5.0-2)

Windows Server 2022
	Kernel: 10.0.20348.2031
	Compiler: clang 15.0.7, gcc 14.1.0 (MinGW), and MSVC VS 19.39.33521

To view detailed results, visit:
https://lab.dpdk.org/results/dashboard/patchsets/34419/

UNH-IOL DPDK Community Lab

To manage your email subscriptions, visit: 
https://lab.dpdk.org/results/dashboard/preferences/subscriptions/

  parent reply	other threads:[~2025-10-29 19:39 UTC|newest]

Thread overview: 31+ messages / expand[flat|nested]  mbox.gz  Atom feed  top
     [not found] <20251029160712.58519-58-manish.kurup@broadcom.com>
2025-10-29 15:58 ` |SUCCESS| pw158227-158282 [PATCH v5 57/57] net/bnxt/tf_ulp: remove Truflow DEBUG code qemudev
2025-10-29 16:03 ` qemudev
2025-10-29 16:25 ` |SUCCESS| pw158282 " checkpatch
2025-10-29 16:56 ` |SUCCESS| pw158227-158282 [PATCH] [v5,57/57] net/bnxt/tf_ulp: remove dpdklab
2025-10-29 16:59 ` |PENDING| " dpdklab
2025-10-29 17:00 ` |SUCCESS| " dpdklab
2025-10-29 17:01 ` dpdklab
2025-10-29 17:05 ` |PENDING| " dpdklab
2025-10-29 17:17 ` |WARNING| " dpdklab
2025-10-29 17:25 ` |SUCCESS| " dpdklab
2025-10-29 17:29 ` |PENDING| " dpdklab
2025-10-29 17:34 ` |SUCCESS| " dpdklab
2025-10-29 18:06 ` dpdklab
2025-10-29 18:08 ` dpdklab
2025-10-29 18:08 ` dpdklab
2025-10-29 18:09 ` |SUCCESS| pw158282 [PATCH v5 57/57] net/bnxt/tf_ulp: remove Truflow DEBUG code 0-day Robot
2025-10-29 18:10 ` 0-day Robot
2025-10-29 18:29 ` |WARNING| pw158227-158282 [PATCH] [v5,57/57] net/bnxt/tf_ulp: remove dpdklab
2025-10-29 18:45 ` |SUCCESS| " dpdklab
2025-10-29 18:52 ` |WARNING| " dpdklab
2025-10-29 19:07 ` |SUCCESS| " dpdklab
2025-10-29 19:16 ` dpdklab
2025-10-29 19:28 ` dpdklab
2025-10-29 19:31 ` |WARNING| " dpdklab
2025-10-29 19:36 ` dpdklab
2025-10-29 19:39 ` dpdklab [this message]
2025-10-29 19:40 ` dpdklab
2025-10-29 19:48 ` dpdklab
2025-10-29 20:16 ` dpdklab
2025-10-29 21:38 ` |PENDING| " dpdklab
2025-10-30  3:42 ` |SUCCESS| " dpdklab

Reply instructions:

You may reply publicly to this message via plain-text email
using any one of the following methods:

* Save the following mbox file, import it into your mail client,
  and reply-to-all from there: mbox

  Avoid top-posting and favor interleaved quoting:
  https://en.wikipedia.org/wiki/Posting_style#Interleaved_style

* Reply using the --to, --cc, and --in-reply-to
  switches of git-send-email(1):

  git send-email \
    --in-reply-to=69026d8b.170a0220.3be04d.8d38SMTPIN_ADDED_MISSING@mx.google.com \
    --to=dpdklab@iol.unh.edu \
    --cc=dpdk-test-reports@iol.unh.edu \
    --cc=test-report@dpdk.org \
    /path/to/YOUR_REPLY

  https://kernel.org/pub/software/scm/git/docs/git-send-email.html

* If your mail client supports setting the In-Reply-To header
  via mailto: links, try the mailto: link
Be sure your reply has a Subject: header at the top and a blank line before the message body.
This is a public inbox, see mirroring instructions
for how to clone and mirror all data and code used for this inbox;
as well as URLs for NNTP newsgroup(s).