From mboxrd@z Thu Jan 1 00:00:00 1970 Return-Path: Received: from mails.dpdk.org (mails.dpdk.org [217.70.189.124]) by inbox.dpdk.org (Postfix) with ESMTP id 4DAB248A08 for ; Wed, 29 Oct 2025 20:40:11 +0100 (CET) Received: from mails.dpdk.org (localhost [127.0.0.1]) by mails.dpdk.org (Postfix) with ESMTP id 49F1240150; Wed, 29 Oct 2025 20:40:11 +0100 (CET) Received: from mail-il1-f225.google.com (mail-il1-f225.google.com [209.85.166.225]) by mails.dpdk.org (Postfix) with ESMTP id 1808040150 for ; Wed, 29 Oct 2025 20:40:10 +0100 (CET) Received: by mail-il1-f225.google.com with SMTP id e9e14a558f8ab-430e182727dso708535ab.1 for ; Wed, 29 Oct 2025 12:40:10 -0700 (PDT) DKIM-Signature: v=1; a=rsa-sha256; c=relaxed/relaxed; d=iol.unh.edu; s=unh-iol; t=1761766809; x=1762371609; darn=dpdk.org; h=references:in-reply-to:cc:to:from:subject:message-id:date:from:to :cc:subject:date:message-id:reply-to; bh=aTopKVlFi4QoXWWzWPJG6l+r9GIvFvK4ef0BsET9RVY=; b=WhRoGbZytGgZ6O7C31TjxpF+RLReZPaSSqN+BUJrnWR3J4plyYw3F5bHAOSxMaTn7w mSyhOKuNbWWTWSclRe10Zy8Mmo4Iw5Wfe+rYzWTkVPCRihcd0pJkYoHkjm+N+VmHB8Lb hHjsxSm4a0IzLKyQ97QeJIiA/PomwOVcNjTz8= X-Google-DKIM-Signature: v=1; a=rsa-sha256; c=relaxed/relaxed; d=1e100.net; s=20230601; t=1761766809; x=1762371609; h=references:in-reply-to:cc:to:from:subject:message-id:date :x-gm-message-state:from:to:cc:subject:date:message-id:reply-to; bh=aTopKVlFi4QoXWWzWPJG6l+r9GIvFvK4ef0BsET9RVY=; b=iIpW+l7L0Zu40lqaB4UJKbDcdhbtFM7QRR8QCtRrFetEUtzerILGgUZyaXlykYKzbC al6bwPB+JeVMYiPen8QerxHx50MFIaCQBOjUKolj9Y6CHTgB0R/w5jSXZ/DndixNGG7n 4JeQ1hpJLGYvPlWXWScMxuayCgpXQiGfxpcnoR6xmFBul+V0PCxDJt0wDVPyU6WGn13H bZRgoK9/r+JTlcDJVlXmWA5m/viq37zmnvFHDH8iVWteAsAWWmr9sNDXMoN7qOL8iLdA RX2qDag5qHPST+BbL4HE2Gc+fCMg2Lkns0fG7BEsUWSs/uRkp6uhDcT6f1wsHxR1dMC8 Hx5Q== X-Gm-Message-State: AOJu0YyyqUmmB1BpecmU/BBDStpqaPICJJd2gHX2lHosNnKxC+biReTq YacbjX6TFy6lQ3kkcaraS18nw2J5u0zZHisMvsfpRTQ/HQnRn0M8tiKPhWp3FneedMNtvR5h1Ou f5/zHhyyckc7AcYg6zzXtpKBfaE0tf29thE0crhv3KKOd X-Gm-Gg: ASbGncsN9wOFvC6EpKQVIWNTbWhUN3gN7RWE+x+0D0Chr6rkf+rZf6BTBSXb2ZKUqZi PU1zQf+T8pLP9S+MgeeGbV543YnVhKqgL43MJE40A+XAXRWNGI8zjijxIJ8T9g6z/FG6x1LCBV7 fEDPV6+MXXKd03xhatQn/ixZ+qFzj6uIX/eJiP2q96jo7uPiIFZoLGri/dBGc2JXfpLnCRqPDlo yEa2PTMamnAHIKHjsejeXB9VGTWjSpcVa3Ns7adeVLxu1i/r8wteYncy2zsRZhl0j/9NyWqP9t5 xK/tAboaw19nzPnBlGwNKjOKmPP9/xla7GSjp2iiVGuC4N34Wj3PpjZDcK1QP8AERDyf+PlUieP psXoBz9oeej6hYfpK7A6gCgi5dN9UyRw= X-Google-Smtp-Source: AGHT+IGIKkkavShJjQ74l2NYmW+ff9lgnfz/AoYM2HvsBdr74FJ9RRu1QT4sAPYJeFzNOH53PEpL05Qf1546 X-Received: by 2002:a05:6e02:2609:b0:431:d8ce:fa1d with SMTP id e9e14a558f8ab-432f8f994c8mr55624155ab.4.1761766809220; Wed, 29 Oct 2025 12:40:09 -0700 (PDT) Received: from postal.iol.unh.edu (postal.iol.unh.edu. [132.177.123.84]) by smtp-relay.gmail.com with ESMTPS id 8926c6da1cb9f-5aea7be3031sm1131238173.10.2025.10.29.12.40.09 (version=TLS1_2 cipher=ECDHE-ECDSA-AES128-GCM-SHA256 bits=128/128); Wed, 29 Oct 2025 12:40:09 -0700 (PDT) X-Relaying-Domain: iol.unh.edu Date: Wed, 29 Oct 2025 12:40:09 -0700 (PDT) Message-ID: <69026d99.050a0220.17ab9a.5340SMTPIN_ADDED_MISSING@mx.google.com> Received: from [172.21.0.2] (unknown [172.18.0.240]) by postal.iol.unh.edu (Postfix) with ESMTP id B69DA604D420; Wed, 29 Oct 2025 15:40:08 -0400 (EDT) Subject: |WARNING| pw158227-158282 [PATCH] [v5,57/57] net/bnxt/tf_ulp: remove From: dpdklab@iol.unh.edu To: Test Report Cc: dpdk-test-reports@iol.unh.edu In-Reply-To: <20251029160712.58519-58-manish.kurup@broadcom.com> References: <20251029160712.58519-58-manish.kurup@broadcom.com> Content-Type: text/plain X-BeenThere: test-report@dpdk.org X-Mailman-Version: 2.1.29 Precedence: list List-Id: automatic DPDK test reports List-Unsubscribe: , List-Archive: List-Post: List-Help: List-Subscribe: , Errors-To: test-report-bounces@dpdk.org Test-Label: iol-compile-amd64-testing Test-Status: WARNING http://dpdk.org/patch/158282 _Testing issues_ Submitter: Manish Kurup Date: Wednesday, October 29 2025 16:07:12 DPDK git baseline: Repo:dpdk Branch: master CommitID:39b54f2dcf44ad1f91eabc7080cd5dea763607fd 158227-158282 --> testing issues Upstream job id: Generic-DPDK-Compile-Meson#439117 Test environment and result as below: +-------------------------------+--------------------+-------------------+-------------------+------------------+ | Environment | dpdk_meson_compile | dpdk_msvc_compile | dpdk_compile_spdk | dpdk_compile_ovs | +===============================+====================+===================+===================+==================+ | FreeBSD 14.2 | PASS | SKIPPED | SKIPPED | SKIPPED | +-------------------------------+--------------------+-------------------+-------------------+------------------+ | Ubuntu 20.04 | PASS | SKIPPED | SKIPPED | SKIPPED | +-------------------------------+--------------------+-------------------+-------------------+------------------+ | CentOS Stream 9 | PASS | SKIPPED | WARN | SKIPPED | +-------------------------------+--------------------+-------------------+-------------------+------------------+ | CentOS Stream 10 | PASS | SKIPPED | SKIPPED | SKIPPED | +-------------------------------+--------------------+-------------------+-------------------+------------------+ | Debian GNU/Linux 12 | PASS | SKIPPED | WARN | SKIPPED | +-------------------------------+--------------------+-------------------+-------------------+------------------+ | Fedora Linux 42 | PASS | SKIPPED | WARN | PASS | +-------------------------------+--------------------+-------------------+-------------------+------------------+ | openSUSE Leap 15.6 | PASS | SKIPPED | SKIPPED | SKIPPED | +-------------------------------+--------------------+-------------------+-------------------+------------------+ | Red Hat Enterprise Linux 8.10 | PASS | SKIPPED | SKIPPED | SKIPPED | +-------------------------------+--------------------+-------------------+-------------------+------------------+ | Red Hat Enterprise Linux 9.5 | PASS | SKIPPED | SKIPPED | SKIPPED | +-------------------------------+--------------------+-------------------+-------------------+------------------+ | Windows Server 2022 | SKIPPED | PASS | SKIPPED | SKIPPED | +-------------------------------+--------------------+-------------------+-------------------+------------------+ ==== 20 line log output for Fedora Linux 42 (dpdk_compile_spdk): ==== --- Failed to get log output --- ==== End log output ==== FreeBSD 14.2 Kernel: 14.2-RELEASE Compiler: clang 18.1.6 Ubuntu 20.04 Kernel: 4.19 Compiler: gcc gcc (Ubuntu 9.4.0-1ubuntu1~20.04.2) 9.4.0 CentOS Stream 9 Kernel: 5.15 Compiler: gcc gcc (GCC) 11.5.0 20240719 (Red Hat 11.5.0-11) CentOS Stream 10 Kernel: 5.15 Compiler: gcc gcc (GCC) 14.2.1 20250110 (Red Hat 14.2.1-8) Debian GNU/Linux 12 Kernel: 5.15 Compiler: gcc gcc (Debian 12.2.0-14+deb12u1) 12.2.0 Fedora Linux 42 Kernel: 5.15 Compiler: clang gcc (GCC) 15.2.1 20250808 (Red Hat 15.2.1-1) openSUSE Leap 15.6 Kernel: 5.15 Compiler: gcc gcc (SUSE Linux) 7.5.0 Red Hat Enterprise Linux 8.10 Kernel: 5.15 Compiler: gcc gcc (GCC) 8.5.0 20210514 (Red Hat 8.5.0-22) Red Hat Enterprise Linux 9.5 Kernel: 5.15 Compiler: gcc gcc (GCC) 11.5.0 20240719 (Red Hat 11.5.0-2) Windows Server 2022 Kernel: 10.0.20348.2031 Compiler: clang 15.0.7, gcc 14.1.0 (MinGW), and MSVC VS 19.39.33521 To view detailed results, visit: https://lab.dpdk.org/results/dashboard/patchsets/34419/ UNH-IOL DPDK Community Lab To manage your email subscriptions, visit: https://lab.dpdk.org/results/dashboard/preferences/subscriptions/