From mboxrd@z Thu Jan 1 00:00:00 1970 Return-Path: Received: from mails.dpdk.org (mails.dpdk.org [217.70.189.124]) by inbox.dpdk.org (Postfix) with ESMTP id ED256489F9 for ; Wed, 29 Oct 2025 20:47:03 +0100 (CET) Received: from mails.dpdk.org (localhost [127.0.0.1]) by mails.dpdk.org (Postfix) with ESMTP id E96AF402AE; Wed, 29 Oct 2025 20:47:03 +0100 (CET) Received: from mail-qv1-f97.google.com (mail-qv1-f97.google.com [209.85.219.97]) by mails.dpdk.org (Postfix) with ESMTP id B72E6402AE for ; Wed, 29 Oct 2025 20:47:02 +0100 (CET) Received: by mail-qv1-f97.google.com with SMTP id 6a1803df08f44-87c217f4aaaso4440376d6.0 for ; Wed, 29 Oct 2025 12:47:02 -0700 (PDT) DKIM-Signature: v=1; a=rsa-sha256; c=relaxed/relaxed; d=iol.unh.edu; s=unh-iol; t=1761767222; x=1762372022; darn=dpdk.org; h=references:in-reply-to:cc:to:from:subject:message-id:date:from:to :cc:subject:date:message-id:reply-to; bh=MalSpgK8qMxd1jB6GGnaRr5KwwUJYzkv1ACH1uyd2dA=; b=Y7KAkrzKOi2NtTiGzviNgruRcgiOrn3isBEganl5U1Njs4S5G1q0XGKu89pn4eYGLP 7b16jiVpuSiFX+DFcwq0WEf/uhNL5Ft8Krquc5KnTo+e46pvF97SDCke1qSolM96zoVS bHqSqP1GATtxfmu70wLjMgZVpthZJC0h0jMaY= X-Google-DKIM-Signature: v=1; a=rsa-sha256; c=relaxed/relaxed; d=1e100.net; s=20230601; t=1761767222; x=1762372022; h=references:in-reply-to:cc:to:from:subject:message-id:date :x-gm-message-state:from:to:cc:subject:date:message-id:reply-to; bh=MalSpgK8qMxd1jB6GGnaRr5KwwUJYzkv1ACH1uyd2dA=; b=q5YV1zt0jBK05Rc9T78C+jLJEP4JpUT0trwM6xmc2qFRcy/UszXTrIJkUyk0pCXmbC aCZwyX8K+2Xf7FST1qZa3A+YANySgJ8rbskoWyMGknrlMj/j2vJjA1VIaRGkjd3lDE9Z Bhg8e0ypR0Du058veEFm0uOAQqbB8OO1Ze6umXZEzv0QKhXJgn7wU1/EaBOw8WstrcM9 may4BzGekRQDhbxqxq8bPYxr+SacXVUq+7NZ/5J4fJSrBtg37ZLYZ2dvW3UrDADwIyWA T2DxjJDDL9b9KpeTDO27zH/UaU5Bpz7HpZvUSejSYErSAO5GGhMu5y49sNvoDPLdyAc+ dsyQ== X-Gm-Message-State: AOJu0YykBf8VvmV8NE2ETxntegSmkWnm1fuqG3svyxe6DEWrw0uMvs8A VUESdOJBNqYG8Mqo2afVtnhhy7nFOCpUb/A5LBmNEcs+/xUbfJtNlVuJms9sBKyQKrhS7/zRSF8 GzLId/mwBxjDfmL2uzseNwLl9syF9uzhoz7K1tCpt802A X-Gm-Gg: ASbGncvxL5/vzOyoSi39Vg1p0ECcNQq3K/YWjZOGaChqZNSRps7+AP0X6vjXrPuchcO qvsgrH3gO4+stoMjCZ/DC7rmi9FVt75JYF7ZS0s7mrZEiLqOobQFu1ozC2Y07F8DhkC4CXPbd/J JOz4DEZtXw+VIrW4MYUKEqj2807Qfo9FxwARdbQ3lCUmxWGsE8VQii6OAqTXzdg3Q3HQV9oWSbS eCcmZlUUCqUflb6/g/Keb/vYra7AZHnRWFV4YTZurWTlK1ZUQCiKcvkg1Y+fv9c3XhUvhd0w9Ct Dd+dx56u9gWiJR5Z9EkN1PZosMeYPIYGsqw8O3fbr0sMjfqWYSCevan2m7fBq1id+7ePjhZVMo3 5E6DL4442fYX7aXq/TsVUqYzDS7vp/HA= X-Google-Smtp-Source: AGHT+IF5muhYgrQ+zUFZ3WgHaWW9helY6fma9oAcqVFAl+ySpyh8M/rNeAaAtfjIXMB8wbjoPcs43n1WUPgX X-Received: by 2002:a05:6214:dcb:b0:87c:62cd:5ab5 with SMTP id 6a1803df08f44-8801b26bb73mr9262496d6.65.1761767222112; Wed, 29 Oct 2025 12:47:02 -0700 (PDT) Received: from postal.iol.unh.edu (postal.iol.unh.edu. [132.177.123.84]) by smtp-relay.gmail.com with ESMTPS id 6a1803df08f44-87fc491f133sm14324436d6.11.2025.10.29.12.47.02 (version=TLS1_2 cipher=ECDHE-ECDSA-AES128-GCM-SHA256 bits=128/128); Wed, 29 Oct 2025 12:47:02 -0700 (PDT) X-Relaying-Domain: iol.unh.edu Date: Wed, 29 Oct 2025 12:47:02 -0700 (PDT) Message-ID: <69026f36.050a0220.17396a.3283SMTPIN_ADDED_MISSING@mx.google.com> Received: from [172.21.0.2] (unknown [172.18.0.240]) by postal.iol.unh.edu (Postfix) with ESMTP id CCC16604D420; Wed, 29 Oct 2025 15:47:01 -0400 (EDT) Subject: |SUCCESS| pw158283 [PATCH] pmdinfogen: fix warning with python 3.14 From: dpdklab@iol.unh.edu To: Test Report Cc: dpdk-test-reports@iol.unh.edu In-Reply-To: <20251029164616.76233-2-rjarry@redhat.com> References: <20251029164616.76233-2-rjarry@redhat.com> Content-Type: text/plain X-BeenThere: test-report@dpdk.org X-Mailman-Version: 2.1.29 Precedence: list List-Id: automatic DPDK test reports List-Unsubscribe: , List-Archive: List-Post: List-Help: List-Subscribe: , Errors-To: test-report-bounces@dpdk.org Test-Label: iol-compile-amd64-testing Test-Status: SUCCESS http://dpdk.org/patch/158283 _Testing PASS_ Submitter: Robin Jarry Date: Wednesday, October 29 2025 16:46:17 DPDK git baseline: Repo:dpdk Branch: master CommitID:39b54f2dcf44ad1f91eabc7080cd5dea763607fd 158283 --> testing pass Upstream job id: Windows-Compile-DPDK-VS#7366 Test environment and result as below: +---------------------+--------------------+-------------------+ | Environment | dpdk_meson_compile | dpdk_msvc_compile | +=====================+====================+===================+ | Ubuntu 20.04 | PASS | SKIPPED | +---------------------+--------------------+-------------------+ | FreeBSD 14.2 | PASS | SKIPPED | +---------------------+--------------------+-------------------+ | Windows Server 2022 | SKIPPED | PASS | +---------------------+--------------------+-------------------+ Ubuntu 20.04 Kernel: 4.19 Compiler: gcc gcc (Ubuntu 9.4.0-1ubuntu1~20.04.2) 9.4.0 FreeBSD 14.2 Kernel: 14.2-RELEASE Compiler: clang 18.1.6 Windows Server 2022 Kernel: 10.0.20348.2031 Compiler: clang 15.0.7, gcc 14.1.0 (MinGW), and MSVC VS 19.39.33521 To view detailed results, visit: https://lab.dpdk.org/results/dashboard/patchsets/34420/ UNH-IOL DPDK Community Lab To manage your email subscriptions, visit: https://lab.dpdk.org/results/dashboard/preferences/subscriptions/