From mboxrd@z Thu Jan 1 00:00:00 1970 Return-Path: Received: from mails.dpdk.org (mails.dpdk.org [217.70.189.124]) by inbox.dpdk.org (Postfix) with ESMTP id 21D16489F9 for ; Wed, 29 Oct 2025 20:48:07 +0100 (CET) Received: from mails.dpdk.org (localhost [127.0.0.1]) by mails.dpdk.org (Postfix) with ESMTP id 1C1A840150; Wed, 29 Oct 2025 20:48:07 +0100 (CET) Received: from mail-il1-f225.google.com (mail-il1-f225.google.com [209.85.166.225]) by mails.dpdk.org (Postfix) with ESMTP id 975CD40150 for ; Wed, 29 Oct 2025 20:48:05 +0100 (CET) Received: by mail-il1-f225.google.com with SMTP id e9e14a558f8ab-430d08d56caso645975ab.2 for ; Wed, 29 Oct 2025 12:48:05 -0700 (PDT) DKIM-Signature: v=1; a=rsa-sha256; c=relaxed/relaxed; d=iol.unh.edu; s=unh-iol; t=1761767285; x=1762372085; darn=dpdk.org; h=references:in-reply-to:cc:to:from:subject:message-id:date:from:to :cc:subject:date:message-id:reply-to; bh=FqJFqK4iYwIpIC0P73H0Nzh4Ke2RumUWbrtuATmtv8w=; b=OuRHYngW8LX6jiShnOaJY3dyhfgP30P50fEBWdv3JDizu+d2CweprBD+Co9mCJGKIA GBf+yzMjoQKFmRIcFY8u3MQN3+dHAG5od2Hi2Yj93tzanAEzPjb24W4qY9QPSM52XmCE hC23De4o/clVJXleIX23JG7WE+Fnnpt/uMMXc= X-Google-DKIM-Signature: v=1; a=rsa-sha256; c=relaxed/relaxed; d=1e100.net; s=20230601; t=1761767285; x=1762372085; h=references:in-reply-to:cc:to:from:subject:message-id:date :x-gm-message-state:from:to:cc:subject:date:message-id:reply-to; bh=FqJFqK4iYwIpIC0P73H0Nzh4Ke2RumUWbrtuATmtv8w=; b=YZMnESWRRdHmEjuE8TqQsML3gQ74kMAXbIQ18pt+zDQPputOM7OS//f/XIUXF0xiDG A/ykvmGkTUUX0wouy/yxOmfoDEg4KtabB8MVXyEZVXtMs8J9lPgvK1HDSatowMTuvKoJ 3RjNc11pfegJvoB298ikFskFzYIKAs6+1U99Rz56HKFT1e5TAgKVsfsX/FMK0rOT3FMK rzWVQdk4Tq+cWPePJiuolG1XylqaP1gyytqheaNxELxeC7C1P13M3Ex//mp7FVnfk1Ho 3mL5GmiqZlCznaFu6qtt/mo7PF0+jkglfy2vIxd6K5EgwapT+6SOSVVSWkJQ+U0/wqIf HvkQ== X-Gm-Message-State: AOJu0YzH2Bh96VdxjYAPo3pLb90QUpGiLERvz1kRjOwzDWxVA3wgYMj9 6yKL80uSqj0GF0y4beMYLwYxsNvoof1dV4VkF0bVNqMQ670nn3Dq+8XAeao7ogM8MzxKLAiXE5k lSc5MK3xMjnFzn1u3vHl4IHL8P5jf5ZwYeNWVJkLWgo1W8wbLKVdCnXEiR5iP X-Gm-Gg: ASbGncsUE7towx7u4Y5+fjzHxVbUSRZsphxwVTh65OHjMrYd0qeaFs+yOSr5dVgosLx ZiWa3Us9PVWxcPT2H1xM/pm8TZ35+6v6Jb5Xf8jm+GxIosSt/V44clyIT+YU5BptL2mI+FBQWG0 kZtLsq+28QxtjlbAKcd7oncF2xxLlpVbc9SsxpMMwak3mwmy+g5CYrT18Q8uqqfyF1Znq+ZfoCq WiE/vQYhgRwIwWwF+1uLCQU/3WIoIbSNV3vsl+A5NabrREPaenw/ZFJS/C5uYLhdKqEohJNNYHN 76Frorcz0wohP0bbJx3viZj/YEQgzwO5hBmVrbtTz0wEVCuz/iZ/pd7ZMLmkcP5e5RLqORUVlJ9 k/D1KObzi X-Google-Smtp-Source: AGHT+IF/IqiYUyvEWsaIJPTCf+Q9hIlkltK7xc0Zpayq7xD4Z0pKD8KtLbLufM3CpYOH449Q+vkMacVxvMOj X-Received: by 2002:a05:6e02:1805:b0:42e:d74:7260 with SMTP id e9e14a558f8ab-432f9071e91mr60736015ab.29.1761767285011; Wed, 29 Oct 2025 12:48:05 -0700 (PDT) Received: from postal.iol.unh.edu (postal.iol.unh.edu. [2606:4100:3880:1234::84]) by smtp-relay.gmail.com with ESMTPS id e9e14a558f8ab-431f6899e31sm14450895ab.24.2025.10.29.12.48.04 (version=TLS1_2 cipher=ECDHE-ECDSA-AES128-GCM-SHA256 bits=128/128); Wed, 29 Oct 2025 12:48:05 -0700 (PDT) X-Relaying-Domain: iol.unh.edu Date: Wed, 29 Oct 2025 12:48:05 -0700 (PDT) Message-ID: <69026f75.050a0220.1b565e.4cc1SMTPIN_ADDED_MISSING@mx.google.com> Received: from [172.21.0.2] (unknown [172.18.0.240]) by postal.iol.unh.edu (Postfix) with ESMTP id 8C72D604D420; Wed, 29 Oct 2025 15:48:04 -0400 (EDT) Subject: |WARNING| pw158227-158282 [PATCH] [v5,57/57] net/bnxt/tf_ulp: remove From: dpdklab@iol.unh.edu To: Test Report Cc: dpdk-test-reports@iol.unh.edu In-Reply-To: <20251029160712.58519-58-manish.kurup@broadcom.com> References: <20251029160712.58519-58-manish.kurup@broadcom.com> Content-Type: text/plain X-BeenThere: test-report@dpdk.org X-Mailman-Version: 2.1.29 Precedence: list List-Id: automatic DPDK test reports List-Unsubscribe: , List-Archive: List-Post: List-Help: List-Subscribe: , Errors-To: test-report-bounces@dpdk.org Test-Label: iol-compile-amd64-testing Test-Status: WARNING http://dpdk.org/patch/158282 _Testing issues_ Submitter: Manish Kurup Date: Wednesday, October 29 2025 16:07:12 DPDK git baseline: Repo:dpdk Branch: master CommitID:39b54f2dcf44ad1f91eabc7080cd5dea763607fd 158227-158282 --> testing issues Upstream job id: Generic-DPDK-Compile-Meson#439118 Test environment and result as below: +-------------------------------+--------------------+-------------------+-------------------+------------------+ | Environment | dpdk_meson_compile | dpdk_msvc_compile | dpdk_compile_spdk | dpdk_compile_ovs | +===============================+====================+===================+===================+==================+ | FreeBSD 14.2 | PASS | SKIPPED | SKIPPED | SKIPPED | +-------------------------------+--------------------+-------------------+-------------------+------------------+ | Ubuntu 20.04 | PASS | SKIPPED | SKIPPED | SKIPPED | +-------------------------------+--------------------+-------------------+-------------------+------------------+ | CentOS Stream 9 | PASS | SKIPPED | WARN | SKIPPED | +-------------------------------+--------------------+-------------------+-------------------+------------------+ | CentOS Stream 10 | PASS | SKIPPED | SKIPPED | SKIPPED | +-------------------------------+--------------------+-------------------+-------------------+------------------+ | Debian GNU/Linux 12 | PASS | SKIPPED | WARN | SKIPPED | +-------------------------------+--------------------+-------------------+-------------------+------------------+ | Fedora Linux 42 | PASS | SKIPPED | WARN | PASS | +-------------------------------+--------------------+-------------------+-------------------+------------------+ | openSUSE Leap 15.6 | PASS | SKIPPED | SKIPPED | SKIPPED | +-------------------------------+--------------------+-------------------+-------------------+------------------+ | Red Hat Enterprise Linux 8.10 | PASS | SKIPPED | SKIPPED | SKIPPED | +-------------------------------+--------------------+-------------------+-------------------+------------------+ | Red Hat Enterprise Linux 9.5 | PASS | SKIPPED | SKIPPED | SKIPPED | +-------------------------------+--------------------+-------------------+-------------------+------------------+ | Ubuntu 22.04 | PASS | SKIPPED | WARN | SKIPPED | +-------------------------------+--------------------+-------------------+-------------------+------------------+ | Windows Server 2022 | SKIPPED | PASS | SKIPPED | SKIPPED | +-------------------------------+--------------------+-------------------+-------------------+------------------+ ==== 20 line log output for Ubuntu 22.04 (dpdk_compile_spdk): ==== --- Failed to get log output --- ==== End log output ==== FreeBSD 14.2 Kernel: 14.2-RELEASE Compiler: clang 18.1.6 Ubuntu 20.04 Kernel: 4.19 Compiler: gcc gcc (Ubuntu 9.4.0-1ubuntu1~20.04.2) 9.4.0 CentOS Stream 9 Kernel: 5.15 Compiler: gcc gcc (GCC) 11.5.0 20240719 (Red Hat 11.5.0-11) CentOS Stream 10 Kernel: 5.15 Compiler: gcc gcc (GCC) 14.2.1 20250110 (Red Hat 14.2.1-8) Debian GNU/Linux 12 Kernel: 5.15 Compiler: gcc gcc (Debian 12.2.0-14+deb12u1) 12.2.0 Fedora Linux 42 Kernel: 5.15 Compiler: clang gcc (GCC) 15.2.1 20250808 (Red Hat 15.2.1-1) openSUSE Leap 15.6 Kernel: 5.15 Compiler: gcc gcc (SUSE Linux) 7.5.0 Red Hat Enterprise Linux 8.10 Kernel: 5.15 Compiler: gcc gcc (GCC) 8.5.0 20210514 (Red Hat 8.5.0-22) Red Hat Enterprise Linux 9.5 Kernel: 5.15 Compiler: gcc gcc (GCC) 11.5.0 20240719 (Red Hat 11.5.0-2) Ubuntu 22.04 Kernel: 5.15 Compiler: gcc gcc (Ubuntu 11.4.0-1ubuntu1~22.04) 11.4.0 Windows Server 2022 Kernel: 10.0.20348.2031 Compiler: clang 15.0.7, gcc 14.1.0 (MinGW), and MSVC VS 19.39.33521 To view detailed results, visit: https://lab.dpdk.org/results/dashboard/patchsets/34419/ UNH-IOL DPDK Community Lab To manage your email subscriptions, visit: https://lab.dpdk.org/results/dashboard/preferences/subscriptions/