From mboxrd@z Thu Jan 1 00:00:00 1970 Return-Path: Received: from mails.dpdk.org (mails.dpdk.org [217.70.189.124]) by inbox.dpdk.org (Postfix) with ESMTP id 35A87489F9 for ; Wed, 29 Oct 2025 20:48:38 +0100 (CET) Received: from mails.dpdk.org (localhost [127.0.0.1]) by mails.dpdk.org (Postfix) with ESMTP id 3154540150; Wed, 29 Oct 2025 20:48:38 +0100 (CET) Received: from mail-pf1-f226.google.com (mail-pf1-f226.google.com [209.85.210.226]) by mails.dpdk.org (Postfix) with ESMTP id B94F540150 for ; Wed, 29 Oct 2025 20:48:36 +0100 (CET) Received: by mail-pf1-f226.google.com with SMTP id d2e1a72fcca58-781997d195aso229104b3a.3 for ; Wed, 29 Oct 2025 12:48:36 -0700 (PDT) DKIM-Signature: v=1; a=rsa-sha256; c=relaxed/relaxed; d=iol.unh.edu; s=unh-iol; t=1761767316; x=1762372116; darn=dpdk.org; h=references:in-reply-to:cc:to:from:subject:message-id:date:from:to :cc:subject:date:message-id:reply-to; bh=EN1jcZJVr+DmxGGFzbUBFm5SIs/isE/7sjfBD0E/fxo=; b=ROGdt+dYDDkcOwdgcGLNdoNzTHxvup1rqrDIMioJvUx0qEEw3wckxZ/HfIrYvf8wqE /LBAqyCzZIyE5nPxOyMfEI882YCBuWIXmWTxmyvIh1DuDpHdssNrlsDsRLN2MEDfeqBy XETpdtag1OdoLabq9RUH03ebai1RPwI9Te5Is= X-Google-DKIM-Signature: v=1; a=rsa-sha256; c=relaxed/relaxed; d=1e100.net; s=20230601; t=1761767316; x=1762372116; h=references:in-reply-to:cc:to:from:subject:message-id:date :x-gm-message-state:from:to:cc:subject:date:message-id:reply-to; bh=EN1jcZJVr+DmxGGFzbUBFm5SIs/isE/7sjfBD0E/fxo=; b=dgH4DQ9hkcHiT6yAB2hMl9hJvbN8OUj83IFuAngKc+avZIsHB9clG5eg0hYeTuPJY8 7ZqUWXRUxqfeBymkgomhncdcSbAHaIIXMKScqEfJXvItjHSHdgDi16tC7fJCwk/6lZMd dp7JJl3DYwOtvCcqYjS9op00gRVRfL4/0sYJWKJt3QoMtBA0kRTAQRmJXfdPTTX3wqMy UDMdZ9dZk2zS3L/RzDKYkdXwPVyxtsI42KBq+Mz4/5lcMJKKKtPUcqz8Bu/Out4nzb7f 3vLaf+ZGdYjWi+vIxsAvr8+OY9bxLM12sVGI/iz42lhrSaF8AQoNVAyseCnTGY5are1S WolA== X-Gm-Message-State: AOJu0Yw+b3Gk6XVJLU0p+YG1NGYlAMxl/53PU960+/4nMQGHXgFZ4vX5 CrBtrtN9N5T6+MoVY97NiPpM/l0WCgG81REIfpJGopPtvrCM4ow94Pd1uZo7mtiFQSwEIGZzyF7 X1noGUM/N/ok+GYR/Q9AsNw8Ii1e65tkpwsYOc3xH6EEu X-Gm-Gg: ASbGncsOcuTvAQ+AJaifCF0x1Otf7Co9Yzzck4gNMWKGc6uI08Ce1l5jTewMViRmUE+ Qhv7Dl1gCPiBG+vHXKLL19PioRA+W0UrYj/t2VgCT1t5ZbGL0mtk+kTYcir0tcVd3/v0bB1Vtqu Xn0/+qu1+DdMh5ncIb4MsYRFGL4DHnCE4Wai15HcTnisPxpB+LcxoeFNjx+KvClsBhAZ+vrWqAT BAgURKRGv6oYPM/dooVtnehvETv7XwtErMFiUuV3Y7an087QVncyLiy3v965YyOee1tpKIDxWWI NAiWDVotSSstVpRurR0pWRNCqY5b7/PGC1zzyk5XkAzcKd+4Iq1GrHWU/xo9aC8LBvIqm9LW8Dp wvc2Hkuhjw8UJa13GJax1ReD8FkVl/58= X-Google-Smtp-Source: AGHT+IErfgKvtZvK8SmudwTlzbuyGugcKBj0k1X7KTNenrX+qxED3MmCBbm76fNiA9gHuny6DKR7Tcg4q8y7 X-Received: by 2002:a17:902:d4c2:b0:294:cb6c:2ea2 with SMTP id d9443c01a7336-294dee2e3cfmr51140915ad.21.1761767315850; Wed, 29 Oct 2025 12:48:35 -0700 (PDT) Received: from postal.iol.unh.edu (postal.iol.unh.edu. [132.177.123.84]) by smtp-relay.gmail.com with ESMTPS id d9443c01a7336-29498d0aae9sm14177385ad.22.2025.10.29.12.48.35 (version=TLS1_2 cipher=ECDHE-ECDSA-AES128-GCM-SHA256 bits=128/128); Wed, 29 Oct 2025 12:48:35 -0700 (PDT) X-Relaying-Domain: iol.unh.edu Date: Wed, 29 Oct 2025 12:48:35 -0700 (PDT) Message-ID: <69026f93.170a0220.36ecff.2a7fSMTPIN_ADDED_MISSING@mx.google.com> Received: from [172.21.0.2] (unknown [172.18.0.240]) by postal.iol.unh.edu (Postfix) with ESMTP id 5760E604D420; Wed, 29 Oct 2025 15:48:35 -0400 (EDT) Subject: |WARNING| pw158223-158224 [PATCH] [3/3] net/mlx5: support flow metad From: dpdklab@iol.unh.edu To: Test Report Cc: dpdk-test-reports@iol.unh.edu In-Reply-To: <20251029155711.169580-3-getelson@nvidia.com> References: <20251029155711.169580-3-getelson@nvidia.com> Content-Type: text/plain X-BeenThere: test-report@dpdk.org X-Mailman-Version: 2.1.29 Precedence: list List-Id: automatic DPDK test reports List-Unsubscribe: , List-Archive: List-Post: List-Help: List-Subscribe: , Errors-To: test-report-bounces@dpdk.org Test-Label: iol-compile-amd64-testing Test-Status: WARNING http://dpdk.org/patch/158224 _Testing issues_ Submitter: Gregory Etelson Date: Wednesday, October 29 2025 15:57:10 DPDK git baseline: Repo:dpdk-next-net-mlx Branch: master CommitID:39b54f2dcf44ad1f91eabc7080cd5dea763607fd 158223-158224 --> testing issues Upstream job id: Windows-Compile-DPDK-Native#31990 Test environment and result as below: +-------------------------------+--------------------+-------------------+------------------+-------------------+-------------------------+----------------------+ | Environment | dpdk_meson_compile | dpdk_compile_spdk | dpdk_compile_ovs | dpdk_msvc_compile | dpdk_llvm_clang_compile | dpdk_mingw64_compile | +===============================+====================+===================+==================+===================+=========================+======================+ | FreeBSD 14.2 | PASS | SKIPPED | SKIPPED | SKIPPED | SKIPPED | SKIPPED | +-------------------------------+--------------------+-------------------+------------------+-------------------+-------------------------+----------------------+ | CentOS Stream 9 | PASS | WARN | SKIPPED | SKIPPED | SKIPPED | SKIPPED | +-------------------------------+--------------------+-------------------+------------------+-------------------+-------------------------+----------------------+ | CentOS Stream 10 | PASS | SKIPPED | SKIPPED | SKIPPED | SKIPPED | SKIPPED | +-------------------------------+--------------------+-------------------+------------------+-------------------+-------------------------+----------------------+ | Debian GNU/Linux 12 | PASS | WARN | SKIPPED | SKIPPED | SKIPPED | SKIPPED | +-------------------------------+--------------------+-------------------+------------------+-------------------+-------------------------+----------------------+ | Ubuntu 20.04 | PASS | SKIPPED | SKIPPED | SKIPPED | SKIPPED | SKIPPED | +-------------------------------+--------------------+-------------------+------------------+-------------------+-------------------------+----------------------+ | Fedora Linux 42 | PASS | WARN | PASS | SKIPPED | SKIPPED | SKIPPED | +-------------------------------+--------------------+-------------------+------------------+-------------------+-------------------------+----------------------+ | openSUSE Leap 15.6 | PASS | SKIPPED | SKIPPED | SKIPPED | SKIPPED | SKIPPED | +-------------------------------+--------------------+-------------------+------------------+-------------------+-------------------------+----------------------+ | Red Hat Enterprise Linux 8.10 | PASS | SKIPPED | SKIPPED | SKIPPED | SKIPPED | SKIPPED | +-------------------------------+--------------------+-------------------+------------------+-------------------+-------------------------+----------------------+ | Red Hat Enterprise Linux 9.5 | PASS | SKIPPED | SKIPPED | SKIPPED | SKIPPED | SKIPPED | +-------------------------------+--------------------+-------------------+------------------+-------------------+-------------------------+----------------------+ | Ubuntu 22.04 | PASS | WARN | SKIPPED | SKIPPED | SKIPPED | SKIPPED | +-------------------------------+--------------------+-------------------+------------------+-------------------+-------------------------+----------------------+ | Ubuntu 24.04 | PASS | WARN | PASS | SKIPPED | SKIPPED | SKIPPED | +-------------------------------+--------------------+-------------------+------------------+-------------------+-------------------------+----------------------+ | Alpine Linux 3.22.0 | PASS | SKIPPED | SKIPPED | SKIPPED | SKIPPED | SKIPPED | +-------------------------------+--------------------+-------------------+------------------+-------------------+-------------------------+----------------------+ | Windows Server 2022 | SKIPPED | SKIPPED | SKIPPED | PASS | PASS | PASS | +-------------------------------+--------------------+-------------------+------------------+-------------------+-------------------------+----------------------+ ==== 20 line log output for Ubuntu 24.04 (dpdk_compile_spdk): ==== --- Failed to get log output --- ==== End log output ==== FreeBSD 14.2 Kernel: 14.2-RELEASE Compiler: clang 18.1.6 CentOS Stream 9 Kernel: 5.15 Compiler: gcc gcc (GCC) 11.5.0 20240719 (Red Hat 11.5.0-11) CentOS Stream 10 Kernel: 5.15 Compiler: gcc gcc (GCC) 14.2.1 20250110 (Red Hat 14.2.1-8) Debian GNU/Linux 12 Kernel: 5.15 Compiler: gcc gcc (Debian 12.2.0-14+deb12u1) 12.2.0 Ubuntu 20.04 Kernel: 4.19 Compiler: gcc gcc (Ubuntu 9.4.0-1ubuntu1~20.04.2) 9.4.0 Fedora Linux 42 Kernel: 5.15 Compiler: clang gcc (GCC) 15.2.1 20250808 (Red Hat 15.2.1-1) openSUSE Leap 15.6 Kernel: 5.15 Compiler: gcc gcc (SUSE Linux) 7.5.0 Red Hat Enterprise Linux 8.10 Kernel: 5.15 Compiler: gcc gcc (GCC) 8.5.0 20210514 (Red Hat 8.5.0-22) Red Hat Enterprise Linux 9.5 Kernel: 5.15 Compiler: gcc gcc (GCC) 11.5.0 20240719 (Red Hat 11.5.0-2) Ubuntu 22.04 Kernel: 5.15 Compiler: gcc gcc (Ubuntu 11.4.0-1ubuntu1~22.04) 11.4.0 Ubuntu 24.04 Kernel: 5.15 Compiler: gcc gcc (Ubuntu 13.3.0-6ubuntu2~24.04) 13.3.0 Alpine Linux 3.22.0 Kernel: 5.15 Compiler: gcc gcc (Alpine 14.2.0) 14.2.0 Windows Server 2022 Kernel: 10.0.20348.2031 Compiler: clang 15.0.7, gcc 14.1.0 (MinGW), and MSVC VS 19.39.33521 To view detailed results, visit: https://lab.dpdk.org/results/dashboard/patchsets/34418/ UNH-IOL DPDK Community Lab To manage your email subscriptions, visit: https://lab.dpdk.org/results/dashboard/preferences/subscriptions/