From mboxrd@z Thu Jan 1 00:00:00 1970 Return-Path: Received: from mails.dpdk.org (mails.dpdk.org [217.70.189.124]) by inbox.dpdk.org (Postfix) with ESMTP id 9A676489F9 for ; Wed, 29 Oct 2025 20:58:01 +0100 (CET) Received: from mails.dpdk.org (localhost [127.0.0.1]) by mails.dpdk.org (Postfix) with ESMTP id 6538A40150; Wed, 29 Oct 2025 20:58:01 +0100 (CET) Received: from mail-qv1-f98.google.com (mail-qv1-f98.google.com [209.85.219.98]) by mails.dpdk.org (Postfix) with ESMTP id 5E4B440150 for ; Wed, 29 Oct 2025 20:58:00 +0100 (CET) Received: by mail-qv1-f98.google.com with SMTP id 6a1803df08f44-87c11268b97so3583726d6.3 for ; Wed, 29 Oct 2025 12:58:00 -0700 (PDT) DKIM-Signature: v=1; a=rsa-sha256; c=relaxed/relaxed; d=iol.unh.edu; s=unh-iol; t=1761767879; x=1762372679; darn=dpdk.org; h=references:in-reply-to:cc:to:from:subject:message-id:date:from:to :cc:subject:date:message-id:reply-to; bh=Jr5YKr2QqByc9/RsrjXUjcd4F/2JtneUPORtmXVeXiI=; b=F00gI8B5CZ3r0ZV+MbAxsAhJbbcnkZ3Tpb0YgJIg8vrY87E8LmYeGXOQXKqGY1hlRy FJLCWn4Uv/16XuiZma2XGL1bANTDmhQQ3+fYhNTR7eDkaXahz7edGrLwZW1qqjRQxOcs 9owYxuQyOai3kLz4dDB6lEY7Ti7ujp+JXErMY= X-Google-DKIM-Signature: v=1; a=rsa-sha256; c=relaxed/relaxed; d=1e100.net; s=20230601; t=1761767879; x=1762372679; h=references:in-reply-to:cc:to:from:subject:message-id:date :x-gm-message-state:from:to:cc:subject:date:message-id:reply-to; bh=Jr5YKr2QqByc9/RsrjXUjcd4F/2JtneUPORtmXVeXiI=; b=MBG8lCo08g7ciVXEG4So8JMflIJpQgnZdNL9FH9MWIFzkDjod67RKUIeTJyB4a8pFi fjAF0lDYgl3lX/GIiwGs3+4sMccrEl101HI3FVwtD2Z2CNW8a6Ns5atShP5J6dn7wjRe OqodNs+dOwGfW6EYY48xvbORXCCPnl58tUkt5nsQe4pJOzBdLueoRlsCVaOwta4SEBOj dDfwfQyRu8XnQzkGs0ThUBqdTayACcQYKsnx2utggAV6f6HyxnNyVYm+Rsald8Ya4231 410o5Ci8NmxM5FxIoH0C06MsuGO3TuiVyViuq89gtrixCYa8pMKTS3o9Z2ih6JaC4FXP CTGQ== X-Gm-Message-State: AOJu0Yx+eCXL72y3ttLpjtLecjsI5zWV6GU7E0V2YNtL1fsUUZEIiN+o EBKVJNkCK7Zqyy+mF976z/v+qWBXJpP0vWXgxtoON8uXT3OMstfKkG17I1Xe5r6fyI7hHWxHc1z e3cZu4E+UkhM2CKQY55nrz52fxJ51olgHh0EXu5RLEvplqEWDAUp918znBn1N X-Gm-Gg: ASbGncvMI1OUQUe2WJBg3hZ8yff7QeSGJK93GFWhXjGeL6uxjSswOAX9rvydUImbUQi RwpZW98DjF3Xf2ujWes2AoFV/YMCYSB5J7rO3ePURYRRiz2xOiAKqTABrrJtYkM2TySX/cQwHBZ MtLnZ3aptJPsXg6RsTvp/NurtioYbjFKyj1TZEJA0W/suYfufzgHq76A0wkdCG8qMVApd7fUvWq VX1KsdKZ5PepWzo3InhgxtjNJfZj1i/kYbMwNJLy383yaHChs2020KMgOXeo7LFYSNiamO3KzbN oQvV3XJW7qRYEeTkIShgkVy2/cWzyXPt59IjKVUTlOGZqk50c6qAbO63q4qvWq06ZgXC3fcHS+w WZn57rRSs X-Google-Smtp-Source: AGHT+IEePoLZ7z80A2XILS86T5qQAplTLYL8FLgen0wE72Omjt63icOkUAcAmkfbAwCSBAjdomOE3nLiPFsZ X-Received: by 2002:a05:6214:500a:b0:87f:f97b:2520 with SMTP id 6a1803df08f44-88009c086bbmr54966726d6.31.1761767879665; Wed, 29 Oct 2025 12:57:59 -0700 (PDT) Received: from postal.iol.unh.edu (postal.iol.unh.edu. [2606:4100:3880:1234::84]) by smtp-relay.gmail.com with ESMTPS id 6a1803df08f44-87fc4913c9bsm14103616d6.12.2025.10.29.12.57.59 (version=TLS1_2 cipher=ECDHE-ECDSA-AES128-GCM-SHA256 bits=128/128); Wed, 29 Oct 2025 12:57:59 -0700 (PDT) X-Relaying-Domain: iol.unh.edu Date: Wed, 29 Oct 2025 12:57:59 -0700 (PDT) Message-ID: <690271c7.050a0220.1d35b4.2f8fSMTPIN_ADDED_MISSING@mx.google.com> Received: from [172.21.0.2] (unknown [172.18.0.240]) by postal.iol.unh.edu (Postfix) with ESMTP id 52B9C604D420; Wed, 29 Oct 2025 15:57:59 -0400 (EDT) Subject: |SUCCESS| pw158283 [PATCH] pmdinfogen: fix warning with python 3.14 From: dpdklab@iol.unh.edu To: Test Report Cc: dpdk-test-reports@iol.unh.edu In-Reply-To: <20251029164616.76233-2-rjarry@redhat.com> References: <20251029164616.76233-2-rjarry@redhat.com> Content-Type: text/plain X-BeenThere: test-report@dpdk.org X-Mailman-Version: 2.1.29 Precedence: list List-Id: automatic DPDK test reports List-Unsubscribe: , List-Archive: List-Post: List-Help: List-Subscribe: , Errors-To: test-report-bounces@dpdk.org Test-Label: iol-unit-amd64-testing Test-Status: SUCCESS http://dpdk.org/patch/158283 _Testing PASS_ Submitter: Robin Jarry Date: Wednesday, October 29 2025 16:46:17 DPDK git baseline: Repo:dpdk Branch: master CommitID:39b54f2dcf44ad1f91eabc7080cd5dea763607fd 158283 --> testing pass Upstream job id: Generic-VM-Unit-Test-DPDK#32167 Test environment and result as below: +-------------------------------+----------------+ | Environment | dpdk_unit_test | +===============================+================+ | Debian GNU/Linux 12 | PASS | +-------------------------------+----------------+ | CentOS Stream 9 | PASS | +-------------------------------+----------------+ | Fedora Linux 40 | PASS | +-------------------------------+----------------+ | CentOS Stream 10 | PASS | +-------------------------------+----------------+ | Fedora Linux 42 | PASS | +-------------------------------+----------------+ | Fedora Linux 41 | PASS | +-------------------------------+----------------+ | Red Hat Enterprise Linux 8.10 | PASS | +-------------------------------+----------------+ | Ubuntu 20.04 | PASS | +-------------------------------+----------------+ | Red Hat Enterprise Linux 9.5 | PASS | +-------------------------------+----------------+ | Ubuntu 22.04 | PASS | +-------------------------------+----------------+ | Ubuntu 24.04 | PASS | +-------------------------------+----------------+ | Windows Server 2022 | PASS | +-------------------------------+----------------+ Debian GNU/Linux 12 Kernel: 5.15 Compiler: gcc gcc (Debian 12.2.0-14+deb12u1) 12.2.0 CentOS Stream 9 Kernel: 5.15 Compiler: gcc gcc (GCC) 11.5.0 20240719 (Red Hat 11.5.0-11) Fedora Linux 40 Kernel: 5.15 Compiler: gcc gcc (GCC) 14.2.1 20240912 (Red Hat 14.2.1-3) CentOS Stream 10 Kernel: 5.15 Compiler: gcc gcc (GCC) 14.2.1 20250110 (Red Hat 14.2.1-8) Fedora Linux 42 Kernel: 5.15 Compiler: gcc gcc (GCC) 15.2.1 20250808 (Red Hat 15.2.1-1) Fedora Linux 41 Kernel: 5.15 Compiler: clang gcc (GCC) 14.3.1 20250523 (Red Hat 14.3.1-1) Red Hat Enterprise Linux 8.10 Kernel: 5.15 Compiler: gcc gcc (GCC) 8.5.0 20210514 (Red Hat 8.5.0-22) Ubuntu 20.04 Kernel: 5.15 Compiler: gcc gcc (Ubuntu 9.4.0-1ubuntu1~20.04.2) 9.4.0 Red Hat Enterprise Linux 9.5 Kernel: 5.15 Compiler: gcc gcc (GCC) 11.5.0 20240719 (Red Hat 11.5.0-2) Ubuntu 22.04 Kernel: 5.15 Compiler: gcc gcc (Ubuntu 11.4.0-1ubuntu1~22.04) 11.4.0 Ubuntu 24.04 Kernel: 5.15 Compiler: gcc gcc (Ubuntu 13.3.0-6ubuntu2~24.04) 13.3.0 Windows Server 2022 Kernel: 10.0.20348.2031 Compiler: clang 15.0.7, gcc 14.1.0 (MinGW), and MSVC VS 19.39.33521 To view detailed results, visit: https://lab.dpdk.org/results/dashboard/patchsets/34420/ UNH-IOL DPDK Community Lab To manage your email subscriptions, visit: https://lab.dpdk.org/results/dashboard/preferences/subscriptions/