From mboxrd@z Thu Jan 1 00:00:00 1970 Return-Path: Received: from mails.dpdk.org (mails.dpdk.org [217.70.189.124]) by inbox.dpdk.org (Postfix) with ESMTP id 93A09489F9 for ; Wed, 29 Oct 2025 20:59:34 +0100 (CET) Received: from mails.dpdk.org (localhost [127.0.0.1]) by mails.dpdk.org (Postfix) with ESMTP id 8DF6540150; Wed, 29 Oct 2025 20:59:34 +0100 (CET) Received: from mail-il1-f226.google.com (mail-il1-f226.google.com [209.85.166.226]) by mails.dpdk.org (Postfix) with ESMTP id 0588040150 for ; Wed, 29 Oct 2025 20:59:32 +0100 (CET) Received: by mail-il1-f226.google.com with SMTP id e9e14a558f8ab-430d0cad0deso812245ab.2 for ; Wed, 29 Oct 2025 12:59:32 -0700 (PDT) DKIM-Signature: v=1; a=rsa-sha256; c=relaxed/relaxed; d=iol.unh.edu; s=unh-iol; t=1761767972; x=1762372772; darn=dpdk.org; h=references:in-reply-to:cc:to:from:subject:message-id:date:from:to :cc:subject:date:message-id:reply-to; bh=Bv0NDoMoos96+BEjRRAYKi6KlODTTCbkSp8wHyt1c9I=; b=cpY3avhf8EjS9cLwF3qXkOLM36jIk7O6ORKAZNTDdBMdH5C2dyV+Sn0BpjunOaZbBD bQVCfNjwL70UpP5F/f4LnddNkJB2R5dItHx8db2BKw1VWsPNUG/6LAgDt1Qnyn1ESaM/ HK3WyJBh7QRZMEItAzoIOywGhFFPWScnofH20= X-Google-DKIM-Signature: v=1; a=rsa-sha256; c=relaxed/relaxed; d=1e100.net; s=20230601; t=1761767972; x=1762372772; h=references:in-reply-to:cc:to:from:subject:message-id:date :x-gm-message-state:from:to:cc:subject:date:message-id:reply-to; bh=Bv0NDoMoos96+BEjRRAYKi6KlODTTCbkSp8wHyt1c9I=; b=IYUNDqD/1eDoTVlNZ8WMVNU6ragTL8zZ3z3vcqDWrfBOSqHCZjMYTxcCb7rQ1+pymy bHbmbN79W/c6S3ivqyGlu9BSpta+jP0nJJskcSC0pIiefDeIyo5bt0+1LAeKyodOVc1N XYeTOYa1pAa0/1vK2kCELtqD9VVIaeC+r6EkrbB6OvRacemXnodyLl5mpGyyYsSep/2/ qk0EFO9CH8/iwwYkbLeVhCQUU6Wqh1sZcFRtQHvrOidNbnCZPcs7GV8pp9iLLKDmT8n5 h0Kowk0x0Ntmea+kBv9hOquFuOnwmfmJwXses1zxXChB0w5gk+OrwiVjVJ1biMNu0cEk RoUw== X-Gm-Message-State: AOJu0YyHaXvAPnQ73yGZ6YVCIzmmNfW9VOVSyP9gfuq0kxvMOMEE8bGL Xe/edPekLO7OXKmGMrjGZ7ofAmgIDYvozgIzaFHgWpOcG66dOqcSMD4ZFTiDue7UvGr0sdjDRcA 9MgRRUggcpMnk077GkvqVahz4ZBwQ6gnsntO4zEAuiCjc4GcMXfimWUKm3+c5 X-Gm-Gg: ASbGnctzP9a4MdaxtXqyD/XKfPxDohZ0HvRp4lrwW/U3wRwGBi6K5JP2eiP0WdsPrbj sE7uNNgk8d6Zx6vZnUjLtZnc0ePEMkmwjNtbtTaS2L0EXquawtDmkKEgeV7D8kBtEnput5aTGQD 5bPjwCdoWC9aRCjELNbAXNUABagpWpC+ux3Y7Qn5YnrYfmW+lQIA3hniQkmEy9I1jurIH28RUQW gadFEHl9ZDMo7d1UfwmQk1dYWghgb+FVnCRny98lrwsFW8Bo/e0ZV3d7UHtSfbhPmRqmRQRG/yL dKmYuxFow2pAUjP+2IiSePEAi9eNBblSWu/TOQ8FDY10Xw79QrxtCEnS3i1XEstIxK4eCq8943P yyPISGXlt X-Google-Smtp-Source: AGHT+IGSdkbyhu488FSJI8jJ9f0ADkPs8ogyoBMu+XuGOF5cKy6TMOGK80k7HjNKu4zp3aJGasITuWdpxYaQ X-Received: by 2002:a05:6e02:168d:b0:432:fccd:288a with SMTP id e9e14a558f8ab-4330154f968mr9090465ab.25.1761767972248; Wed, 29 Oct 2025 12:59:32 -0700 (PDT) Received: from postal.iol.unh.edu (postal.iol.unh.edu. [2606:4100:3880:1234::84]) by smtp-relay.gmail.com with ESMTPS id 8926c6da1cb9f-5aea9867522sm1109774173.22.2025.10.29.12.59.32 (version=TLS1_2 cipher=ECDHE-ECDSA-AES128-GCM-SHA256 bits=128/128); Wed, 29 Oct 2025 12:59:32 -0700 (PDT) X-Relaying-Domain: iol.unh.edu Date: Wed, 29 Oct 2025 12:59:32 -0700 (PDT) Message-ID: <69027224.050a0220.3241b9.4085SMTPIN_ADDED_MISSING@mx.google.com> Received: from [172.21.0.2] (unknown [172.18.0.240]) by postal.iol.unh.edu (Postfix) with ESMTP id BE9CB604D420; Wed, 29 Oct 2025 15:59:31 -0400 (EDT) Subject: |SUCCESS| pw158209-158211 [PATCH] [v2,3/3] net/r8169: fix issues rep From: dpdklab@iol.unh.edu To: Test Report Cc: dpdk-test-reports@iol.unh.edu, Stephen Hemminger In-Reply-To: <20251029020838.401035-4-howard_wang@realsil.com.cn> References: <20251029020838.401035-4-howard_wang@realsil.com.cn> Content-Type: text/plain X-BeenThere: test-report@dpdk.org X-Mailman-Version: 2.1.29 Precedence: list List-Id: automatic DPDK test reports List-Unsubscribe: , List-Archive: List-Post: List-Help: List-Subscribe: , Errors-To: test-report-bounces@dpdk.org Test-Label: iol-unit-arm64-testing Test-Status: SUCCESS http://dpdk.org/patch/158211 _Testing PASS_ Submitter: Howard Wang Date: Wednesday, October 29 2025 02:08:38 DPDK git baseline: Repo:dpdk-next-net Branch: master CommitID:977027b9ed422bd309bf761c5d360864900134f0 158209-158211 --> testing pass Upstream job id: Generic-Unit-Test-DPDK#386494 Test environment and result as below: +------------------------------+----------------+---------------------------+------------------------------+--------------+ | Environment | dpdk_unit_test | cryptodev_sw_zuc_autotest | cryptodev_sw_snow3g_autotest | lpm_autotest | +==============================+================+===========================+==============================+==============+ | CentOS Stream 10 | PASS | SKIPPED | SKIPPED | SKIPPED | +------------------------------+----------------+---------------------------+------------------------------+--------------+ | Debian GNU/Linux 12 | PASS | SKIPPED | SKIPPED | SKIPPED | +------------------------------+----------------+---------------------------+------------------------------+--------------+ | Fedora Linux 40 | PASS | SKIPPED | SKIPPED | SKIPPED | +------------------------------+----------------+---------------------------+------------------------------+--------------+ | Fedora Linux 41 | PASS | SKIPPED | SKIPPED | SKIPPED | +------------------------------+----------------+---------------------------+------------------------------+--------------+ | CentOS Stream 9 | PASS | SKIPPED | SKIPPED | SKIPPED | +------------------------------+----------------+---------------------------+------------------------------+--------------+ | Ubuntu 22.04 | PASS | SKIPPED | SKIPPED | SKIPPED | +------------------------------+----------------+---------------------------+------------------------------+--------------+ | Ubuntu 24.04 | PASS | SKIPPED | SKIPPED | SKIPPED | +------------------------------+----------------+---------------------------+------------------------------+--------------+ | Red Hat Enterprise Linux 9.5 | PASS | SKIPPED | SKIPPED | SKIPPED | +------------------------------+----------------+---------------------------+------------------------------+--------------+ | Fedora Linux 42 | PASS | SKIPPED | SKIPPED | SKIPPED | +------------------------------+----------------+---------------------------+------------------------------+--------------+ | Ubuntu 20.04 | PASS | SKIPPED | SKIPPED | PASS | +------------------------------+----------------+---------------------------+------------------------------+--------------+ | Debian 12 (arm) | SKIPPED | PASS | PASS | SKIPPED | +------------------------------+----------------+---------------------------+------------------------------+--------------+ CentOS Stream 10 Kernel: 5.4 Compiler: gcc gcc (GCC) 14.2.1 20250110 (Red Hat 14.2.1-8) Debian GNU/Linux 12 Kernel: 5.4 Compiler: gcc gcc (Debian 12.2.0-14+deb12u1) 12.2.0 Fedora Linux 40 Kernel: 5.4 Compiler: gcc gcc (GCC) 14.2.1 20240912 (Red Hat 14.2.1-3) Fedora Linux 41 Kernel: 5.4 Compiler: gcc gcc (GCC) 14.3.1 20250523 (Red Hat 14.3.1-1) CentOS Stream 9 Kernel: 5.4 Compiler: gcc gcc (GCC) 11.5.0 20240719 (Red Hat 11.5.0-11) Ubuntu 22.04 Kernel: 5.4 Compiler: gcc gcc (Ubuntu 11.4.0-1ubuntu1~22.04) 11.4.0 Ubuntu 24.04 Kernel: 5.4 Compiler: gcc gcc (Ubuntu 13.3.0-6ubuntu2~24.04) 13.3.0 Red Hat Enterprise Linux 9.5 Kernel: 5.4 Compiler: gcc gcc (GCC) 11.5.0 20240719 (Red Hat 11.5.0-2) Fedora Linux 42 Kernel: 5.4 Compiler: clang gcc (GCC) 15.2.1 20250808 (Red Hat 15.2.1-1) Ubuntu 20.04 Kernel: 5.4 Compiler: gcc gcc (Ubuntu 9.4.0-1ubuntu1~20.04.2) 9.4.0 Debian 12 (arm) Kernel: Depends on container host Compiler: gcc (Debian 12.2.0-14) 12.2.0 To view detailed results, visit: https://lab.dpdk.org/results/dashboard/patchsets/34412/ UNH-IOL DPDK Community Lab To manage your email subscriptions, visit: https://lab.dpdk.org/results/dashboard/preferences/subscriptions/