From mboxrd@z Thu Jan 1 00:00:00 1970 Return-Path: Received: from mails.dpdk.org (mails.dpdk.org [217.70.189.124]) by inbox.dpdk.org (Postfix) with ESMTP id 324C746E24 for ; Wed, 29 Oct 2025 21:05:26 +0100 (CET) Received: from mails.dpdk.org (localhost [127.0.0.1]) by mails.dpdk.org (Postfix) with ESMTP id 13FC640150; Wed, 29 Oct 2025 21:05:26 +0100 (CET) Received: from mail-il1-f225.google.com (mail-il1-f225.google.com [209.85.166.225]) by mails.dpdk.org (Postfix) with ESMTP id A9EAD40150 for ; Wed, 29 Oct 2025 21:05:24 +0100 (CET) Received: by mail-il1-f225.google.com with SMTP id e9e14a558f8ab-430c52703b3so1772745ab.1 for ; Wed, 29 Oct 2025 13:05:24 -0700 (PDT) DKIM-Signature: v=1; a=rsa-sha256; c=relaxed/relaxed; d=iol.unh.edu; s=unh-iol; t=1761768324; x=1762373124; darn=dpdk.org; h=references:in-reply-to:cc:to:from:subject:message-id:date:from:to :cc:subject:date:message-id:reply-to; bh=nIPQdOgcwukawFBT9KI621Aiy7y5mMoaY7DLJpUbtKk=; b=P/mwTEZFYkCkpa1Jpss68S38L/oymdvAI0zKE3VsIbmpVstAr9bOk8WtCXfSINk67H /JCrZCbUkf6w9RJgx9cPVxIidbLISvyJOUrMKkfphReXYi+231GVt4NOhwwlgRkA+/zp PWCR3S15hqYZ5zA4qzPqfHVozDaSwa2WJ1HgY= X-Google-DKIM-Signature: v=1; a=rsa-sha256; c=relaxed/relaxed; d=1e100.net; s=20230601; t=1761768324; x=1762373124; h=references:in-reply-to:cc:to:from:subject:message-id:date :x-gm-message-state:from:to:cc:subject:date:message-id:reply-to; bh=nIPQdOgcwukawFBT9KI621Aiy7y5mMoaY7DLJpUbtKk=; b=qhB4azIErJHcaa+PylMaPgTfC6/w4e20VmoAd84Y5MnursQ7W+5QBMRwMM3mXLoTmr KNeB8/RY8bLtYhTbmFvhG5EyKBII4MDLyKu03eArG93fMiwIGmoPNSef78K8lNAzCjqU uyzi836n6s3U46ovxIfcAfZqW0xPWEdxNwxCF3DAoVns56hK8D06uEGu+s0KXw7vNPnI uDlSie2vTZXa/YqN5JKIvGUn8mcuYhIvIRfr+s663Fdgvait0KGWraPxX0W+CCcDkoqQ +jsmeRpCmXPCKd+55uGrG+8dLWSQyuQRH8HK1eWPDlipNYv8ahJTDX6la6dVISIg0tWl xPMQ== X-Gm-Message-State: AOJu0YwJXc8j/T2X3+LJu4quCMNHc6a960coJ70V1iX346GN3tcPC7g9 D9aFvEtvn2T86o2njlkHlAg7swgSyrJXXjS5Y0HUThnyz06g59zeBfrhcz4xE8r3jZNTFpoZvGk IBLyKD0qhLfFQr1Q4FRQOKAcvlTUD0w+qZQ0xPgBfZr4a X-Gm-Gg: ASbGncttr8JDJd5jp1zl25v2C4PZqK9jMZjYUkQsB0c/UaFvc9AVMVfn7D6EhV2E7yM 18YxmXXPwODnkU8d4pdTxDFF0N01Md3kqul++X/rFdsHd2h6u+qxsTpGiA9Zv4JZRFd3sQ6TBJP yEvLOT6SILEzgmP0PAJz+b/kA1Rw8EupgMtYuguq7TREezCmXr5d4GJV1X+MwyrRZppVxMRQ5Bp 0BgbFvyzeyVj+Q0mqLoPcHK1WRitkbRbUXg2mz9WRuczqDUw2BOoKkzV1nF0i3Lnknpnq3tfhGI 8nG/pv12O9gtfnLmaV5gG4ApPHMSeJqKA48LJZsTiNKKzL0i+m9na4YN4T1T4j6lHQGBhmojuaa 76KV9s/XyWumq9/ttPEG4JhzFUlRI4RY= X-Google-Smtp-Source: AGHT+IG0sjiAHc3NaSi368D1tKcW5DoY89nGQxl6K5UNL5YiKojAxKNN8fL9YqdytAKFna311MQHUNSGLr9A X-Received: by 2002:a05:6e02:3311:b0:430:ce86:1208 with SMTP id e9e14a558f8ab-432f9064bf5mr50100925ab.28.1761768323895; Wed, 29 Oct 2025 13:05:23 -0700 (PDT) Received: from postal.iol.unh.edu (postal.iol.unh.edu. [132.177.123.84]) by smtp-relay.gmail.com with ESMTPS id e9e14a558f8ab-431f688d961sm14492845ab.17.2025.10.29.13.05.23 (version=TLS1_2 cipher=ECDHE-ECDSA-AES128-GCM-SHA256 bits=128/128); Wed, 29 Oct 2025 13:05:23 -0700 (PDT) X-Relaying-Domain: iol.unh.edu Date: Wed, 29 Oct 2025 13:05:23 -0700 (PDT) Message-ID: <69027383.050a0220.ed1ac.4ad0SMTPIN_ADDED_MISSING@mx.google.com> Received: from [172.21.0.2] (unknown [172.18.0.240]) by postal.iol.unh.edu (Postfix) with ESMTP id 5DB39604D420; Wed, 29 Oct 2025 16:05:23 -0400 (EDT) Subject: |SUCCESS| pw158283 [PATCH] pmdinfogen: fix warning with python 3.14 From: dpdklab@iol.unh.edu To: Test Report Cc: dpdk-test-reports@iol.unh.edu In-Reply-To: <20251029164616.76233-2-rjarry@redhat.com> References: <20251029164616.76233-2-rjarry@redhat.com> Content-Type: text/plain X-BeenThere: test-report@dpdk.org X-Mailman-Version: 2.1.29 Precedence: list List-Id: automatic DPDK test reports List-Unsubscribe: , List-Archive: List-Post: List-Help: List-Subscribe: , Errors-To: test-report-bounces@dpdk.org Test-Label: iol-unit-amd64-testing Test-Status: SUCCESS http://dpdk.org/patch/158283 _Testing PASS_ Submitter: Robin Jarry Date: Wednesday, October 29 2025 16:46:17 DPDK git baseline: Repo:dpdk Branch: master CommitID:39b54f2dcf44ad1f91eabc7080cd5dea763607fd 158283 --> testing pass Upstream job id: Generic-VM-Unit-Test-DPDK#32168 Test environment and result as below: +-------------------------------+----------------+ | Environment | dpdk_unit_test | +===============================+================+ | Debian GNU/Linux 12 | PASS | +-------------------------------+----------------+ | CentOS Stream 9 | PASS | +-------------------------------+----------------+ | Fedora Linux 40 | PASS | +-------------------------------+----------------+ | CentOS Stream 10 | PASS | +-------------------------------+----------------+ | Fedora Linux 42 | PASS | +-------------------------------+----------------+ | Fedora Linux 41 | PASS | +-------------------------------+----------------+ | Red Hat Enterprise Linux 8.10 | PASS | +-------------------------------+----------------+ | Ubuntu 20.04 | PASS | +-------------------------------+----------------+ | Red Hat Enterprise Linux 9.5 | PASS | +-------------------------------+----------------+ | Ubuntu 22.04 | PASS | +-------------------------------+----------------+ | Ubuntu 24.04 | PASS | +-------------------------------+----------------+ | Windows Server 2022 | PASS | +-------------------------------+----------------+ Debian GNU/Linux 12 Kernel: 5.15 Compiler: gcc gcc (Debian 12.2.0-14+deb12u1) 12.2.0 CentOS Stream 9 Kernel: 5.15 Compiler: gcc gcc (GCC) 11.5.0 20240719 (Red Hat 11.5.0-11) Fedora Linux 40 Kernel: 5.15 Compiler: gcc gcc (GCC) 14.2.1 20240912 (Red Hat 14.2.1-3) CentOS Stream 10 Kernel: 5.15 Compiler: gcc gcc (GCC) 14.2.1 20250110 (Red Hat 14.2.1-8) Fedora Linux 42 Kernel: 5.15 Compiler: gcc gcc (GCC) 15.2.1 20250808 (Red Hat 15.2.1-1) Fedora Linux 41 Kernel: 5.15 Compiler: clang gcc (GCC) 14.3.1 20250523 (Red Hat 14.3.1-1) Red Hat Enterprise Linux 8.10 Kernel: 5.15 Compiler: gcc gcc (GCC) 8.5.0 20210514 (Red Hat 8.5.0-22) Ubuntu 20.04 Kernel: 5.15 Compiler: gcc gcc (Ubuntu 9.4.0-1ubuntu1~20.04.2) 9.4.0 Red Hat Enterprise Linux 9.5 Kernel: 5.15 Compiler: gcc gcc (GCC) 11.5.0 20240719 (Red Hat 11.5.0-2) Ubuntu 22.04 Kernel: 5.15 Compiler: gcc gcc (Ubuntu 11.4.0-1ubuntu1~22.04) 11.4.0 Ubuntu 24.04 Kernel: 5.15 Compiler: gcc gcc (Ubuntu 13.3.0-6ubuntu2~24.04) 13.3.0 Windows Server 2022 Kernel: 10.0.20348.2031 Compiler: clang 15.0.7, gcc 14.1.0 (MinGW), and MSVC VS 19.39.33521 To view detailed results, visit: https://lab.dpdk.org/results/dashboard/patchsets/34420/ UNH-IOL DPDK Community Lab To manage your email subscriptions, visit: https://lab.dpdk.org/results/dashboard/preferences/subscriptions/