From mboxrd@z Thu Jan 1 00:00:00 1970 Return-Path: Received: from mails.dpdk.org (mails.dpdk.org [217.70.189.124]) by inbox.dpdk.org (Postfix) with ESMTP id 875E546E24 for ; Wed, 29 Oct 2025 21:09:10 +0100 (CET) Received: from mails.dpdk.org (localhost [127.0.0.1]) by mails.dpdk.org (Postfix) with ESMTP id 65DF740150; Wed, 29 Oct 2025 21:09:10 +0100 (CET) Received: from mail-oa1-f100.google.com (mail-oa1-f100.google.com [209.85.160.100]) by mails.dpdk.org (Postfix) with ESMTP id 2DAE740150 for ; Wed, 29 Oct 2025 21:09:09 +0100 (CET) Received: by mail-oa1-f100.google.com with SMTP id 586e51a60fabf-3d220c5a16aso238701fac.2 for ; Wed, 29 Oct 2025 13:09:09 -0700 (PDT) DKIM-Signature: v=1; a=rsa-sha256; c=relaxed/relaxed; d=iol.unh.edu; s=unh-iol; t=1761768548; x=1762373348; darn=dpdk.org; h=references:in-reply-to:cc:to:from:subject:message-id:date:from:to :cc:subject:date:message-id:reply-to; bh=PtwtrT7X8YhSyOQOFC3r+TeL3gJACbVk0dKoFu2411Y=; b=XyiQwFN85Yemlco1qA4FtH2sakboC+EgYeI1Ihy14R2s7bkbt40FWrpM3SAL2Z46ne mIPYHcjVI7iOBGGJsoGoNRBTAUK/S/RicVR2q0X2GWRD4uI/B7Pu2ScOMjahgJvQ+YIy Z8+0EL0uXIfJXj3FZGJo9zWTs1QIxGk7gasUM= X-Google-DKIM-Signature: v=1; a=rsa-sha256; c=relaxed/relaxed; d=1e100.net; s=20230601; t=1761768548; x=1762373348; h=references:in-reply-to:cc:to:from:subject:message-id:date :x-gm-message-state:from:to:cc:subject:date:message-id:reply-to; bh=PtwtrT7X8YhSyOQOFC3r+TeL3gJACbVk0dKoFu2411Y=; b=l1attwfU2ZL1Mnp62H13SelcJgoK/nV0b85am7aAJc92NnG4fJkbDmVlWx6qeteDru LeuUi3ITmtDKM+DjDzbJnbpnrFpKNQljddltss9xV/tTdgbJGzn4d37IedEeYTITVLKV Zk9xoDmQLJg+QKTDl2Z3S5k5EnbL2OHNvTSEZNIvTodj1Z/hy92NIRdGt9YsDmbLj/hl brbR6kZxjPB6GEdCGspvu45Fi56WhyVo+CE6vsyATfWImcvYxWaKJsS/TlD7LeXUp6Sl 8hfFKQVxdZpn48Gb8sbEQunvV60rJUxfy7VngM4zg5f7eEG8fVOlzUD/cQjOZu57xVYC ZSzA== X-Gm-Message-State: AOJu0YwjBT/PNv3aDFOib/FLC2gPX51skftr1zFL+1wIPtfheRfAgSUR 279PWycOgTbJh7d1dLIvoPLw/QDh/Ggwdod8Etxr0y/SueB404QPp8c07juldMFNQJYIsQm0fse zkzxIM+ABfSAyUAMShEX4WngzPeCEF0GthyrGRh8kRbcM X-Gm-Gg: ASbGncsxQ2ISqCqU7a+CGFGfpNyJwbPIK9NtEWUPqtIVnW+2oRLRi7jXIfsrmMnk5Tr 9+gexmXm+me9rEBJIenAzGo+xcNG96MJInR4tiube3mzGmK18z7TZ0Wpj3IthLkZ8a7XODwXBIz hJQwzrcqZVhVw9VKdki4RRFy5gHUXludOKlWdFj1HGOSjHQdXI1XDCxl00rs3f2Ta/79gv/DxD5 fJtffiUka9t/ykOxowBCr7DsKPW+FYNgiYzgJ67/j8qm8SzysaUKmuWr50hFsRaVQMXxf4KFz4H EG3K0t0wD2RQXgJfRZAdY+sRxNvJ01eEiL+fOGzz9XVFj24u7eR64jhjQmifw2VE9T3G0yuEfqB 7eCZDFnrIIXTNuZ1vjSMMQqS5hxJXrLs= X-Google-Smtp-Source: AGHT+IHcpqzSw4XFWfiqzaaUqWOXzfGSmcevbh6ZFCCIWs5uvmWQcBg43fqND7yz1FLUrEpB20PUMubH3NLe X-Received: by 2002:a05:6870:1791:b0:3d3:4b61:161f with SMTP id 586e51a60fabf-3d74760abffmr2323261fac.37.1761768548219; Wed, 29 Oct 2025 13:09:08 -0700 (PDT) Received: from postal.iol.unh.edu (postal.iol.unh.edu. [132.177.123.84]) by smtp-relay.gmail.com with ESMTPS id 586e51a60fabf-3d1e354609dsm1265491fac.14.2025.10.29.13.09.08 (version=TLS1_2 cipher=ECDHE-ECDSA-AES128-GCM-SHA256 bits=128/128); Wed, 29 Oct 2025 13:09:08 -0700 (PDT) X-Relaying-Domain: iol.unh.edu Date: Wed, 29 Oct 2025 13:09:08 -0700 (PDT) Message-ID: <69027464.050a0220.2d3ff5.b81eSMTPIN_ADDED_MISSING@mx.google.com> Received: from [172.21.0.2] (unknown [172.18.0.240]) by postal.iol.unh.edu (Postfix) with ESMTP id D0D6660003E8; Wed, 29 Oct 2025 16:09:07 -0400 (EDT) Subject: |SUCCESS| pw158283 [PATCH] pmdinfogen: fix warning with python 3.14 From: dpdklab@iol.unh.edu To: Test Report Cc: dpdk-test-reports@iol.unh.edu In-Reply-To: <20251029164616.76233-2-rjarry@redhat.com> References: <20251029164616.76233-2-rjarry@redhat.com> Content-Type: text/plain X-BeenThere: test-report@dpdk.org X-Mailman-Version: 2.1.29 Precedence: list List-Id: automatic DPDK test reports List-Unsubscribe: , List-Archive: List-Post: List-Help: List-Subscribe: , Errors-To: test-report-bounces@dpdk.org Test-Label: iol-compile-amd64-testing Test-Status: SUCCESS http://dpdk.org/patch/158283 _Testing PASS_ Submitter: Robin Jarry Date: Wednesday, October 29 2025 16:46:17 DPDK git baseline: Repo:dpdk Branch: master CommitID:39b54f2dcf44ad1f91eabc7080cd5dea763607fd 158283 --> testing pass Upstream job id: Windows-Compile-DPDK-Native#31993 Test environment and result as below: +---------------------+--------------------+-------------------+-------------------------+ | Environment | dpdk_meson_compile | dpdk_msvc_compile | dpdk_llvm_clang_compile | +=====================+====================+===================+=========================+ | Ubuntu 20.04 | PASS | SKIPPED | SKIPPED | +---------------------+--------------------+-------------------+-------------------------+ | FreeBSD 14.2 | PASS | SKIPPED | SKIPPED | +---------------------+--------------------+-------------------+-------------------------+ | Windows Server 2022 | SKIPPED | PASS | PASS | +---------------------+--------------------+-------------------+-------------------------+ Ubuntu 20.04 Kernel: 4.19 Compiler: gcc gcc (Ubuntu 9.4.0-1ubuntu1~20.04.2) 9.4.0 FreeBSD 14.2 Kernel: 14.2-RELEASE Compiler: clang 18.1.6 Windows Server 2022 Kernel: 10.0.20348.2031 Compiler: clang 15.0.7, gcc 14.1.0 (MinGW), and MSVC VS 19.39.33521 To view detailed results, visit: https://lab.dpdk.org/results/dashboard/patchsets/34420/ UNH-IOL DPDK Community Lab To manage your email subscriptions, visit: https://lab.dpdk.org/results/dashboard/preferences/subscriptions/