From mboxrd@z Thu Jan 1 00:00:00 1970 Return-Path: Received: from mails.dpdk.org (mails.dpdk.org [217.70.189.124]) by inbox.dpdk.org (Postfix) with ESMTP id 43210489E6 for ; Wed, 29 Oct 2025 21:16:41 +0100 (CET) Received: from mails.dpdk.org (localhost [127.0.0.1]) by mails.dpdk.org (Postfix) with ESMTP id 2155040150; Wed, 29 Oct 2025 21:16:41 +0100 (CET) Received: from mail-pg1-f225.google.com (mail-pg1-f225.google.com [209.85.215.225]) by mails.dpdk.org (Postfix) with ESMTP id 131CA40150 for ; Wed, 29 Oct 2025 21:16:39 +0100 (CET) Received: by mail-pg1-f225.google.com with SMTP id 41be03b00d2f7-b6271ea3a6fso144300a12.0 for ; Wed, 29 Oct 2025 13:16:38 -0700 (PDT) DKIM-Signature: v=1; a=rsa-sha256; c=relaxed/relaxed; d=iol.unh.edu; s=unh-iol; t=1761768998; x=1762373798; darn=dpdk.org; h=references:in-reply-to:cc:to:from:subject:message-id:date:from:to :cc:subject:date:message-id:reply-to; bh=1nv52/FFM1+venkC1phD0nOJnGv5Udwh63pbUrmV8S8=; b=NNjikq4VMwlcj97tZWHlPl2ymbyOP/sMpLwU3UCI3QUI0+TjMwljIe9EJglrCyvdIb pIVaVc/NHDen+O2sctRAdsz3OjRF7XgRGNrpjj4zRCY5VREcX5xx4Ia/OzlFv1w/bzv3 se/67V9S4HbjAmUuUpzk7EPoMcpifuEhlnHho= X-Google-DKIM-Signature: v=1; a=rsa-sha256; c=relaxed/relaxed; d=1e100.net; s=20230601; t=1761768998; x=1762373798; h=references:in-reply-to:cc:to:from:subject:message-id:date :x-gm-message-state:from:to:cc:subject:date:message-id:reply-to; bh=1nv52/FFM1+venkC1phD0nOJnGv5Udwh63pbUrmV8S8=; b=cj53rRMRxZSWUtLu30cev7pOqJClg81q8MPtY1WYpSUTpgGqvVbgyWfi3fthK/WC6j +xi1EmF8Tw3bLBD3R7TN3hwhxLp4TlFpcLzkOwDIoRsU7i3Xq06xZQTd0CM7eQxqXEu8 I/tMKPXpVr7DZqqgAhjXjdnX2p1axtc3ZX/ytGoRQX/9ltrcQ9hX2ao5U6e7fta4tlba aJOExNqz0O3X0mANulvaYLc/nYMC8nd0BvXeIsHIEicBAxGp+2+i/9ixrbsBpqW+78Oh kGAIbMvMgpYwccMxmGEh7gZ+yNL5gIGh63HjGX5K2pDpU/L40OxFn1BO2IeLHbaWEhZs 2UBw== X-Gm-Message-State: AOJu0YyIITMJ3mMSnyPFi6jwvCL/hurO2aCovbamb2RkjhzShKGZvZDp jCkmKzgDtuZaVLyAGzIkIKgBUILdD3cOsCva5JMa+TAKsd8GPM3bHONh0MxVeTmiadkMEIPD711 QuE3gf9uN1d9RKOw4Hc+kjmlkU78VGE9awONymbRHRAar X-Gm-Gg: ASbGncuk9Jfxg2IcTTBsS8oya0e7wkdaleVsP8bVKdX063kTTgCANjsB9Hc+S2TOw9/ u/HxtqH8Qujr/QO5LvrUmCxvmgJZogB1l8rGva+tipYadbF622vpHI3SG5Ggv0OcFGop09Dv8cl K3HJJb05KGZNIKHMTnoxnM0fEKZzzhdmjCq0iF9hu1S/hf4eHfS7wbhsPzLXIeAhQoli9fk5jmf iaKoJhhIpUr75KedElx5CsLZdw99zT6Kx+/ylghtmnT9erNWfFXW704Y/8Mr+lSBpJuv/2Mw29L VkdtpLLKzN6Estt1GR0xurL8067pxXiH9Ii+t1Ek+OZO7HTC2SyzQ3ZQR2EZtlgs62yQ5/2M4Jn fzLsooFBkEm22yecVEQ53nZ4vLmjbFRM= X-Google-Smtp-Source: AGHT+IFOxM/Eu77hRuR5FZ3nPPZgu8iJMuf2TlJ5ty98G/Q7UyufxvocJZDkLNDunwN1XsafljALQA0sc4Kc X-Received: by 2002:a17:902:d2ce:b0:269:a4ed:13c3 with SMTP id d9443c01a7336-294dedf443fmr52824275ad.5.1761768998109; Wed, 29 Oct 2025 13:16:38 -0700 (PDT) Received: from postal.iol.unh.edu (postal.iol.unh.edu. [132.177.123.84]) by smtp-relay.gmail.com with ESMTPS id d9443c01a7336-29498e4118bsm13400145ad.53.2025.10.29.13.16.37 (version=TLS1_2 cipher=ECDHE-ECDSA-AES128-GCM-SHA256 bits=128/128); Wed, 29 Oct 2025 13:16:38 -0700 (PDT) X-Relaying-Domain: iol.unh.edu Date: Wed, 29 Oct 2025 13:16:38 -0700 (PDT) Message-ID: <69027626.170a0220.1fd4ab.040fSMTPIN_ADDED_MISSING@mx.google.com> Received: from [172.21.0.2] (unknown [172.18.0.240]) by postal.iol.unh.edu (Postfix) with ESMTP id 367016051830; Wed, 29 Oct 2025 16:16:37 -0400 (EDT) Subject: |WARNING| pw158227-158282 [PATCH] [v5,57/57] net/bnxt/tf_ulp: remove From: dpdklab@iol.unh.edu To: Test Report Cc: dpdk-test-reports@iol.unh.edu In-Reply-To: <20251029160712.58519-58-manish.kurup@broadcom.com> References: <20251029160712.58519-58-manish.kurup@broadcom.com> Content-Type: text/plain X-BeenThere: test-report@dpdk.org X-Mailman-Version: 2.1.29 Precedence: list List-Id: automatic DPDK test reports List-Unsubscribe: , List-Archive: List-Post: List-Help: List-Subscribe: , Errors-To: test-report-bounces@dpdk.org Test-Label: iol-compile-amd64-testing Test-Status: WARNING http://dpdk.org/patch/158282 _Testing issues_ Submitter: Manish Kurup Date: Wednesday, October 29 2025 16:07:12 DPDK git baseline: Repo:dpdk Branch: master CommitID:39b54f2dcf44ad1f91eabc7080cd5dea763607fd 158227-158282 --> testing issues Upstream job id: Generic-DPDK-Compile-Meson#439121 Test environment and result as below: +-------------------------------+--------------------+-------------------+-------------------+------------------+-------------------------+----------------------+ | Environment | dpdk_meson_compile | dpdk_msvc_compile | dpdk_compile_spdk | dpdk_compile_ovs | dpdk_llvm_clang_compile | dpdk_mingw64_compile | +===============================+====================+===================+===================+==================+=========================+======================+ | FreeBSD 14.2 | PASS | SKIPPED | SKIPPED | SKIPPED | SKIPPED | SKIPPED | +-------------------------------+--------------------+-------------------+-------------------+------------------+-------------------------+----------------------+ | Ubuntu 20.04 | PASS | SKIPPED | SKIPPED | SKIPPED | SKIPPED | SKIPPED | +-------------------------------+--------------------+-------------------+-------------------+------------------+-------------------------+----------------------+ | CentOS Stream 9 | PASS | SKIPPED | WARN | SKIPPED | SKIPPED | SKIPPED | +-------------------------------+--------------------+-------------------+-------------------+------------------+-------------------------+----------------------+ | CentOS Stream 10 | PASS | SKIPPED | SKIPPED | SKIPPED | SKIPPED | SKIPPED | +-------------------------------+--------------------+-------------------+-------------------+------------------+-------------------------+----------------------+ | Debian GNU/Linux 12 | PASS | SKIPPED | WARN | SKIPPED | SKIPPED | SKIPPED | +-------------------------------+--------------------+-------------------+-------------------+------------------+-------------------------+----------------------+ | Fedora Linux 42 | PASS | SKIPPED | WARN | PASS | SKIPPED | SKIPPED | +-------------------------------+--------------------+-------------------+-------------------+------------------+-------------------------+----------------------+ | openSUSE Leap 15.6 | PASS | SKIPPED | SKIPPED | SKIPPED | SKIPPED | SKIPPED | +-------------------------------+--------------------+-------------------+-------------------+------------------+-------------------------+----------------------+ | Red Hat Enterprise Linux 8.10 | PASS | SKIPPED | SKIPPED | SKIPPED | SKIPPED | SKIPPED | +-------------------------------+--------------------+-------------------+-------------------+------------------+-------------------------+----------------------+ | Red Hat Enterprise Linux 9.5 | PASS | SKIPPED | SKIPPED | SKIPPED | SKIPPED | SKIPPED | +-------------------------------+--------------------+-------------------+-------------------+------------------+-------------------------+----------------------+ | Ubuntu 22.04 | PASS | SKIPPED | WARN | SKIPPED | SKIPPED | SKIPPED | +-------------------------------+--------------------+-------------------+-------------------+------------------+-------------------------+----------------------+ | Ubuntu 24.04 | PASS | SKIPPED | WARN | PASS | SKIPPED | SKIPPED | +-------------------------------+--------------------+-------------------+-------------------+------------------+-------------------------+----------------------+ | Alpine Linux 3.22.0 | PASS | SKIPPED | SKIPPED | SKIPPED | SKIPPED | SKIPPED | +-------------------------------+--------------------+-------------------+-------------------+------------------+-------------------------+----------------------+ | Windows Server 2022 | SKIPPED | PASS | SKIPPED | SKIPPED | PASS | PASS | +-------------------------------+--------------------+-------------------+-------------------+------------------+-------------------------+----------------------+ ==== 20 line log output for Ubuntu 24.04 (dpdk_compile_spdk): ==== --- Failed to get log output --- ==== End log output ==== FreeBSD 14.2 Kernel: 14.2-RELEASE Compiler: clang 18.1.6 Ubuntu 20.04 Kernel: 4.19 Compiler: gcc gcc (Ubuntu 9.4.0-1ubuntu1~20.04.2) 9.4.0 CentOS Stream 9 Kernel: 5.15 Compiler: gcc gcc (GCC) 11.5.0 20240719 (Red Hat 11.5.0-11) CentOS Stream 10 Kernel: 5.15 Compiler: gcc gcc (GCC) 14.2.1 20250110 (Red Hat 14.2.1-8) Debian GNU/Linux 12 Kernel: 5.15 Compiler: gcc gcc (Debian 12.2.0-14+deb12u1) 12.2.0 Fedora Linux 42 Kernel: 5.15 Compiler: clang gcc (GCC) 15.2.1 20250808 (Red Hat 15.2.1-1) openSUSE Leap 15.6 Kernel: 5.15 Compiler: gcc gcc (SUSE Linux) 7.5.0 Red Hat Enterprise Linux 8.10 Kernel: 5.15 Compiler: gcc gcc (GCC) 8.5.0 20210514 (Red Hat 8.5.0-22) Red Hat Enterprise Linux 9.5 Kernel: 5.15 Compiler: gcc gcc (GCC) 11.5.0 20240719 (Red Hat 11.5.0-2) Ubuntu 22.04 Kernel: 5.15 Compiler: gcc gcc (Ubuntu 11.4.0-1ubuntu1~22.04) 11.4.0 Ubuntu 24.04 Kernel: 5.15 Compiler: gcc gcc (Ubuntu 13.3.0-6ubuntu2~24.04) 13.3.0 Alpine Linux 3.22.0 Kernel: 5.15 Compiler: gcc gcc (Alpine 14.2.0) 14.2.0 Windows Server 2022 Kernel: 10.0.20348.2031 Compiler: clang 15.0.7, gcc 14.1.0 (MinGW), and MSVC VS 19.39.33521 To view detailed results, visit: https://lab.dpdk.org/results/dashboard/patchsets/34419/ UNH-IOL DPDK Community Lab To manage your email subscriptions, visit: https://lab.dpdk.org/results/dashboard/preferences/subscriptions/