From mboxrd@z Thu Jan 1 00:00:00 1970 Return-Path: Received: from mails.dpdk.org (mails.dpdk.org [217.70.189.124]) by inbox.dpdk.org (Postfix) with ESMTP id 88148489FC for ; Wed, 29 Oct 2025 23:28:23 +0100 (CET) Received: from mails.dpdk.org (localhost [127.0.0.1]) by mails.dpdk.org (Postfix) with ESMTP id 60AEB402A6; Wed, 29 Oct 2025 23:28:23 +0100 (CET) Received: from mail-pl1-f227.google.com (mail-pl1-f227.google.com [209.85.214.227]) by mails.dpdk.org (Postfix) with ESMTP id 0CFEF402A6 for ; Wed, 29 Oct 2025 23:28:22 +0100 (CET) Received: by mail-pl1-f227.google.com with SMTP id d9443c01a7336-290d14e5c9aso5600355ad.3 for ; Wed, 29 Oct 2025 15:28:21 -0700 (PDT) DKIM-Signature: v=1; a=rsa-sha256; c=relaxed/relaxed; d=iol.unh.edu; s=unh-iol; t=1761776901; x=1762381701; darn=dpdk.org; h=references:in-reply-to:cc:to:from:subject:message-id:date:from:to :cc:subject:date:message-id:reply-to; bh=vChVbSIE7p+bM9hro2UXLHhCsL1k6ALW4xkUUJwFPM4=; b=ZuG6ZozoW6/rK1Mz51J5TD0cyMidvxhm1GdC4Gsdae08xr/80o0GHIvJoHQMyCkvZA jz3CQN7EQ5NSHU80mTyJWsOtQaSjoEBnvg8KTTckcKP0aQ4Fhq9QycdE4WQjnWhrtRgh QCl08uxeLg2u14hVHwNw2xUku37GdWcMiAq14= X-Google-DKIM-Signature: v=1; a=rsa-sha256; c=relaxed/relaxed; d=1e100.net; s=20230601; t=1761776901; x=1762381701; h=references:in-reply-to:cc:to:from:subject:message-id:date :x-gm-message-state:from:to:cc:subject:date:message-id:reply-to; bh=vChVbSIE7p+bM9hro2UXLHhCsL1k6ALW4xkUUJwFPM4=; b=a7YajErka6lhe5lWyIqwGzHZxL/KAyGS5+90zrsQfry+codb0xLhYhObB06ONlVmlX t6HX1RyOPEiqY/kzwFHrkk/xhMINowPCTie3HpV2DKGZV67gUTQuxM6w6RDJOx2vJ3xk 4H5BxbJsWbYP6dpdiEZG9xIX3c756eP1lCqfaW6Ub1eqWPYdPkYccYUwsm1P4uEF9HTv o7aRVthhyPKtFiIRNrEjgZRm4y4IxDUKhQW+ifw6dZO0HyZEfO6xn2M0/j8223/2kkOQ Psfx0FH4hjsDXggN9Jhy/gZzS/E8k4OYJFMQTt7wXigutVWIKg0Yom+R+rX9eV60y7u2 d1Mw== X-Gm-Message-State: AOJu0Yw9pZrRIXHX5fN3yH5o5AG/Ed7MgpUNkOQ5xFS0tHkkH4lGgX2M L9RznGAA4FWQU5PkXrsQoXuFqKUERHlEUO8wx6U3QHj34ZmRPR54F6/t6LIKshyfL//dQMSO1sv saaqvUZ1orhPsWo9cJdObVPxsfZCQ7TksWnS6DXAVr7L8 X-Gm-Gg: ASbGncuZYFPDwxb8qk56pzD124g1Z8zHNF6ahTseVPExphq9VwiPh2mGnP0qkqHEvo7 tI/7akfoGpepVOJ8evOt2kxLsPRkOho2oU9ihtNaXYIr9ULAj3X10tSXfOBvvJRdVU0gAClwju0 6QwpvVn4KFBSvsqFzHkKtOyIMxewZ2jc2YVBoR6JUattK40TnOqQxRaih1XTF8/ozN7UVQT7EYZ 9wIdIWzq8SG34gihk/78Boa0DE4u3Kz5J1rAXvacF0yu09kEdMWP3z46e2YrKzHATvpdOa3hzRA LaDwdf0fInBigYjCKraPuAjFLPf9lyOdSPk6M+t4/5hW+8gdUsoa7Dg6fKqdZWXaCE3kUuFchhB CUmxWZg73erJ9Iw4LBkSbW9M2FpdPiAo= X-Google-Smtp-Source: AGHT+IFNhfE93vqVYK8H4Lk4F1i9XgOjN6di71nE0t6doN/ntfmCWM7z3lE9hbgX9KUnRyaf7swTI0248FMY X-Received: by 2002:a17:903:4b4b:b0:24c:e6fa:2a38 with SMTP id d9443c01a7336-294dee124d2mr52473715ad.25.1761776900987; Wed, 29 Oct 2025 15:28:20 -0700 (PDT) Received: from postal.iol.unh.edu (postal.iol.unh.edu. [132.177.123.84]) by smtp-relay.gmail.com with ESMTPS id d9443c01a7336-29498e42a9dsm14826465ad.58.2025.10.29.15.28.20 (version=TLS1_2 cipher=ECDHE-ECDSA-AES128-GCM-SHA256 bits=128/128); Wed, 29 Oct 2025 15:28:20 -0700 (PDT) X-Relaying-Domain: iol.unh.edu Date: Wed, 29 Oct 2025 15:28:20 -0700 (PDT) Message-ID: <69029504.170a0220.3cc797.7efaSMTPIN_ADDED_MISSING@mx.google.com> Received: from [172.21.0.4] (unknown [172.18.0.240]) by postal.iol.unh.edu (Postfix) with ESMTP id 6FA8560003E8; Wed, 29 Oct 2025 18:28:20 -0400 (EDT) Subject: |SUCCESS| pw158219 [PATCH] [v1,1/1] net: fix inner L2 length for GRE From: dpdklab@iol.unh.edu To: Test Report Cc: dpdk-test-reports@iol.unh.edu In-Reply-To: <20251029130523.1642847-1-rkudurumalla@marvell.com> References: <20251029130523.1642847-1-rkudurumalla@marvell.com> Content-Type: text/plain X-BeenThere: test-report@dpdk.org X-Mailman-Version: 2.1.29 Precedence: list List-Id: automatic DPDK test reports List-Unsubscribe: , List-Archive: List-Post: List-Help: List-Subscribe: , Errors-To: test-report-bounces@dpdk.org Test-Label: iol-compile-arm64-testing Test-Status: SUCCESS http://dpdk.org/patch/158219 _Testing PASS_ Submitter: Rakesh Kudurumalla Date: Wednesday, October 29 2025 13:05:23 DPDK git baseline: Repo:dpdk Branch: master CommitID:39b54f2dcf44ad1f91eabc7080cd5dea763607fd 158219 --> testing pass Upstream job id: Generic-DPDK-Compile-Meson#438985 Test environment and result as below: +------------------------------+--------------------+ | Environment | dpdk_meson_compile | +==============================+====================+ | Red Hat Enterprise Linux 9.5 | PASS | +------------------------------+--------------------+ | Ubuntu 20.04 | PASS | +------------------------------+--------------------+ | Debian GNU/Linux 12 | PASS | +------------------------------+--------------------+ | Fedora Linux 42 | PASS | +------------------------------+--------------------+ | Ubuntu 22.04 | PASS | +------------------------------+--------------------+ | Ubuntu 24.04 | PASS | +------------------------------+--------------------+ | CentOS Stream 9 | PASS | +------------------------------+--------------------+ | CentOS Stream 10 | PASS | +------------------------------+--------------------+ Red Hat Enterprise Linux 9.5 Kernel: 5.4 Compiler: gcc gcc (GCC) 11.5.0 20240719 (Red Hat 11.5.0-2) Ubuntu 20.04 Kernel: 5.15 Compiler: aarch64-linux-gnu-gcc gcc (Ubuntu 9.4.0-1ubuntu1~20.04.2) 9.4.0 Debian GNU/Linux 12 Kernel: 5.4 Compiler: gcc gcc (Debian 12.2.0-14+deb12u1) 12.2.0 Fedora Linux 42 Kernel: 5.4 Compiler: gcc gcc (GCC) 15.2.1 20250808 (Red Hat 15.2.1-1) Ubuntu 22.04 Kernel: 5.4 Compiler: gcc gcc (Ubuntu 11.4.0-1ubuntu1~22.04) 11.4.0 Ubuntu 24.04 Kernel: 5.4 Compiler: gcc gcc (Ubuntu 13.3.0-6ubuntu2~24.04) 13.3.0 CentOS Stream 9 Kernel: 5.4 Compiler: gcc gcc (GCC) 11.5.0 20240719 (Red Hat 11.5.0-11) CentOS Stream 10 Kernel: 5.4 Compiler: gcc gcc (GCC) 14.2.1 20250110 (Red Hat 14.2.1-8) To view detailed results, visit: https://lab.dpdk.org/results/dashboard/patchsets/34414/ UNH-IOL DPDK Community Lab To manage your email subscriptions, visit: https://lab.dpdk.org/results/dashboard/preferences/subscriptions/