From mboxrd@z Thu Jan 1 00:00:00 1970 Return-Path: Received: from mails.dpdk.org (mails.dpdk.org [217.70.189.124]) by inbox.dpdk.org (Postfix) with ESMTP id C83FF489FC for ; Wed, 29 Oct 2025 23:55:17 +0100 (CET) Received: from mails.dpdk.org (localhost [127.0.0.1]) by mails.dpdk.org (Postfix) with ESMTP id 9EF67402A6; Wed, 29 Oct 2025 23:55:17 +0100 (CET) Received: from mail-yx1-f97.google.com (mail-yx1-f97.google.com [74.125.224.97]) by mails.dpdk.org (Postfix) with ESMTP id 81627402A6 for ; Wed, 29 Oct 2025 23:55:16 +0100 (CET) Received: by mail-yx1-f97.google.com with SMTP id 956f58d0204a3-63e1b52b452so554167d50.1 for ; Wed, 29 Oct 2025 15:55:16 -0700 (PDT) DKIM-Signature: v=1; a=rsa-sha256; c=relaxed/relaxed; d=iol.unh.edu; s=unh-iol; t=1761778516; x=1762383316; darn=dpdk.org; h=references:in-reply-to:cc:to:from:subject:message-id:date:from:to :cc:subject:date:message-id:reply-to; bh=SoghbJ/y2JAAlTaYjygUo9cSmQuzgdaGKrCmWBijjMM=; b=Ylxxjbs0unf5cag3/WIE4H4ODf0NQnNc15ecHZhMBb80sOxqpl3LRYfpdNWJJqv5vt PgnzVw5+ICtavRMIXLpEL4JbrmMxe7dEevBKYIBg1tDu0Xr/o/7Zi+1OpvjGTWejl3A+ 9RmoJh3L+QZGKKrfGDRbsZ0j3Cqnu/AL+TXPw= X-Google-DKIM-Signature: v=1; a=rsa-sha256; c=relaxed/relaxed; d=1e100.net; s=20230601; t=1761778516; x=1762383316; h=references:in-reply-to:cc:to:from:subject:message-id:date :x-gm-message-state:from:to:cc:subject:date:message-id:reply-to; bh=SoghbJ/y2JAAlTaYjygUo9cSmQuzgdaGKrCmWBijjMM=; b=L78pOYG+5lZCgfieF3DJ7vyd+r8U8DcWI0ke/QWBfeW5cEdJ28Nlg7qjapfmm3FmjV KrgJ6xxCbqviQ2g+jYw8v/rM6ppztExQLEpKV2+JyZVOKoN0MkqZuSeK/Lb5Ne7evTtG FREz84PlfbisQM16K5Ky2EO51LY7uA0NZvT8cWangCJuW9Q8Bdyd3qprufPkJZSf7ZOy rQwGyI4+ybFpfb1ceOtRYXZ/4QrzjW1Oj6lYzRHu6z+Bzf8ZnvbcWwqP2HESsE76Dg/i gNAkKSu9Sj8flih9rTqLHq+ROit8eXlIdKmoGrpXmN2H3whaGL3BdFRjstABmN1h393l fUTQ== X-Gm-Message-State: AOJu0YxH7nC9Gul3d/62+IPOYbWRdm8mFVQ3lllPoWx6sXf9/sAygdRC Xa9PB9I/psez57AEO7q+iBUKBnY3vK0Fq9xJrYL01h0NqoTXLOG1O0d6JfmnEHicByIFK7Qu91q XWE3IW9PsIBNN0kDbdtfA9c6pwgxDae71Ynbt4FFi0ckYfb+yFtHBnHnmKJdo X-Gm-Gg: ASbGncsMOgn0th6Pr432bh8VtwRR+h2lLRyLePClH1EkBGAbklR80Wsy6796VHOVudN blRpNqXvOBVj7WnEJGYR/CbC3BpUumO3+et3zN/p0m2ONZmFXysYYmiq5g3SErmxDcKcPtoHRYi UPN7eQCKhKkv3Im+2AhDt2IOmpgcVAKAJcY1HNd4o4/WvelM5HT6QHVBi4kT4tyMF3kUz6A7IXq Yo+kc22NkSJoKAB3PeJ+fcZfHGp9ahJJlqpwFJI2xkWLOpG9LwjvC8jCxr/zPu2yM37ls++Wwv3 RzAKgiVGvy4/55Oi7RfcJ+G0wfmWtbozV2X54SYaBX5BVgqlaZC2Dj+Scmfr/TrVc08pM9cKkjr JN1kUps2m X-Google-Smtp-Source: AGHT+IH1XPcHROHJrVw5TTcuVxlvCAH03dnGrT/rUwWHD8x1tMwtvHhLMsQlbV9t8Xz9KnQhFZ6ZNA7nMFrw X-Received: by 2002:a53:8507:0:b0:63e:187b:f383 with SMTP id 956f58d0204a3-63f83a9e204mr650628d50.52.1761778515841; Wed, 29 Oct 2025 15:55:15 -0700 (PDT) Received: from postal.iol.unh.edu (postal.iol.unh.edu. [2606:4100:3880:1234::84]) by smtp-relay.gmail.com with ESMTPS id 00721157ae682-78638337f8bsm907387b3.29.2025.10.29.15.55.15 (version=TLS1_2 cipher=ECDHE-ECDSA-AES128-GCM-SHA256 bits=128/128); Wed, 29 Oct 2025 15:55:15 -0700 (PDT) X-Relaying-Domain: iol.unh.edu Date: Wed, 29 Oct 2025 15:55:15 -0700 (PDT) Message-ID: <69029b53.050a0220.787b5.46a4SMTPIN_ADDED_MISSING@mx.google.com> Received: from [172.21.0.2] (unknown [172.18.0.240]) by postal.iol.unh.edu (Postfix) with ESMTP id 84D716051830; Wed, 29 Oct 2025 18:55:15 -0400 (EDT) Subject: |SUCCESS| pw158214-158218 [PATCH] [v2,5/5] net/cnxk: enable CPT CQ f From: dpdklab@iol.unh.edu To: Test Report Cc: dpdk-test-reports@iol.unh.edu In-Reply-To: <20251029130023.1637177-5-rkudurumalla@marvell.com> References: <20251029130023.1637177-5-rkudurumalla@marvell.com> Content-Type: text/plain X-BeenThere: test-report@dpdk.org X-Mailman-Version: 2.1.29 Precedence: list List-Id: automatic DPDK test reports List-Unsubscribe: , List-Archive: List-Post: List-Help: List-Subscribe: , Errors-To: test-report-bounces@dpdk.org Test-Label: iol-compile-arm64-testing Test-Status: SUCCESS http://dpdk.org/patch/158218 _Testing PASS_ Submitter: Rakesh Kudurumalla Date: Wednesday, October 29 2025 13:00:23 DPDK git baseline: Repo:dpdk-next-net-mrvl Branch: master CommitID:39b54f2dcf44ad1f91eabc7080cd5dea763607fd 158214-158218 --> testing pass Upstream job id: Generic-DPDK-Compile-Meson#439027 Test environment and result as below: +------------------------------+--------------------+ | Environment | dpdk_meson_compile | +==============================+====================+ | Red Hat Enterprise Linux 9.5 | PASS | +------------------------------+--------------------+ | Ubuntu 20.04 | PASS | +------------------------------+--------------------+ | Debian GNU/Linux 12 | PASS | +------------------------------+--------------------+ | Fedora Linux 42 | PASS | +------------------------------+--------------------+ | Ubuntu 22.04 | PASS | +------------------------------+--------------------+ | Ubuntu 24.04 | PASS | +------------------------------+--------------------+ | CentOS Stream 9 | PASS | +------------------------------+--------------------+ | CentOS Stream 10 | PASS | +------------------------------+--------------------+ Red Hat Enterprise Linux 9.5 Kernel: 5.4 Compiler: gcc gcc (GCC) 11.5.0 20240719 (Red Hat 11.5.0-2) Ubuntu 20.04 Kernel: 5.4 Compiler: gcc gcc (Ubuntu 9.4.0-1ubuntu1~20.04.2) 9.4.0 Debian GNU/Linux 12 Kernel: 5.4 Compiler: gcc gcc (Debian 12.2.0-14+deb12u1) 12.2.0 Fedora Linux 42 Kernel: 5.4 Compiler: gcc gcc (GCC) 15.2.1 20250808 (Red Hat 15.2.1-1) Ubuntu 22.04 Kernel: 5.4 Compiler: gcc gcc (Ubuntu 11.4.0-1ubuntu1~22.04) 11.4.0 Ubuntu 24.04 Kernel: 5.4 Compiler: gcc gcc (Ubuntu 13.3.0-6ubuntu2~24.04) 13.3.0 CentOS Stream 9 Kernel: 5.4 Compiler: gcc gcc (GCC) 11.5.0 20240719 (Red Hat 11.5.0-11) CentOS Stream 10 Kernel: 5.4 Compiler: gcc gcc (GCC) 14.2.1 20250110 (Red Hat 14.2.1-8) To view detailed results, visit: https://lab.dpdk.org/results/dashboard/patchsets/34415/ UNH-IOL DPDK Community Lab To manage your email subscriptions, visit: https://lab.dpdk.org/results/dashboard/preferences/subscriptions/