From mboxrd@z Thu Jan 1 00:00:00 1970 Return-Path: Received: from mails.dpdk.org (mails.dpdk.org [217.70.189.124]) by inbox.dpdk.org (Postfix) with ESMTP id 78292489FC for ; Thu, 30 Oct 2025 00:29:43 +0100 (CET) Received: from mails.dpdk.org (localhost [127.0.0.1]) by mails.dpdk.org (Postfix) with ESMTP id 4EB5B4027A; Thu, 30 Oct 2025 00:29:43 +0100 (CET) Received: from mail-qv1-f98.google.com (mail-qv1-f98.google.com [209.85.219.98]) by mails.dpdk.org (Postfix) with ESMTP id 48DAC4027A for ; Thu, 30 Oct 2025 00:29:42 +0100 (CET) Received: by mail-qv1-f98.google.com with SMTP id 6a1803df08f44-87c148fb575so5035226d6.2 for ; Wed, 29 Oct 2025 16:29:42 -0700 (PDT) DKIM-Signature: v=1; a=rsa-sha256; c=relaxed/relaxed; d=iol.unh.edu; s=unh-iol; t=1761780581; x=1762385381; darn=dpdk.org; h=references:in-reply-to:cc:to:from:subject:message-id:date:from:to :cc:subject:date:message-id:reply-to; bh=gaAjvSCZTHnMbBgCqi8YN2Yr/KIrFgYhr5qXVdqEH74=; b=jT9nsJsjUFZV/advwu7TFziafl0C6Gkwu5LieRsRUfYmo+aLKCMImh40mDHUMfJTdl ks2TJBHleydwrO758XVD7ZV8ps8UpY+uqJM3uBZvufkOSfPVbpKZhPgYvevytz1MIYwU CVO6+uJyqmEnOImgeNJ6o3Kl4amhWtEJN6NiQ= X-Google-DKIM-Signature: v=1; a=rsa-sha256; c=relaxed/relaxed; d=1e100.net; s=20230601; t=1761780581; x=1762385381; h=references:in-reply-to:cc:to:from:subject:message-id:date :x-gm-message-state:from:to:cc:subject:date:message-id:reply-to; bh=gaAjvSCZTHnMbBgCqi8YN2Yr/KIrFgYhr5qXVdqEH74=; b=UYru1JWvcTVCw1mFyY+qLwsvXpG6URwBk9244mX2Ty8pZP4OyfkcpTZUn/oTiobDxw eHV25FbYvtMaaqEy8KaYrYXMFJnJLNA7p+Lul2r036TyKHuA4mzQA5SXiTMmfr0YESFZ QMjZMIj5TPQvcmj/l06RZPhAQS0RhM+RDP5QMrk09vmQKgEuNMcg3cMQwXmrPfAgp/L3 iTQnOuUCndF7h0AbLDx69NBzf+lbfgp6V9F52fG7g5d+Z9LFc/gNUwWn9TrV29i66wU2 9eew4rqTKu5Vcw08ChxeHNesMDC5vu3fZ4yeOw3cjHE6yT1wBjyADM7IXRDfvuNHnn4Z a3gw== X-Gm-Message-State: AOJu0YyXDftJBkDKiclWqByitjUt7Yugf23hBJTjCE+tk9HGXONxuSdH ClLF7BN6vwTuUfvSExxLTXTOHBsZNjLIA4BEjsFJINlJUQvtci3bjYIHbeIeIVHagaxVegmi6Bn HKKG830qbvxV9O3Q0K0xfXvLeQPb7zJ+e8P1qmf1lo+G/d35R5vINtXTMdXR+ X-Gm-Gg: ASbGnct5BQlruTv06e6gVNjrMm8enmtXwU/6c2tgUR1VMirgppCjRye8fROoJUsNB7x zPQNi7WdqzFYTZS539dKInjuuQ8fzXxwwxle9l4LrdYBkBStjkzkeahYdCYRamMdBFGyLDWjLkW qjZx0YH0zYXOwtn9KIMQ0Vzqmd5QOZjDq7HechJw+ca7KteoCFn+AvmZxkp/N28p7yY7oBmHJWI mV8l3r62VjOsFe9w9Ea1ZttxpXxRqqvLfClGBdnYvtWDyMwaipzS44cypBzqggaWrz2DNR+pF/y WfwWDxs+KEZvqNZSnZDekrXw2cH8aKwjDdTOyUXrCnbdO0BoEJRLpxCzIZIbQFDpHDYRjlHG8wJ JZY5jOnYR X-Google-Smtp-Source: AGHT+IEhdu+s4cROJvrTfXGI87j+ORNVut26x7Y6QGBM8i0LLk/N5sHaBdhf3JfzEUWjs4+bijfibjDSjvAy X-Received: by 2002:ad4:5be1:0:b0:814:2a4e:efbb with SMTP id 6a1803df08f44-8801b24d73cmr17794926d6.53.1761780581571; Wed, 29 Oct 2025 16:29:41 -0700 (PDT) Received: from postal.iol.unh.edu (postal.iol.unh.edu. [2606:4100:3880:1234::84]) by smtp-relay.gmail.com with ESMTPS id 6a1803df08f44-87fc49817bfsm14177016d6.23.2025.10.29.16.29.41 (version=TLS1_2 cipher=ECDHE-ECDSA-AES128-GCM-SHA256 bits=128/128); Wed, 29 Oct 2025 16:29:41 -0700 (PDT) X-Relaying-Domain: iol.unh.edu Date: Wed, 29 Oct 2025 16:29:41 -0700 (PDT) Message-ID: <6902a365.050a0220.6c38.21e8SMTPIN_ADDED_MISSING@mx.google.com> Received: from [172.21.0.2] (unknown [172.18.0.240]) by postal.iol.unh.edu (Postfix) with ESMTP id 229966051830; Wed, 29 Oct 2025 19:29:41 -0400 (EDT) Subject: |WARNING| pw158283 [PATCH] pmdinfogen: fix warning with python 3.14 From: dpdklab@iol.unh.edu To: Test Report Cc: dpdk-test-reports@iol.unh.edu In-Reply-To: <20251029164616.76233-2-rjarry@redhat.com> References: <20251029164616.76233-2-rjarry@redhat.com> Content-Type: text/plain X-BeenThere: test-report@dpdk.org X-Mailman-Version: 2.1.29 Precedence: list List-Id: automatic DPDK test reports List-Unsubscribe: , List-Archive: List-Post: List-Help: List-Subscribe: , Errors-To: test-report-bounces@dpdk.org Test-Label: iol-compile-amd64-testing Test-Status: WARNING http://dpdk.org/patch/158283 _Testing issues_ Submitter: Robin Jarry Date: Wednesday, October 29 2025 16:46:17 DPDK git baseline: Repo:dpdk Branch: master CommitID:39b54f2dcf44ad1f91eabc7080cd5dea763607fd 158283 --> testing issues Upstream job id: Generic-DPDK-Compile-Meson#439139 Test environment and result as below: +-------------------------------+--------------------+-------------------+-------------------------+----------------------+-------------------+------------------+ | Environment | dpdk_meson_compile | dpdk_msvc_compile | dpdk_llvm_clang_compile | dpdk_mingw64_compile | dpdk_compile_spdk | dpdk_compile_ovs | +===============================+====================+===================+=========================+======================+===================+==================+ | Ubuntu 20.04 | PASS | SKIPPED | SKIPPED | SKIPPED | SKIPPED | SKIPPED | +-------------------------------+--------------------+-------------------+-------------------------+----------------------+-------------------+------------------+ | FreeBSD 14.2 | PASS | SKIPPED | SKIPPED | SKIPPED | SKIPPED | SKIPPED | +-------------------------------+--------------------+-------------------+-------------------------+----------------------+-------------------+------------------+ | CentOS Stream 9 | PASS | SKIPPED | SKIPPED | SKIPPED | WARN | SKIPPED | +-------------------------------+--------------------+-------------------+-------------------------+----------------------+-------------------+------------------+ | CentOS Stream 10 | PASS | SKIPPED | SKIPPED | SKIPPED | SKIPPED | SKIPPED | +-------------------------------+--------------------+-------------------+-------------------------+----------------------+-------------------+------------------+ | Debian GNU/Linux 12 | PASS | SKIPPED | SKIPPED | SKIPPED | WARN | SKIPPED | +-------------------------------+--------------------+-------------------+-------------------------+----------------------+-------------------+------------------+ | Fedora Linux 42 | PASS | SKIPPED | SKIPPED | SKIPPED | WARN | PASS | +-------------------------------+--------------------+-------------------+-------------------------+----------------------+-------------------+------------------+ | openSUSE Leap 15.6 | PASS | SKIPPED | SKIPPED | SKIPPED | SKIPPED | SKIPPED | +-------------------------------+--------------------+-------------------+-------------------------+----------------------+-------------------+------------------+ | Red Hat Enterprise Linux 8.10 | PASS | SKIPPED | SKIPPED | SKIPPED | SKIPPED | SKIPPED | +-------------------------------+--------------------+-------------------+-------------------------+----------------------+-------------------+------------------+ | Red Hat Enterprise Linux 9.5 | PASS | SKIPPED | SKIPPED | SKIPPED | SKIPPED | SKIPPED | +-------------------------------+--------------------+-------------------+-------------------------+----------------------+-------------------+------------------+ | Ubuntu 22.04 | PASS | SKIPPED | SKIPPED | SKIPPED | WARN | SKIPPED | +-------------------------------+--------------------+-------------------+-------------------------+----------------------+-------------------+------------------+ | Ubuntu 24.04 | PASS | SKIPPED | SKIPPED | SKIPPED | WARN | PASS | +-------------------------------+--------------------+-------------------+-------------------------+----------------------+-------------------+------------------+ | Alpine Linux 3.22.0 | PASS | SKIPPED | SKIPPED | SKIPPED | SKIPPED | SKIPPED | +-------------------------------+--------------------+-------------------+-------------------------+----------------------+-------------------+------------------+ | Windows Server 2022 | SKIPPED | PASS | PASS | PASS | SKIPPED | SKIPPED | +-------------------------------+--------------------+-------------------+-------------------------+----------------------+-------------------+------------------+ ==== 20 line log output for Ubuntu 24.04 (dpdk_compile_spdk): ==== --- Failed to get log output --- ==== End log output ==== Ubuntu 20.04 Kernel: 4.19 Compiler: gcc gcc (Ubuntu 9.4.0-1ubuntu1~20.04.2) 9.4.0 FreeBSD 14.2 Kernel: 14.2-RELEASE Compiler: clang 18.1.6 CentOS Stream 9 Kernel: 5.15 Compiler: gcc gcc (GCC) 11.5.0 20240719 (Red Hat 11.5.0-11) CentOS Stream 10 Kernel: 5.15 Compiler: gcc gcc (GCC) 14.2.1 20250110 (Red Hat 14.2.1-8) Debian GNU/Linux 12 Kernel: 5.15 Compiler: gcc gcc (Debian 12.2.0-14+deb12u1) 12.2.0 Fedora Linux 42 Kernel: 5.15 Compiler: clang gcc (GCC) 15.2.1 20250808 (Red Hat 15.2.1-1) openSUSE Leap 15.6 Kernel: 5.15 Compiler: gcc gcc (SUSE Linux) 7.5.0 Red Hat Enterprise Linux 8.10 Kernel: 5.15 Compiler: gcc gcc (GCC) 8.5.0 20210514 (Red Hat 8.5.0-22) Red Hat Enterprise Linux 9.5 Kernel: 5.15 Compiler: gcc gcc (GCC) 11.5.0 20240719 (Red Hat 11.5.0-2) Ubuntu 22.04 Kernel: 5.15 Compiler: gcc gcc (Ubuntu 11.4.0-1ubuntu1~22.04) 11.4.0 Ubuntu 24.04 Kernel: 5.15 Compiler: gcc gcc (Ubuntu 13.3.0-6ubuntu2~24.04) 13.3.0 Alpine Linux 3.22.0 Kernel: 5.15 Compiler: gcc gcc (Alpine 14.2.0) 14.2.0 Windows Server 2022 Kernel: 10.0.20348.2031 Compiler: clang 15.0.7, gcc 14.1.0 (MinGW), and MSVC VS 19.39.33521 To view detailed results, visit: https://lab.dpdk.org/results/dashboard/patchsets/34420/ UNH-IOL DPDK Community Lab To manage your email subscriptions, visit: https://lab.dpdk.org/results/dashboard/preferences/subscriptions/