From mboxrd@z Thu Jan 1 00:00:00 1970 Return-Path: Received: from mails.dpdk.org (mails.dpdk.org [217.70.189.124]) by inbox.dpdk.org (Postfix) with ESMTP id 46D23489FC for ; Thu, 30 Oct 2025 00:39:34 +0100 (CET) Received: from mails.dpdk.org (localhost [127.0.0.1]) by mails.dpdk.org (Postfix) with ESMTP id 3F9994027A; Thu, 30 Oct 2025 00:39:34 +0100 (CET) Received: from mail-qt1-f225.google.com (mail-qt1-f225.google.com [209.85.160.225]) by mails.dpdk.org (Postfix) with ESMTP id A00784027A for ; Thu, 30 Oct 2025 00:39:32 +0100 (CET) Received: by mail-qt1-f225.google.com with SMTP id d75a77b69052e-4eba5b415b8so1888741cf.2 for ; Wed, 29 Oct 2025 16:39:32 -0700 (PDT) DKIM-Signature: v=1; a=rsa-sha256; c=relaxed/relaxed; d=iol.unh.edu; s=unh-iol; t=1761781172; x=1762385972; darn=dpdk.org; h=cc:to:from:subject:message-id:date:from:to:cc:subject:date :message-id:reply-to; bh=EeI2GVpJmVJuMqrX3CBL9wX4uLxF+PgKjTLwuxS459Q=; b=Frh0Zgh+sRGtJbRm78BP5hnCneP+ZjezpBq3vm8kGfwoaH/r6XUZDAc+JNOocJ/49P jXA+JA5zINTWQCTOc+K8LGz3MJddq/4G3YbQSbtEEgt3JwOQuPLEREmaJqS7T3qEif9W kCHpajirlSgRJTFixrwKRyqHynbWCPr+z4+MY= X-Google-DKIM-Signature: v=1; a=rsa-sha256; c=relaxed/relaxed; d=1e100.net; s=20230601; t=1761781172; x=1762385972; h=cc:to:from:subject:message-id:date:x-gm-message-state:from:to:cc :subject:date:message-id:reply-to; bh=EeI2GVpJmVJuMqrX3CBL9wX4uLxF+PgKjTLwuxS459Q=; b=hDzMLOnLEurF8r1gkYQv/DhK4wp+6HtOw3RGzkhNWs2TVL6bEh/PgQ/JB70fBdQW/l 1MM18SeWcYBgFYlTm9MsCd89YP3Fo8xHWPYA7b7wtSDm0r24lyue1wU4ut55zWQBSqnj +bycOvtfphvtDtM+yR+HKNjX00aKRAJqjJtp/H4d5eXOETP3f2Nx4z+hsuDSUUsLsUrm 9t/G53JuHju906P/si9iodU4wuyDOUuPI39foAwgPBKdr5f3zaPRAfYbt1GWHAhKJRrz awPzaonbon8UrkydkvGGGKRbOcwB+JMAQH0KcbI8070h0KKpn6wQoz9SE5wuqz+inUni A6PQ== X-Gm-Message-State: AOJu0YwkPPxy/zTBnU7w/tNykkK/hwPCqfIL08rAjIHJdobV9D635U98 KhA/4bDIISyPpcMzV05PmHK5m4rDUyHC7Qu0dEwN5WWFY1iMLwFcwQQV5li7Qzub4B7s9FMOrW4 Hy9cJsAOZlUgwcZPO30LFr8PkMmYs5MooHmfNEtpWffD/eJqjerGR X-Gm-Gg: ASbGncuthf5/xJ8TYTGd9TK+DkyPEAih7quJBnbDxt1xcKfwnioDz0zewK1z8vIu5JT vmNROWC3PTgRCp4Kev1SgCO0ByZtaGf8RIRSev4wGDIz+e7f+r8QITdLo1/6RxTMirmWHg4eel3 4uTdNMKoqOc6d/9eDvJO5bbKvLKo9PViIWlcd9tpxNUS3nrlXMWwJZcAc8h/VtmyuAzqKOK1+KH zj2Mjn4IcPzy6Ta+VadNLjGiv3pLuQbSO+4RXw/natPvOPiZbpHU3nrPSlD04eG648oLvb/AIqJ i7Ia10WzQKPJlZNS4AMnYvHx4lvSxcDdRi+xd+QklcsBcd8+gpyqrI23wIYzGZJEOYIUtBwarmN GsvLvOg3e X-Google-Smtp-Source: AGHT+IHEF6qU+mxttC1e4tztxoowHxpnAqTP6VNYtfk+39mU87Aaj59YtHuZLIXOfLNkUhnTZR8BCCBk3uYz X-Received: by 2002:a05:622a:2d1:b0:4eb:90c0:5e10 with SMTP id d75a77b69052e-4ed229b2926mr15635491cf.2.1761781171906; Wed, 29 Oct 2025 16:39:31 -0700 (PDT) Received: from postal.iol.unh.edu (postal.iol.unh.edu. [2606:4100:3880:1234::84]) by smtp-relay.gmail.com with ESMTPS id 6a1803df08f44-87fc48f8526sm15205736d6.9.2025.10.29.16.39.31 (version=TLS1_2 cipher=ECDHE-ECDSA-AES128-GCM-SHA256 bits=128/128); Wed, 29 Oct 2025 16:39:31 -0700 (PDT) X-Relaying-Domain: iol.unh.edu Date: Wed, 29 Oct 2025 16:39:31 -0700 (PDT) Message-ID: <6902a5b3.050a0220.3152c7.8a71SMTPIN_ADDED_MISSING@mx.google.com> Received: from [172.21.0.3] (unknown [172.18.0.240]) by postal.iol.unh.edu (Postfix) with ESMTP id 97F236051830; Wed, 29 Oct 2025 19:39:31 -0400 (EDT) Subject: |WARNING| [GIT MASTER] 62f583c49bf67dd4d6733ece14e55fe6839e66d1 From: dpdklab@iol.unh.edu To: Test Report Cc: dpdk-test-reports@iol.unh.edu, Xueming Li , Christian Ehrhardt , Kevin Traynor , Luca Boccassi Content-Type: text/plain X-BeenThere: test-report@dpdk.org X-Mailman-Version: 2.1.29 Precedence: list List-Id: automatic DPDK test reports List-Unsubscribe: , List-Archive: List-Post: List-Help: List-Subscribe: , Errors-To: test-report-bounces@dpdk.org _Testing issues_ Branch: tags/v23.11 62f583c49bf67dd4d6733ece14e55fe6839e66d1 --> testing issues Upstream job id: Generic-Unit-Test-DPDK#386562 Test environment and result as below: +------------------------------+--------------+---------------------------+------------------------------+----------------+ | Environment | lpm_autotest | cryptodev_sw_zuc_autotest | cryptodev_sw_snow3g_autotest | dpdk_unit_test | +==============================+==============+===========================+==============================+================+ | Ubuntu 20.04 | PASS | SKIPPED | SKIPPED | PASS | +------------------------------+--------------+---------------------------+------------------------------+----------------+ | Debian 12 (arm) | SKIPPED | PASS | PASS | SKIPPED | +------------------------------+--------------+---------------------------+------------------------------+----------------+ | CentOS Stream 10 | SKIPPED | SKIPPED | SKIPPED | PASS | +------------------------------+--------------+---------------------------+------------------------------+----------------+ | Fedora Linux 40 | SKIPPED | SKIPPED | SKIPPED | PASS | +------------------------------+--------------+---------------------------+------------------------------+----------------+ | CentOS Stream 9 | SKIPPED | SKIPPED | SKIPPED | PASS | +------------------------------+--------------+---------------------------+------------------------------+----------------+ | Debian GNU/Linux 12 | SKIPPED | SKIPPED | SKIPPED | PASS | +------------------------------+--------------+---------------------------+------------------------------+----------------+ | Fedora Linux 41 | SKIPPED | SKIPPED | SKIPPED | PASS | +------------------------------+--------------+---------------------------+------------------------------+----------------+ | Fedora Linux 42 | SKIPPED | SKIPPED | SKIPPED | PASS | +------------------------------+--------------+---------------------------+------------------------------+----------------+ | Red Hat Enterprise Linux 9.5 | SKIPPED | SKIPPED | SKIPPED | PASS | +------------------------------+--------------+---------------------------+------------------------------+----------------+ | Ubuntu 24.04 | SKIPPED | SKIPPED | SKIPPED | PASS | +------------------------------+--------------+---------------------------+------------------------------+----------------+ | Ubuntu 22.04 | SKIPPED | SKIPPED | SKIPPED | PASS | +------------------------------+--------------+---------------------------+------------------------------+----------------+ Ubuntu 20.04 Kernel: 5.4 Compiler: gcc gcc (Ubuntu 9.4.0-1ubuntu1~20.04.2) 9.4.0 Debian 12 (arm) Kernel: Depends on container host Compiler: gcc (Debian 12.2.0-14) 12.2.0 CentOS Stream 10 Kernel: 5.4 Compiler: gcc gcc (GCC) 14.2.1 20250110 (Red Hat 14.2.1-8) Fedora Linux 40 Kernel: 5.4 Compiler: clang gcc (GCC) 14.2.1 20240912 (Red Hat 14.2.1-3) CentOS Stream 9 Kernel: 5.4 Compiler: gcc gcc (GCC) 11.5.0 20240719 (Red Hat 11.5.0-11) Debian GNU/Linux 12 Kernel: 5.4 Compiler: gcc gcc (Debian 12.2.0-14+deb12u1) 12.2.0 Fedora Linux 41 Kernel: 5.4 Compiler: gcc gcc (GCC) 14.3.1 20250523 (Red Hat 14.3.1-1) Fedora Linux 42 Kernel: 5.4 Compiler: gcc gcc (GCC) 15.2.1 20250808 (Red Hat 15.2.1-1) Red Hat Enterprise Linux 9.5 Kernel: 5.4 Compiler: gcc gcc (GCC) 11.5.0 20240719 (Red Hat 11.5.0-2) Ubuntu 24.04 Kernel: 5.4 Compiler: gcc gcc (Ubuntu 13.3.0-6ubuntu2~24.04) 13.3.0 Ubuntu 22.04 Kernel: 5.4 Compiler: gcc gcc (Ubuntu 11.4.0-1ubuntu1~22.04) 11.4.0 To view detailed results, visit: https://lab.dpdk.org/results/dashboard/tarballs/35384/ UNH-IOL DPDK Community Lab To manage your email subscriptions, visit: https://lab.dpdk.org/results/dashboard/preferences/subscriptions/