* |PENDING| [GIT MASTER] 39b54f2dcf44ad1f91eabc7080cd5dea763607fd
@ 2025-10-30  0:26 dpdklab
  0 siblings, 0 replies; 19+ messages in thread
From: dpdklab @ 2025-10-30  0:26 UTC (permalink / raw)
  To: Test Report; +Cc: dpdk-test-reports
_Testing pending_
Branch: dpdk
39b54f2dcf44ad1f91eabc7080cd5dea763607fd --> testing pending
Upstream job id: Generic-Unit-Test-DPDK#386828
Test environment and result as below:
+------------------------------+---------------------------+----------------+--------------+------------------------------+
|         Environment          | cryptodev_sw_zuc_autotest | dpdk_unit_test | lpm_autotest | cryptodev_sw_snow3g_autotest |
+==============================+===========================+================+==============+==============================+
| Debian 12 (arm)              | PEND                      | SKIPPED        | SKIPPED      | PEND                         |
+------------------------------+---------------------------+----------------+--------------+------------------------------+
| CentOS Stream 9              | SKIPPED                   | PEND           | SKIPPED      | SKIPPED                      |
+------------------------------+---------------------------+----------------+--------------+------------------------------+
| CentOS Stream 10             | SKIPPED                   | PEND           | SKIPPED      | SKIPPED                      |
+------------------------------+---------------------------+----------------+--------------+------------------------------+
| Debian GNU/Linux 12          | SKIPPED                   | PEND           | SKIPPED      | SKIPPED                      |
+------------------------------+---------------------------+----------------+--------------+------------------------------+
| Fedora Linux 40              | SKIPPED                   | PEND           | SKIPPED      | SKIPPED                      |
+------------------------------+---------------------------+----------------+--------------+------------------------------+
| Fedora Linux 41              | SKIPPED                   | PEND           | SKIPPED      | SKIPPED                      |
+------------------------------+---------------------------+----------------+--------------+------------------------------+
| Red Hat Enterprise Linux 9.5 | SKIPPED                   | PEND           | SKIPPED      | SKIPPED                      |
+------------------------------+---------------------------+----------------+--------------+------------------------------+
| Fedora Linux 42              | SKIPPED                   | PEND           | SKIPPED      | SKIPPED                      |
+------------------------------+---------------------------+----------------+--------------+------------------------------+
| Ubuntu 22.04                 | SKIPPED                   | PEND           | SKIPPED      | SKIPPED                      |
+------------------------------+---------------------------+----------------+--------------+------------------------------+
| Ubuntu 20.04                 | SKIPPED                   | PEND           | PASS         | SKIPPED                      |
+------------------------------+---------------------------+----------------+--------------+------------------------------+
| Ubuntu 24.04                 | SKIPPED                   | PEND           | SKIPPED      | SKIPPED                      |
+------------------------------+---------------------------+----------------+--------------+------------------------------+
Debian 12 (arm)
	Kernel: Depends on container host
	Compiler: gcc (Debian 12.2.0-14) 12.2.0
CentOS Stream 9
	Kernel: 5.4
	Compiler: gcc gcc (GCC) 11.5.0 20240719 (Red Hat 11.5.0-11)
CentOS Stream 10
	Kernel: 5.4
	Compiler: gcc gcc (GCC) 14.2.1 20250110 (Red Hat 14.2.1-8)
Debian GNU/Linux 12
	Kernel: 5.4
	Compiler: gcc gcc (Debian 12.2.0-14+deb12u1) 12.2.0
Fedora Linux 40
	Kernel: 5.4
	Compiler: gcc gcc (GCC) 14.2.1 20240912 (Red Hat 14.2.1-3)
Fedora Linux 41
	Kernel: 5.4
	Compiler: gcc gcc (GCC) 14.3.1 20250523 (Red Hat 14.3.1-1)
Red Hat Enterprise Linux 9.5
	Kernel: 5.4
	Compiler: gcc gcc (GCC) 11.5.0 20240719 (Red Hat 11.5.0-2)
Fedora Linux 42
	Kernel: 5.4
	Compiler: clang gcc (GCC) 15.2.1 20250808 (Red Hat 15.2.1-1)
Ubuntu 22.04
	Kernel: 5.4
	Compiler: gcc gcc (Ubuntu 11.4.0-1ubuntu1~22.04) 11.4.0
Ubuntu 20.04
	Kernel: 5.4
	Compiler: gcc gcc (Ubuntu 9.4.0-1ubuntu1~20.04.2) 9.4.0
Ubuntu 24.04
	Kernel: 5.4
	Compiler: gcc gcc (Ubuntu 13.3.0-6ubuntu2~24.04) 13.3.0
To view detailed results, visit:
https://lab.dpdk.org/results/dashboard/tarballs/35394/
UNH-IOL DPDK Community Lab
To manage your email subscriptions, visit: 
https://lab.dpdk.org/results/dashboard/preferences/subscriptions/
^ permalink raw reply	[flat|nested] 19+ messages in thread
* |PENDING| [GIT MASTER] 39b54f2dcf44ad1f91eabc7080cd5dea763607fd
@ 2025-10-30  0:23 dpdklab
  0 siblings, 0 replies; 19+ messages in thread
From: dpdklab @ 2025-10-30  0:23 UTC (permalink / raw)
  To: Test Report; +Cc: dpdk-test-reports
_Testing pending_
Branch: dpdk
39b54f2dcf44ad1f91eabc7080cd5dea763607fd --> testing pending
Upstream job id: Template-DTS-Pipeline#252050
Test environment and result as below:
+--------------+----------------------+----------------------+
| Environment  | dpdk_fips_validation | compressdev_zlib_pmd |
+==============+======================+======================+
| Ubuntu 20.04 | PEND                 | SKIPPED              |
+--------------+----------------------+----------------------+
| Ubuntu 22.04 | SKIPPED              | PASS                 |
+--------------+----------------------+----------------------+
Ubuntu 20.04
	Kernel: 5.15
	Compiler: gcc gcc (Ubuntu 9.4.0-1ubuntu1~20.04.2) 9.4.0
Ubuntu 22.04
	Kernel: 5.15
	Compiler: gcc gcc (Ubuntu 11.4.0-1ubuntu1~22.04.2) 11.4.0
To view detailed results, visit:
https://lab.dpdk.org/results/dashboard/tarballs/35394/
UNH-IOL DPDK Community Lab
To manage your email subscriptions, visit: 
https://lab.dpdk.org/results/dashboard/preferences/subscriptions/
^ permalink raw reply	[flat|nested] 19+ messages in thread
* |PENDING| [GIT MASTER] 39b54f2dcf44ad1f91eabc7080cd5dea763607fd
@ 2025-10-30  0:20 dpdklab
  0 siblings, 0 replies; 19+ messages in thread
From: dpdklab @ 2025-10-30  0:20 UTC (permalink / raw)
  To: Test Report; +Cc: dpdk-test-reports
_Testing pending_
Branch: dpdk
39b54f2dcf44ad1f91eabc7080cd5dea763607fd --> testing pending
Upstream job id: Generic-DPDK-Compile-Meson#439175
Test environment and result as below:
+------------------------------+--------------------+
|         Environment          | dpdk_meson_compile |
+==============================+====================+
| Ubuntu 20.04                 | PEND               |
+------------------------------+--------------------+
| Red Hat Enterprise Linux 9.5 | PEND               |
+------------------------------+--------------------+
| Fedora Linux 42              | PEND               |
+------------------------------+--------------------+
| Debian GNU/Linux 12          | PEND               |
+------------------------------+--------------------+
| Ubuntu 22.04                 | PEND               |
+------------------------------+--------------------+
| Ubuntu 24.04                 | PEND               |
+------------------------------+--------------------+
| CentOS Stream 9              | PEND               |
+------------------------------+--------------------+
| CentOS Stream 10             | PEND               |
+------------------------------+--------------------+
Ubuntu 20.04
	Kernel: 5.15
	Compiler: aarch64-linux-gnu-gcc gcc (Ubuntu 9.4.0-1ubuntu1~20.04.2) 9.4.0
Red Hat Enterprise Linux 9.5
	Kernel: 5.4
	Compiler: gcc gcc (GCC) 11.5.0 20240719 (Red Hat 11.5.0-2)
Fedora Linux 42
	Kernel: 5.4
	Compiler: gcc gcc (GCC) 15.2.1 20250808 (Red Hat 15.2.1-1)
Debian GNU/Linux 12
	Kernel: 5.4
	Compiler: gcc gcc (Debian 12.2.0-14+deb12u1) 12.2.0
Ubuntu 22.04
	Kernel: 5.4
	Compiler: gcc gcc (Ubuntu 11.4.0-1ubuntu1~22.04) 11.4.0
Ubuntu 24.04
	Kernel: 5.4
	Compiler: gcc gcc (Ubuntu 13.3.0-6ubuntu2~24.04) 13.3.0
CentOS Stream 9
	Kernel: 5.4
	Compiler: gcc gcc (GCC) 11.5.0 20240719 (Red Hat 11.5.0-11)
CentOS Stream 10
	Kernel: 5.4
	Compiler: gcc gcc (GCC) 14.2.1 20250110 (Red Hat 14.2.1-8)
To view detailed results, visit:
https://lab.dpdk.org/results/dashboard/tarballs/35394/
UNH-IOL DPDK Community Lab
To manage your email subscriptions, visit: 
https://lab.dpdk.org/results/dashboard/preferences/subscriptions/
^ permalink raw reply	[flat|nested] 19+ messages in thread
* |PENDING| [GIT MASTER] 39b54f2dcf44ad1f91eabc7080cd5dea763607fd
@ 2025-10-30  0:12 dpdklab
  0 siblings, 0 replies; 19+ messages in thread
From: dpdklab @ 2025-10-30  0:12 UTC (permalink / raw)
  To: Test Report; +Cc: dpdk-test-reports
_Testing pending_
Branch: dpdk
39b54f2dcf44ad1f91eabc7080cd5dea763607fd --> testing pending
Upstream job id: Generic-Unit-Test-DPDK#386834
Test environment and result as below:
+-------------------------------+----------------+
|          Environment          | dpdk_unit_test |
+===============================+================+
| Arch Linux 20250613.0.365270  | PEND           |
+-------------------------------+----------------+
| CentOS Stream 9               | PEND           |
+-------------------------------+----------------+
| Debian GNU/Linux 12           | PASS           |
+-------------------------------+----------------+
| CentOS Stream 10              | PEND           |
+-------------------------------+----------------+
| Fedora Linux 40               | PEND           |
+-------------------------------+----------------+
| Fedora Linux 41               | PEND           |
+-------------------------------+----------------+
| Red Hat Enterprise Linux 8.10 | PEND           |
+-------------------------------+----------------+
| Red Hat Enterprise Linux 9.5  | PEND           |
+-------------------------------+----------------+
| Ubuntu 24.04                  | PEND           |
+-------------------------------+----------------+
| Fedora Linux 42               | PEND           |
+-------------------------------+----------------+
| Ubuntu 20.04                  | PEND           |
+-------------------------------+----------------+
| Ubuntu 22.04                  | PEND           |
+-------------------------------+----------------+
| Windows Server 2022           | PEND           |
+-------------------------------+----------------+
Arch Linux 20250613.0.365270
	Kernel: 5.15
	Compiler: gcc gcc (GCC) 15.1.1 20250425
CentOS Stream 9
	Kernel: 5.15
	Compiler: gcc gcc (GCC) 11.5.0 20240719 (Red Hat 11.5.0-11)
Debian GNU/Linux 12
	Kernel: 5.15
	Compiler: gcc gcc (Debian 12.2.0-14+deb12u1) 12.2.0
CentOS Stream 10
	Kernel: 5.15
	Compiler: gcc gcc (GCC) 14.2.1 20250110 (Red Hat 14.2.1-8)
Fedora Linux 40
	Kernel: 5.15
	Compiler: gcc gcc (GCC) 14.2.1 20240912 (Red Hat 14.2.1-3)
Fedora Linux 41
	Kernel: 5.15
	Compiler: clang gcc (GCC) 14.3.1 20250523 (Red Hat 14.3.1-1)
Red Hat Enterprise Linux 8.10
	Kernel: 5.15
	Compiler: gcc gcc (GCC) 8.5.0 20210514 (Red Hat 8.5.0-22)
Red Hat Enterprise Linux 9.5
	Kernel: 5.15
	Compiler: gcc gcc (GCC) 11.5.0 20240719 (Red Hat 11.5.0-2)
Ubuntu 24.04
	Kernel: 5.15
	Compiler: gcc gcc (Ubuntu 13.3.0-6ubuntu2~24.04) 13.3.0
Fedora Linux 42
	Kernel: 5.15
	Compiler: gcc gcc (GCC) 15.2.1 20250808 (Red Hat 15.2.1-1)
Ubuntu 20.04
	Kernel: 5.15
	Compiler: gcc gcc (Ubuntu 9.4.0-1ubuntu1~20.04.2) 9.4.0
Ubuntu 22.04
	Kernel: 5.15
	Compiler: gcc gcc (Ubuntu 11.4.0-1ubuntu1~22.04) 11.4.0
Windows Server 2022
	Kernel: 10.0.20348.2031
	Compiler: clang 15.0.7, gcc 14.1.0 (MinGW), and MSVC VS 19.39.33521
To view detailed results, visit:
https://lab.dpdk.org/results/dashboard/tarballs/35394/
UNH-IOL DPDK Community Lab
To manage your email subscriptions, visit: 
https://lab.dpdk.org/results/dashboard/preferences/subscriptions/
^ permalink raw reply	[flat|nested] 19+ messages in thread
* |PENDING| [GIT MASTER] 39b54f2dcf44ad1f91eabc7080cd5dea763607fd
@ 2025-10-30  0:11 dpdklab
  0 siblings, 0 replies; 19+ messages in thread
From: dpdklab @ 2025-10-30  0:11 UTC (permalink / raw)
  To: Test Report; +Cc: dpdk-test-reports
_Testing pending_
Branch: dpdk
39b54f2dcf44ad1f91eabc7080cd5dea763607fd --> testing pending
Upstream job id: Generic-VM-DPDK-Compile-Meson#39360
Test environment and result as below:
+-------------------------------+--------------------+-------------------+------------------+-------------------------+-------------------+
|          Environment          | dpdk_meson_compile | dpdk_compile_spdk | dpdk_compile_ovs | dpdk_llvm_clang_compile | dpdk_msvc_compile |
+===============================+====================+===================+==================+=========================+===================+
| CentOS Stream 9               | PEND               | PEND              | SKIPPED          | SKIPPED                 | SKIPPED           |
+-------------------------------+--------------------+-------------------+------------------+-------------------------+-------------------+
| CentOS Stream 10              | PEND               | SKIPPED           | SKIPPED          | SKIPPED                 | SKIPPED           |
+-------------------------------+--------------------+-------------------+------------------+-------------------------+-------------------+
| Debian GNU/Linux 12           | PEND               | PEND              | SKIPPED          | SKIPPED                 | SKIPPED           |
+-------------------------------+--------------------+-------------------+------------------+-------------------------+-------------------+
| Fedora Linux 42               | PEND               | PEND              | PEND             | SKIPPED                 | SKIPPED           |
+-------------------------------+--------------------+-------------------+------------------+-------------------------+-------------------+
| Ubuntu 20.04                  | PEND               | SKIPPED           | SKIPPED          | SKIPPED                 | SKIPPED           |
+-------------------------------+--------------------+-------------------+------------------+-------------------------+-------------------+
| openSUSE Leap 15.6            | PEND               | SKIPPED           | SKIPPED          | SKIPPED                 | SKIPPED           |
+-------------------------------+--------------------+-------------------+------------------+-------------------------+-------------------+
| Red Hat Enterprise Linux 8.10 | PEND               | SKIPPED           | SKIPPED          | SKIPPED                 | SKIPPED           |
+-------------------------------+--------------------+-------------------+------------------+-------------------------+-------------------+
| Ubuntu 24.04                  | PEND               | PEND              | PEND             | SKIPPED                 | SKIPPED           |
+-------------------------------+--------------------+-------------------+------------------+-------------------------+-------------------+
| Ubuntu 22.04                  | PEND               | PEND              | SKIPPED          | SKIPPED                 | SKIPPED           |
+-------------------------------+--------------------+-------------------+------------------+-------------------------+-------------------+
| Red Hat Enterprise Linux 9.5  | PEND               | SKIPPED           | SKIPPED          | SKIPPED                 | SKIPPED           |
+-------------------------------+--------------------+-------------------+------------------+-------------------------+-------------------+
| Alpine Linux 3.22.0           | PEND               | SKIPPED           | SKIPPED          | SKIPPED                 | SKIPPED           |
+-------------------------------+--------------------+-------------------+------------------+-------------------------+-------------------+
| Arch Linux 20250613.0.365270  | PEND               | SKIPPED           | SKIPPED          | SKIPPED                 | SKIPPED           |
+-------------------------------+--------------------+-------------------+------------------+-------------------------+-------------------+
| FreeBSD 14.2                  | PEND               | SKIPPED           | SKIPPED          | SKIPPED                 | SKIPPED           |
+-------------------------------+--------------------+-------------------+------------------+-------------------------+-------------------+
| Windows Server 2022           | SKIPPED            | SKIPPED           | SKIPPED          | PEND                    | PEND              |
+-------------------------------+--------------------+-------------------+------------------+-------------------------+-------------------+
CentOS Stream 9
	Kernel: 5.15
	Compiler: gcc gcc (GCC) 11.5.0 20240719 (Red Hat 11.5.0-11)
CentOS Stream 10
	Kernel: 5.15
	Compiler: gcc gcc (GCC) 14.2.1 20250110 (Red Hat 14.2.1-8)
Debian GNU/Linux 12
	Kernel: 5.15
	Compiler: gcc gcc (Debian 12.2.0-14+deb12u1) 12.2.0
Fedora Linux 42
	Kernel: 5.15
	Compiler: clang gcc (GCC) 15.2.1 20250808 (Red Hat 15.2.1-1)
Ubuntu 20.04
	Kernel: 4.19
	Compiler: gcc gcc (Ubuntu 9.4.0-1ubuntu1~20.04.2) 9.4.0
openSUSE Leap 15.6
	Kernel: 5.15
	Compiler: gcc gcc (SUSE Linux) 7.5.0
Red Hat Enterprise Linux 8.10
	Kernel: 5.15
	Compiler: gcc gcc (GCC) 8.5.0 20210514 (Red Hat 8.5.0-22)
Ubuntu 24.04
	Kernel: 5.15
	Compiler: gcc gcc (Ubuntu 13.3.0-6ubuntu2~24.04) 13.3.0
Ubuntu 22.04
	Kernel: 5.15
	Compiler: gcc gcc (Ubuntu 11.4.0-1ubuntu1~22.04) 11.4.0
Red Hat Enterprise Linux 9.5
	Kernel: 5.15
	Compiler: gcc gcc (GCC) 11.5.0 20240719 (Red Hat 11.5.0-2)
Alpine Linux 3.22.0
	Kernel: 5.15
	Compiler: gcc gcc (Alpine 14.2.0) 14.2.0
Arch Linux 20250613.0.365270
	Kernel: 5.15
	Compiler: gcc gcc (GCC) 15.1.1 20250425
FreeBSD 14.2
	Kernel: 14.2-RELEASE
	Compiler: clang 18.1.6
Windows Server 2022
	Kernel: 10.0.20348.2031
	Compiler: clang 15.0.7, gcc 14.1.0 (MinGW), and MSVC VS 19.39.33521
To view detailed results, visit:
https://lab.dpdk.org/results/dashboard/tarballs/35394/
UNH-IOL DPDK Community Lab
To manage your email subscriptions, visit: 
https://lab.dpdk.org/results/dashboard/preferences/subscriptions/
^ permalink raw reply	[flat|nested] 19+ messages in thread
* |PENDING| [GIT MASTER] 39b54f2dcf44ad1f91eabc7080cd5dea763607fd
@ 2025-10-28 23:45 dpdklab
  0 siblings, 0 replies; 19+ messages in thread
From: dpdklab @ 2025-10-28 23:45 UTC (permalink / raw)
  To: Test Report; +Cc: dpdk-test-reports
_Testing pending_
Branch: dpdk
39b54f2dcf44ad1f91eabc7080cd5dea763607fd --> testing pending
Upstream job id: Generic-Unit-Test-DPDK#386392
Test environment and result as below:
+-------------------------------+----------------+
|          Environment          | dpdk_unit_test |
+===============================+================+
| CentOS Stream 10              | PASS           |
+-------------------------------+----------------+
| CentOS Stream 9               | PEND           |
+-------------------------------+----------------+
| Fedora Linux 40               | PEND           |
+-------------------------------+----------------+
| Arch Linux 20250613.0.365270  | PEND           |
+-------------------------------+----------------+
| Debian GNU/Linux 12           | PEND           |
+-------------------------------+----------------+
| Fedora Linux 41               | PEND           |
+-------------------------------+----------------+
| Fedora Linux 42               | PEND           |
+-------------------------------+----------------+
| Ubuntu 20.04                  | PEND           |
+-------------------------------+----------------+
| Red Hat Enterprise Linux 8.10 | PEND           |
+-------------------------------+----------------+
| Ubuntu 22.04                  | PEND           |
+-------------------------------+----------------+
| Red Hat Enterprise Linux 9.5  | PEND           |
+-------------------------------+----------------+
| Ubuntu 24.04                  | PEND           |
+-------------------------------+----------------+
CentOS Stream 10
	Kernel: 5.15
	Compiler: gcc gcc (GCC) 14.2.1 20250110 (Red Hat 14.2.1-8)
CentOS Stream 9
	Kernel: 5.15
	Compiler: gcc gcc (GCC) 11.5.0 20240719 (Red Hat 11.5.0-11)
Fedora Linux 40
	Kernel: 5.15
	Compiler: gcc gcc (GCC) 14.2.1 20240912 (Red Hat 14.2.1-3)
Arch Linux 20250613.0.365270
	Kernel: 5.15
	Compiler: gcc gcc (GCC) 15.1.1 20250425
Debian GNU/Linux 12
	Kernel: 5.15
	Compiler: gcc gcc (Debian 12.2.0-14+deb12u1) 12.2.0
Fedora Linux 41
	Kernel: 5.15
	Compiler: gcc gcc (GCC) 14.3.1 20250523 (Red Hat 14.3.1-1)
Fedora Linux 42
	Kernel: 5.15
	Compiler: gcc gcc (GCC) 15.2.1 20250808 (Red Hat 15.2.1-1)
Ubuntu 20.04
	Kernel: 5.15
	Compiler: gcc gcc (Ubuntu 9.4.0-1ubuntu1~20.04.2) 9.4.0
Red Hat Enterprise Linux 8.10
	Kernel: 5.15
	Compiler: gcc gcc (GCC) 8.5.0 20210514 (Red Hat 8.5.0-22)
Ubuntu 22.04
	Kernel: 5.15
	Compiler: gcc gcc (Ubuntu 11.4.0-1ubuntu1~22.04) 11.4.0
Red Hat Enterprise Linux 9.5
	Kernel: 5.15
	Compiler: gcc gcc (GCC) 11.5.0 20240719 (Red Hat 11.5.0-2)
Ubuntu 24.04
	Kernel: 5.15
	Compiler: gcc gcc (Ubuntu 13.3.0-6ubuntu2~24.04) 13.3.0
To view detailed results, visit:
https://lab.dpdk.org/results/dashboard/tarballs/35379/
UNH-IOL DPDK Community Lab
To manage your email subscriptions, visit: 
https://lab.dpdk.org/results/dashboard/preferences/subscriptions/
^ permalink raw reply	[flat|nested] 19+ messages in thread
* |PENDING| [GIT MASTER] 39b54f2dcf44ad1f91eabc7080cd5dea763607fd
@ 2025-10-28 23:09 dpdklab
  0 siblings, 0 replies; 19+ messages in thread
From: dpdklab @ 2025-10-28 23:09 UTC (permalink / raw)
  To: Test Report; +Cc: dpdk-test-reports
_Testing pending_
Branch: dpdk
39b54f2dcf44ad1f91eabc7080cd5dea763607fd --> testing pending
Upstream job id: Generic-DPDK-Compile-Meson#438777
Test environment and result as below:
+------------------------------+--------------------+
|         Environment          | dpdk_meson_compile |
+==============================+====================+
| Red Hat Enterprise Linux 9.5 | PEND               |
+------------------------------+--------------------+
| Ubuntu 20.04                 | PEND               |
+------------------------------+--------------------+
| Debian GNU/Linux 12          | PEND               |
+------------------------------+--------------------+
| Fedora Linux 42              | PEND               |
+------------------------------+--------------------+
| Ubuntu 22.04                 | PEND               |
+------------------------------+--------------------+
| Ubuntu 24.04                 | PEND               |
+------------------------------+--------------------+
| CentOS Stream 9              | PEND               |
+------------------------------+--------------------+
| CentOS Stream 10             | PEND               |
+------------------------------+--------------------+
Red Hat Enterprise Linux 9.5
	Kernel: 5.4
	Compiler: gcc gcc (GCC) 11.5.0 20240719 (Red Hat 11.5.0-2)
Ubuntu 20.04
	Kernel: 5.15
	Compiler: aarch64-linux-gnu-gcc gcc (Ubuntu 9.4.0-1ubuntu1~20.04.2) 9.4.0
Debian GNU/Linux 12
	Kernel: 5.4
	Compiler: gcc gcc (Debian 12.2.0-14+deb12u1) 12.2.0
Fedora Linux 42
	Kernel: 5.4
	Compiler: gcc gcc (GCC) 15.2.1 20250808 (Red Hat 15.2.1-1)
Ubuntu 22.04
	Kernel: 5.4
	Compiler: gcc gcc (Ubuntu 11.4.0-1ubuntu1~22.04) 11.4.0
Ubuntu 24.04
	Kernel: 5.4
	Compiler: gcc gcc (Ubuntu 13.3.0-6ubuntu2~24.04) 13.3.0
CentOS Stream 9
	Kernel: 5.4
	Compiler: gcc gcc (GCC) 11.5.0 20240719 (Red Hat 11.5.0-11)
CentOS Stream 10
	Kernel: 5.4
	Compiler: gcc gcc (GCC) 14.2.1 20250110 (Red Hat 14.2.1-8)
To view detailed results, visit:
https://lab.dpdk.org/results/dashboard/tarballs/35379/
UNH-IOL DPDK Community Lab
To manage your email subscriptions, visit: 
https://lab.dpdk.org/results/dashboard/preferences/subscriptions/
^ permalink raw reply	[flat|nested] 19+ messages in thread
* |PENDING| [GIT MASTER] 39b54f2dcf44ad1f91eabc7080cd5dea763607fd
@ 2025-10-28 19:46 dpdklab
  0 siblings, 0 replies; 19+ messages in thread
From: dpdklab @ 2025-10-28 19:46 UTC (permalink / raw)
  To: Test Report; +Cc: dpdk-test-reports
_Testing pending_
Branch: dpdk
39b54f2dcf44ad1f91eabc7080cd5dea763607fd --> testing pending
Upstream job id: Aarch32-Unit-Test#8012
Test environment and result as below:
+------------------------------+---------------------------+--------------+------------------------------+----------------+
|         Environment          | cryptodev_sw_zuc_autotest | lpm_autotest | cryptodev_sw_snow3g_autotest | dpdk_unit_test |
+==============================+===========================+==============+==============================+================+
| Debian 12 (arm)              | PEND                      | SKIPPED      | PEND                         | SKIPPED        |
+------------------------------+---------------------------+--------------+------------------------------+----------------+
| Ubuntu 20.04                 | SKIPPED                   | PEND         | SKIPPED                      | PEND           |
+------------------------------+---------------------------+--------------+------------------------------+----------------+
| CentOS Stream 10             | SKIPPED                   | SKIPPED      | SKIPPED                      | PEND           |
+------------------------------+---------------------------+--------------+------------------------------+----------------+
| CentOS Stream 9              | SKIPPED                   | SKIPPED      | SKIPPED                      | PEND           |
+------------------------------+---------------------------+--------------+------------------------------+----------------+
| Debian GNU/Linux 12          | SKIPPED                   | SKIPPED      | SKIPPED                      | PEND           |
+------------------------------+---------------------------+--------------+------------------------------+----------------+
| Fedora Linux 40              | SKIPPED                   | SKIPPED      | SKIPPED                      | PEND           |
+------------------------------+---------------------------+--------------+------------------------------+----------------+
| Fedora Linux 41              | SKIPPED                   | SKIPPED      | SKIPPED                      | PEND           |
+------------------------------+---------------------------+--------------+------------------------------+----------------+
| Fedora Linux 42              | SKIPPED                   | SKIPPED      | SKIPPED                      | PEND           |
+------------------------------+---------------------------+--------------+------------------------------+----------------+
| Red Hat Enterprise Linux 9.5 | SKIPPED                   | SKIPPED      | SKIPPED                      | PEND           |
+------------------------------+---------------------------+--------------+------------------------------+----------------+
| Ubuntu 24.04                 | SKIPPED                   | SKIPPED      | SKIPPED                      | PEND           |
+------------------------------+---------------------------+--------------+------------------------------+----------------+
| Ubuntu 22.04                 | SKIPPED                   | SKIPPED      | SKIPPED                      | PASS           |
+------------------------------+---------------------------+--------------+------------------------------+----------------+
Debian 12 (arm)
	Kernel: Depends on container host
	Compiler: gcc (Debian 12.2.0-14) 12.2.0
Ubuntu 20.04
	Kernel: 5.4
	Compiler: gcc gcc (Ubuntu 9.4.0-1ubuntu1~20.04.2) 9.4.0
CentOS Stream 10
	Kernel: 5.4
	Compiler: gcc gcc (GCC) 14.2.1 20250110 (Red Hat 14.2.1-8)
CentOS Stream 9
	Kernel: 5.4
	Compiler: gcc gcc (GCC) 11.5.0 20240719 (Red Hat 11.5.0-11)
Debian GNU/Linux 12
	Kernel: 5.4
	Compiler: gcc gcc (Debian 12.2.0-14+deb12u1) 12.2.0
Fedora Linux 40
	Kernel: 5.4
	Compiler: gcc gcc (GCC) 14.2.1 20240912 (Red Hat 14.2.1-3)
Fedora Linux 41
	Kernel: 5.4
	Compiler: gcc gcc (GCC) 14.3.1 20250523 (Red Hat 14.3.1-1)
Fedora Linux 42
	Kernel: 5.4
	Compiler: gcc gcc (GCC) 15.2.1 20250808 (Red Hat 15.2.1-1)
Red Hat Enterprise Linux 9.5
	Kernel: 5.4
	Compiler: gcc gcc (GCC) 11.5.0 20240719 (Red Hat 11.5.0-2)
Ubuntu 24.04
	Kernel: 5.4
	Compiler: gcc gcc (Ubuntu 13.3.0-6ubuntu2~24.04) 13.3.0
Ubuntu 22.04
	Kernel: 5.4
	Compiler: gcc gcc (Ubuntu 11.4.0-1ubuntu1~22.04) 11.4.0
To view detailed results, visit:
https://lab.dpdk.org/results/dashboard/tarballs/35379/
UNH-IOL DPDK Community Lab
To manage your email subscriptions, visit: 
https://lab.dpdk.org/results/dashboard/preferences/subscriptions/
^ permalink raw reply	[flat|nested] 19+ messages in thread
* |PENDING| [GIT MASTER] 39b54f2dcf44ad1f91eabc7080cd5dea763607fd
@ 2025-10-28 19:16 dpdklab
  0 siblings, 0 replies; 19+ messages in thread
From: dpdklab @ 2025-10-28 19:16 UTC (permalink / raw)
  To: Test Report; +Cc: dpdk-test-reports
_Testing pending_
Branch: dpdk
39b54f2dcf44ad1f91eabc7080cd5dea763607fd --> testing pending
Upstream job id: Generic-VM-DPDK-Compile-Meson#39330
Test environment and result as below:
+--------------+--------------------+
| Environment  | dpdk_meson_compile |
+==============+====================+
| Ubuntu 20.04 | PASS               |
+--------------+--------------------+
| FreeBSD 14.2 | PEND               |
+--------------+--------------------+
Ubuntu 20.04
	Kernel: 4.19
	Compiler: gcc gcc (Ubuntu 9.4.0-1ubuntu1~20.04.2) 9.4.0
FreeBSD 14.2
	Kernel: 14.2-RELEASE
	Compiler: clang 18.1.6
To view detailed results, visit:
https://lab.dpdk.org/results/dashboard/tarballs/35379/
UNH-IOL DPDK Community Lab
To manage your email subscriptions, visit: 
https://lab.dpdk.org/results/dashboard/preferences/subscriptions/
^ permalink raw reply	[flat|nested] 19+ messages in thread
* |PENDING| [GIT MASTER] 39b54f2dcf44ad1f91eabc7080cd5dea763607fd
@ 2025-10-27 19:28 dpdklab
  0 siblings, 0 replies; 19+ messages in thread
From: dpdklab @ 2025-10-27 19:28 UTC (permalink / raw)
  To: Test Report; +Cc: dpdk-test-reports
_Testing pending_
Branch: dpdk
39b54f2dcf44ad1f91eabc7080cd5dea763607fd --> testing pending
Upstream job id: Template-DTS-Pipeline#251479
Test environment and result as below:
+--------------+----------------------+----------------------+
| Environment  | dpdk_fips_validation | compressdev_zlib_pmd |
+==============+======================+======================+
| Ubuntu 20.04 | PEND                 | SKIPPED              |
+--------------+----------------------+----------------------+
| Ubuntu 22.04 | SKIPPED              | PASS                 |
+--------------+----------------------+----------------------+
Ubuntu 20.04
	Kernel: 5.15
	Compiler: gcc gcc (Ubuntu 9.4.0-1ubuntu1~20.04.2) 9.4.0
Ubuntu 22.04
	Kernel: 5.15
	Compiler: gcc gcc (Ubuntu 11.4.0-1ubuntu1~22.04.2) 11.4.0
To view detailed results, visit:
https://lab.dpdk.org/results/dashboard/tarballs/35355/
UNH-IOL DPDK Community Lab
To manage your email subscriptions, visit: 
https://lab.dpdk.org/results/dashboard/preferences/subscriptions/
^ permalink raw reply	[flat|nested] 19+ messages in thread
* |PENDING| [GIT MASTER] 39b54f2dcf44ad1f91eabc7080cd5dea763607fd
@ 2025-10-27 19:20 dpdklab
  0 siblings, 0 replies; 19+ messages in thread
From: dpdklab @ 2025-10-27 19:20 UTC (permalink / raw)
  To: Test Report; +Cc: dpdk-test-reports
_Testing pending_
Branch: dpdk
39b54f2dcf44ad1f91eabc7080cd5dea763607fd --> testing pending
Upstream job id: Generic-Unit-Test-DPDK#385707
Test environment and result as below:
+------------------------------+---------------------------+--------------+----------------+------------------------------+
|         Environment          | cryptodev_sw_zuc_autotest | lpm_autotest | dpdk_unit_test | cryptodev_sw_snow3g_autotest |
+==============================+===========================+==============+================+==============================+
| Debian 12 (arm)              | PASS                      | SKIPPED      | SKIPPED        | PEND                         |
+------------------------------+---------------------------+--------------+----------------+------------------------------+
| Ubuntu 20.04                 | SKIPPED                   | PEND         | PEND           | SKIPPED                      |
+------------------------------+---------------------------+--------------+----------------+------------------------------+
| Red Hat Enterprise Linux 9.5 | SKIPPED                   | SKIPPED      | PEND           | SKIPPED                      |
+------------------------------+---------------------------+--------------+----------------+------------------------------+
| Fedora Linux 40              | SKIPPED                   | SKIPPED      | PEND           | SKIPPED                      |
+------------------------------+---------------------------+--------------+----------------+------------------------------+
| Debian GNU/Linux 12          | SKIPPED                   | SKIPPED      | PEND           | SKIPPED                      |
+------------------------------+---------------------------+--------------+----------------+------------------------------+
| Fedora Linux 42              | SKIPPED                   | SKIPPED      | PEND           | SKIPPED                      |
+------------------------------+---------------------------+--------------+----------------+------------------------------+
| Fedora Linux 41              | SKIPPED                   | SKIPPED      | PEND           | SKIPPED                      |
+------------------------------+---------------------------+--------------+----------------+------------------------------+
| CentOS Stream 9              | SKIPPED                   | SKIPPED      | PEND           | SKIPPED                      |
+------------------------------+---------------------------+--------------+----------------+------------------------------+
| Ubuntu 22.04                 | SKIPPED                   | SKIPPED      | PEND           | SKIPPED                      |
+------------------------------+---------------------------+--------------+----------------+------------------------------+
| Ubuntu 24.04                 | SKIPPED                   | SKIPPED      | PEND           | SKIPPED                      |
+------------------------------+---------------------------+--------------+----------------+------------------------------+
| CentOS Stream 10             | SKIPPED                   | SKIPPED      | PEND           | SKIPPED                      |
+------------------------------+---------------------------+--------------+----------------+------------------------------+
Debian 12 (arm)
	Kernel: Depends on container host
	Compiler: gcc (Debian 12.2.0-14) 12.2.0
Ubuntu 20.04
	Kernel: 5.4
	Compiler: gcc gcc (Ubuntu 9.4.0-1ubuntu1~20.04.2) 9.4.0
Red Hat Enterprise Linux 9.5
	Kernel: 5.4
	Compiler: gcc gcc (GCC) 11.5.0 20240719 (Red Hat 11.5.0-2)
Fedora Linux 40
	Kernel: 5.4
	Compiler: clang gcc (GCC) 14.2.1 20240912 (Red Hat 14.2.1-3)
Debian GNU/Linux 12
	Kernel: 5.4
	Compiler: gcc gcc (Debian 12.2.0-14+deb12u1) 12.2.0
Fedora Linux 42
	Kernel: 5.4
	Compiler: clang gcc (GCC) 15.2.1 20250808 (Red Hat 15.2.1-1)
Fedora Linux 41
	Kernel: 5.4
	Compiler: clang gcc (GCC) 14.3.1 20250523 (Red Hat 14.3.1-1)
CentOS Stream 9
	Kernel: 5.4
	Compiler: gcc gcc (GCC) 11.5.0 20240719 (Red Hat 11.5.0-11)
Ubuntu 22.04
	Kernel: 5.4
	Compiler: gcc gcc (Ubuntu 11.4.0-1ubuntu1~22.04) 11.4.0
Ubuntu 24.04
	Kernel: 5.4
	Compiler: gcc gcc (Ubuntu 13.3.0-6ubuntu2~24.04) 13.3.0
CentOS Stream 10
	Kernel: 5.4
	Compiler: gcc gcc (GCC) 14.2.1 20250110 (Red Hat 14.2.1-8)
To view detailed results, visit:
https://lab.dpdk.org/results/dashboard/tarballs/35355/
UNH-IOL DPDK Community Lab
To manage your email subscriptions, visit: 
https://lab.dpdk.org/results/dashboard/preferences/subscriptions/
^ permalink raw reply	[flat|nested] 19+ messages in thread
* |PENDING| [GIT MASTER] 39b54f2dcf44ad1f91eabc7080cd5dea763607fd
@ 2025-10-27 19:19 dpdklab
  0 siblings, 0 replies; 19+ messages in thread
From: dpdklab @ 2025-10-27 19:19 UTC (permalink / raw)
  To: Test Report; +Cc: dpdk-test-reports
_Testing pending_
Branch: dpdk
39b54f2dcf44ad1f91eabc7080cd5dea763607fd --> testing pending
Upstream job id: Generic-DPDK-Compile-Meson#438138
Test environment and result as below:
+------------------------------+--------------------+
|         Environment          | dpdk_meson_compile |
+==============================+====================+
| Red Hat Enterprise Linux 9.5 | PEND               |
+------------------------------+--------------------+
| Debian GNU/Linux 12          | PEND               |
+------------------------------+--------------------+
| Ubuntu 20.04                 | PEND               |
+------------------------------+--------------------+
| Fedora Linux 42              | PEND               |
+------------------------------+--------------------+
| Ubuntu 22.04                 | PEND               |
+------------------------------+--------------------+
| CentOS Stream 9              | PEND               |
+------------------------------+--------------------+
| Ubuntu 24.04                 | PEND               |
+------------------------------+--------------------+
| CentOS Stream 10             | PEND               |
+------------------------------+--------------------+
Red Hat Enterprise Linux 9.5
	Kernel: 5.4
	Compiler: gcc gcc (GCC) 11.5.0 20240719 (Red Hat 11.5.0-2)
Debian GNU/Linux 12
	Kernel: 5.4
	Compiler: gcc gcc (Debian 12.2.0-14+deb12u1) 12.2.0
Ubuntu 20.04
	Kernel: 5.15
	Compiler: aarch64-linux-gnu-gcc gcc (Ubuntu 9.4.0-1ubuntu1~20.04.2) 9.4.0
Fedora Linux 42
	Kernel: 5.4
	Compiler: clang gcc (GCC) 15.2.1 20250808 (Red Hat 15.2.1-1)
Ubuntu 22.04
	Kernel: 5.4
	Compiler: gcc gcc (Ubuntu 11.4.0-1ubuntu1~22.04) 11.4.0
CentOS Stream 9
	Kernel: 5.4
	Compiler: gcc gcc (GCC) 11.5.0 20240719 (Red Hat 11.5.0-11)
Ubuntu 24.04
	Kernel: 5.4
	Compiler: gcc gcc (Ubuntu 13.3.0-6ubuntu2~24.04) 13.3.0
CentOS Stream 10
	Kernel: 5.4
	Compiler: gcc gcc (GCC) 14.2.1 20250110 (Red Hat 14.2.1-8)
To view detailed results, visit:
https://lab.dpdk.org/results/dashboard/tarballs/35355/
UNH-IOL DPDK Community Lab
To manage your email subscriptions, visit: 
https://lab.dpdk.org/results/dashboard/preferences/subscriptions/
^ permalink raw reply	[flat|nested] 19+ messages in thread
* |PENDING| [GIT MASTER] 39b54f2dcf44ad1f91eabc7080cd5dea763607fd
@ 2025-10-27 19:18 dpdklab
  0 siblings, 0 replies; 19+ messages in thread
From: dpdklab @ 2025-10-27 19:18 UTC (permalink / raw)
  To: Test Report; +Cc: dpdk-test-reports
_Testing pending_
Branch: dpdk
39b54f2dcf44ad1f91eabc7080cd5dea763607fd --> testing pending
Upstream job id: Generic-Unit-Test-DPDK#385683
Test environment and result as below:
+-------------------------------+----------------+
|          Environment          | dpdk_unit_test |
+===============================+================+
| Fedora Linux 40               | PEND           |
+-------------------------------+----------------+
| CentOS Stream 9               | PEND           |
+-------------------------------+----------------+
| Debian GNU/Linux 12           | PASS           |
+-------------------------------+----------------+
| Ubuntu 20.04                  | PEND           |
+-------------------------------+----------------+
| Fedora Linux 41               | PEND           |
+-------------------------------+----------------+
| Fedora Linux 42               | PEND           |
+-------------------------------+----------------+
| Ubuntu 22.04                  | PEND           |
+-------------------------------+----------------+
| Red Hat Enterprise Linux 9.5  | PEND           |
+-------------------------------+----------------+
| Arch Linux 20250613.0.365270  | PEND           |
+-------------------------------+----------------+
| Ubuntu 24.04                  | PEND           |
+-------------------------------+----------------+
| Red Hat Enterprise Linux 8.10 | PEND           |
+-------------------------------+----------------+
| CentOS Stream 10              | PEND           |
+-------------------------------+----------------+
| Windows Server 2022           | PEND           |
+-------------------------------+----------------+
Fedora Linux 40
	Kernel: 5.15
	Compiler: gcc gcc (GCC) 14.2.1 20240912 (Red Hat 14.2.1-3)
CentOS Stream 9
	Kernel: 5.15
	Compiler: gcc gcc (GCC) 11.5.0 20240719 (Red Hat 11.5.0-11)
Debian GNU/Linux 12
	Kernel: 5.15
	Compiler: gcc gcc (Debian 12.2.0-14+deb12u1) 12.2.0
Ubuntu 20.04
	Kernel: 5.15
	Compiler: gcc gcc (Ubuntu 9.4.0-1ubuntu1~20.04.2) 9.4.0
Fedora Linux 41
	Kernel: 5.15
	Compiler: gcc gcc (GCC) 14.3.1 20250523 (Red Hat 14.3.1-1)
Fedora Linux 42
	Kernel: 5.15
	Compiler: gcc gcc (GCC) 15.2.1 20250808 (Red Hat 15.2.1-1)
Ubuntu 22.04
	Kernel: 5.15
	Compiler: gcc gcc (Ubuntu 11.4.0-1ubuntu1~22.04) 11.4.0
Red Hat Enterprise Linux 9.5
	Kernel: 5.15
	Compiler: gcc gcc (GCC) 11.5.0 20240719 (Red Hat 11.5.0-2)
Arch Linux 20250613.0.365270
	Kernel: 5.15
	Compiler: gcc gcc (GCC) 15.1.1 20250425
Ubuntu 24.04
	Kernel: 5.15
	Compiler: gcc gcc (Ubuntu 13.3.0-6ubuntu2~24.04) 13.3.0
Red Hat Enterprise Linux 8.10
	Kernel: 5.15
	Compiler: gcc gcc (GCC) 8.5.0 20210514 (Red Hat 8.5.0-22)
CentOS Stream 10
	Kernel: 5.15
	Compiler: gcc gcc (GCC) 14.2.1 20250110 (Red Hat 14.2.1-8)
Windows Server 2022
	Kernel: 10.0.20348.2031
	Compiler: clang 15.0.7, gcc 14.1.0 (MinGW), and MSVC VS 19.39.33521
To view detailed results, visit:
https://lab.dpdk.org/results/dashboard/tarballs/35355/
UNH-IOL DPDK Community Lab
To manage your email subscriptions, visit: 
https://lab.dpdk.org/results/dashboard/preferences/subscriptions/
^ permalink raw reply	[flat|nested] 19+ messages in thread
* |PENDING| [GIT MASTER] 39b54f2dcf44ad1f91eabc7080cd5dea763607fd
@ 2025-10-27 19:17 dpdklab
  0 siblings, 0 replies; 19+ messages in thread
From: dpdklab @ 2025-10-27 19:17 UTC (permalink / raw)
  To: Test Report; +Cc: dpdk-test-reports
_Testing pending_
Branch: dpdk
39b54f2dcf44ad1f91eabc7080cd5dea763607fd --> testing pending
Upstream job id: Generic-VM-DPDK-Compile-Meson#39282
Test environment and result as below:
+-------------------------------+--------------------+-------------------+------------------+-------------------+-------------------------+
|          Environment          | dpdk_meson_compile | dpdk_compile_spdk | dpdk_compile_ovs | dpdk_msvc_compile | dpdk_llvm_clang_compile |
+===============================+====================+===================+==================+===================+=========================+
| CentOS Stream 9               | PEND               | PEND              | SKIPPED          | SKIPPED           | SKIPPED                 |
+-------------------------------+--------------------+-------------------+------------------+-------------------+-------------------------+
| FreeBSD 14.2                  | PEND               | SKIPPED           | SKIPPED          | SKIPPED           | SKIPPED                 |
+-------------------------------+--------------------+-------------------+------------------+-------------------+-------------------------+
| Ubuntu 20.04                  | PEND               | SKIPPED           | SKIPPED          | SKIPPED           | SKIPPED                 |
+-------------------------------+--------------------+-------------------+------------------+-------------------+-------------------------+
| Fedora Linux 42               | PEND               | PEND              | PEND             | SKIPPED           | SKIPPED                 |
+-------------------------------+--------------------+-------------------+------------------+-------------------+-------------------------+
| CentOS Stream 10              | PEND               | SKIPPED           | SKIPPED          | SKIPPED           | SKIPPED                 |
+-------------------------------+--------------------+-------------------+------------------+-------------------+-------------------------+
| Debian GNU/Linux 12           | PEND               | PEND              | SKIPPED          | SKIPPED           | SKIPPED                 |
+-------------------------------+--------------------+-------------------+------------------+-------------------+-------------------------+
| Red Hat Enterprise Linux 8.10 | PEND               | SKIPPED           | SKIPPED          | SKIPPED           | SKIPPED                 |
+-------------------------------+--------------------+-------------------+------------------+-------------------+-------------------------+
| Red Hat Enterprise Linux 9.5  | PEND               | SKIPPED           | SKIPPED          | SKIPPED           | SKIPPED                 |
+-------------------------------+--------------------+-------------------+------------------+-------------------+-------------------------+
| openSUSE Leap 15.6            | PEND               | SKIPPED           | SKIPPED          | SKIPPED           | SKIPPED                 |
+-------------------------------+--------------------+-------------------+------------------+-------------------+-------------------------+
| Ubuntu 22.04                  | PEND               | PEND              | SKIPPED          | SKIPPED           | SKIPPED                 |
+-------------------------------+--------------------+-------------------+------------------+-------------------+-------------------------+
| Ubuntu 24.04                  | PEND               | PEND              | PEND             | SKIPPED           | SKIPPED                 |
+-------------------------------+--------------------+-------------------+------------------+-------------------+-------------------------+
| Alpine Linux 3.22.0           | PEND               | SKIPPED           | SKIPPED          | SKIPPED           | SKIPPED                 |
+-------------------------------+--------------------+-------------------+------------------+-------------------+-------------------------+
| Arch Linux 20250613.0.365270  | PEND               | SKIPPED           | SKIPPED          | SKIPPED           | SKIPPED                 |
+-------------------------------+--------------------+-------------------+------------------+-------------------+-------------------------+
| Windows Server 2022           | SKIPPED            | SKIPPED           | SKIPPED          | PEND              | PEND                    |
+-------------------------------+--------------------+-------------------+------------------+-------------------+-------------------------+
CentOS Stream 9
	Kernel: 5.15
	Compiler: gcc gcc (GCC) 11.5.0 20240719 (Red Hat 11.5.0-11)
FreeBSD 14.2
	Kernel: 14.2-RELEASE
	Compiler: clang 18.1.6
Ubuntu 20.04
	Kernel: 4.19
	Compiler: gcc gcc (Ubuntu 9.4.0-1ubuntu1~20.04.2) 9.4.0
Fedora Linux 42
	Kernel: 5.15
	Compiler: gcc gcc (GCC) 15.2.1 20250808 (Red Hat 15.2.1-1)
CentOS Stream 10
	Kernel: 5.15
	Compiler: gcc gcc (GCC) 14.2.1 20250110 (Red Hat 14.2.1-8)
Debian GNU/Linux 12
	Kernel: 5.15
	Compiler: gcc gcc (Debian 12.2.0-14+deb12u1) 12.2.0
Red Hat Enterprise Linux 8.10
	Kernel: 5.15
	Compiler: gcc gcc (GCC) 8.5.0 20210514 (Red Hat 8.5.0-22)
Red Hat Enterprise Linux 9.5
	Kernel: 5.15
	Compiler: gcc gcc (GCC) 11.5.0 20240719 (Red Hat 11.5.0-2)
openSUSE Leap 15.6
	Kernel: 5.15
	Compiler: gcc gcc (SUSE Linux) 7.5.0
Ubuntu 22.04
	Kernel: 5.15
	Compiler: gcc gcc (Ubuntu 11.4.0-1ubuntu1~22.04) 11.4.0
Ubuntu 24.04
	Kernel: 5.15
	Compiler: gcc gcc (Ubuntu 13.3.0-6ubuntu2~24.04) 13.3.0
Alpine Linux 3.22.0
	Kernel: 5.15
	Compiler: gcc gcc (Alpine 14.2.0) 14.2.0
Arch Linux 20250613.0.365270
	Kernel: 5.15
	Compiler: gcc gcc (GCC) 15.1.1 20250425
Windows Server 2022
	Kernel: 10.0.20348.2031
	Compiler: clang 15.0.7, gcc 14.1.0 (MinGW), and MSVC VS 19.39.33521
To view detailed results, visit:
https://lab.dpdk.org/results/dashboard/tarballs/35355/
UNH-IOL DPDK Community Lab
To manage your email subscriptions, visit: 
https://lab.dpdk.org/results/dashboard/preferences/subscriptions/
^ permalink raw reply	[flat|nested] 19+ messages in thread
* |PENDING| [GIT MASTER] 39b54f2dcf44ad1f91eabc7080cd5dea763607fd
@ 2025-10-26  4:56 dpdklab
  0 siblings, 0 replies; 19+ messages in thread
From: dpdklab @ 2025-10-26  4:56 UTC (permalink / raw)
  To: Test Report; +Cc: dpdk-test-reports
_Testing pending_
Branch: dpdk
39b54f2dcf44ad1f91eabc7080cd5dea763607fd --> testing pending
Upstream job id: Generic-DPDK-Compile-Meson#437911
Test environment and result as below:
+------------------------------+--------------------+
|         Environment          | dpdk_meson_compile |
+==============================+====================+
| Red Hat Enterprise Linux 9.5 | PEND               |
+------------------------------+--------------------+
| Ubuntu 20.04                 | PEND               |
+------------------------------+--------------------+
| Debian GNU/Linux 12          | PEND               |
+------------------------------+--------------------+
Red Hat Enterprise Linux 9.5
	Kernel: 5.4
	Compiler: gcc gcc (GCC) 11.5.0 20240719 (Red Hat 11.5.0-2)
Ubuntu 20.04
	Kernel: 5.15
	Compiler: aarch64-linux-gnu-gcc gcc (Ubuntu 9.4.0-1ubuntu1~20.04.2) 9.4.0
Debian GNU/Linux 12
	Kernel: 5.4
	Compiler: gcc gcc (Debian 12.2.0-14+deb12u1) 12.2.0
To view detailed results, visit:
https://lab.dpdk.org/results/dashboard/tarballs/35346/
UNH-IOL DPDK Community Lab
To manage your email subscriptions, visit: 
https://lab.dpdk.org/results/dashboard/preferences/subscriptions/
^ permalink raw reply	[flat|nested] 19+ messages in thread
* |PENDING| [GIT MASTER] 39b54f2dcf44ad1f91eabc7080cd5dea763607fd
@ 2025-10-26  0:36 dpdklab
  0 siblings, 0 replies; 19+ messages in thread
From: dpdklab @ 2025-10-26  0:36 UTC (permalink / raw)
  To: Test Report; +Cc: dpdk-test-reports
_Testing pending_
Branch: dpdk
39b54f2dcf44ad1f91eabc7080cd5dea763607fd --> testing pending
Upstream job id: Aarch32-Unit-Test#7978
Test environment and result as below:
+------------------------------+----------------+--------------+------------------------------+---------------------------+
|         Environment          | dpdk_unit_test | lpm_autotest | cryptodev_sw_snow3g_autotest | cryptodev_sw_zuc_autotest |
+==============================+================+==============+==============================+===========================+
| Fedora Linux 40              | PEND           | SKIPPED      | SKIPPED                      | SKIPPED                   |
+------------------------------+----------------+--------------+------------------------------+---------------------------+
| Fedora Linux 41              | PEND           | SKIPPED      | SKIPPED                      | SKIPPED                   |
+------------------------------+----------------+--------------+------------------------------+---------------------------+
| Red Hat Enterprise Linux 9.5 | PEND           | SKIPPED      | SKIPPED                      | SKIPPED                   |
+------------------------------+----------------+--------------+------------------------------+---------------------------+
| Fedora Linux 42              | PEND           | SKIPPED      | SKIPPED                      | SKIPPED                   |
+------------------------------+----------------+--------------+------------------------------+---------------------------+
| CentOS Stream 10             | PEND           | SKIPPED      | SKIPPED                      | SKIPPED                   |
+------------------------------+----------------+--------------+------------------------------+---------------------------+
| Ubuntu 24.04                 | PEND           | SKIPPED      | SKIPPED                      | SKIPPED                   |
+------------------------------+----------------+--------------+------------------------------+---------------------------+
| Debian GNU/Linux 12          | PEND           | SKIPPED      | SKIPPED                      | SKIPPED                   |
+------------------------------+----------------+--------------+------------------------------+---------------------------+
| Ubuntu 20.04                 | PEND           | PEND         | SKIPPED                      | SKIPPED                   |
+------------------------------+----------------+--------------+------------------------------+---------------------------+
| CentOS Stream 9              | PEND           | SKIPPED      | SKIPPED                      | SKIPPED                   |
+------------------------------+----------------+--------------+------------------------------+---------------------------+
| Ubuntu 22.04                 | PEND           | SKIPPED      | SKIPPED                      | SKIPPED                   |
+------------------------------+----------------+--------------+------------------------------+---------------------------+
| Debian 12 (arm)              | SKIPPED        | SKIPPED      | PEND                         | PEND                      |
+------------------------------+----------------+--------------+------------------------------+---------------------------+
Fedora Linux 40
	Kernel: 5.4
	Compiler: clang gcc (GCC) 14.2.1 20240912 (Red Hat 14.2.1-3)
Fedora Linux 41
	Kernel: 5.4
	Compiler: clang gcc (GCC) 14.3.1 20250523 (Red Hat 14.3.1-1)
Red Hat Enterprise Linux 9.5
	Kernel: 5.4
	Compiler: gcc gcc (GCC) 11.5.0 20240719 (Red Hat 11.5.0-2)
Fedora Linux 42
	Kernel: 5.4
	Compiler: gcc gcc (GCC) 15.2.1 20250808 (Red Hat 15.2.1-1)
CentOS Stream 10
	Kernel: 5.4
	Compiler: gcc gcc (GCC) 14.2.1 20250110 (Red Hat 14.2.1-8)
Ubuntu 24.04
	Kernel: 5.4
	Compiler: gcc gcc (Ubuntu 13.3.0-6ubuntu2~24.04) 13.3.0
Debian GNU/Linux 12
	Kernel: 5.4
	Compiler: gcc gcc (Debian 12.2.0-14+deb12u1) 12.2.0
Ubuntu 20.04
	Kernel: 5.4
	Compiler: gcc gcc (Ubuntu 9.4.0-1ubuntu1~20.04.2) 9.4.0
CentOS Stream 9
	Kernel: 5.4
	Compiler: gcc gcc (GCC) 11.5.0 20240719 (Red Hat 11.5.0-11)
Ubuntu 22.04
	Kernel: 5.15
	Compiler: gcc gcc (Ubuntu 11.4.0-1ubuntu1~22.04.2) 11.4.0
Debian 12 (arm)
	Kernel: Depends on container host
	Compiler: gcc (Debian 12.2.0-14) 12.2.0
To view detailed results, visit:
https://lab.dpdk.org/results/dashboard/tarballs/35346/
UNH-IOL DPDK Community Lab
To manage your email subscriptions, visit: 
https://lab.dpdk.org/results/dashboard/preferences/subscriptions/
^ permalink raw reply	[flat|nested] 19+ messages in thread
* |PENDING| [GIT MASTER] 39b54f2dcf44ad1f91eabc7080cd5dea763607fd
@ 2025-10-26  0:22 dpdklab
  0 siblings, 0 replies; 19+ messages in thread
From: dpdklab @ 2025-10-26  0:22 UTC (permalink / raw)
  To: Test Report; +Cc: dpdk-test-reports
_Testing pending_
Branch: dpdk
39b54f2dcf44ad1f91eabc7080cd5dea763607fd --> testing pending
Upstream job id: Template-DTS-Pipeline#251353
Test environment and result as below:
+--------------+----------------------+----------------------+
| Environment  | dpdk_fips_validation | compressdev_zlib_pmd |
+==============+======================+======================+
| Ubuntu 20.04 | PEND                 | SKIPPED              |
+--------------+----------------------+----------------------+
| Ubuntu 22.04 | SKIPPED              | PASS                 |
+--------------+----------------------+----------------------+
Ubuntu 20.04
	Kernel: 5.15
	Compiler: gcc gcc (Ubuntu 9.4.0-1ubuntu1~20.04.2) 9.4.0
Ubuntu 22.04
	Kernel: 5.15
	Compiler: gcc gcc (Ubuntu 11.4.0-1ubuntu1~22.04.2) 11.4.0
To view detailed results, visit:
https://lab.dpdk.org/results/dashboard/tarballs/35346/
UNH-IOL DPDK Community Lab
To manage your email subscriptions, visit: 
https://lab.dpdk.org/results/dashboard/preferences/subscriptions/
^ permalink raw reply	[flat|nested] 19+ messages in thread
* |PENDING| [GIT MASTER] 39b54f2dcf44ad1f91eabc7080cd5dea763607fd
@ 2025-10-26  0:16 dpdklab
  0 siblings, 0 replies; 19+ messages in thread
From: dpdklab @ 2025-10-26  0:16 UTC (permalink / raw)
  To: Test Report; +Cc: dpdk-test-reports
_Testing pending_
Branch: dpdk
39b54f2dcf44ad1f91eabc7080cd5dea763607fd --> testing pending
Upstream job id: Generic-Unit-Test-DPDK#385410
Test environment and result as below:
+-------------------------------+----------------+
|          Environment          | dpdk_unit_test |
+===============================+================+
| Fedora Linux 42               | PEND           |
+-------------------------------+----------------+
| Fedora Linux 40               | PEND           |
+-------------------------------+----------------+
| CentOS Stream 9               | PEND           |
+-------------------------------+----------------+
| Fedora Linux 41               | PEND           |
+-------------------------------+----------------+
| Debian GNU/Linux 12           | PEND           |
+-------------------------------+----------------+
| Red Hat Enterprise Linux 9.5  | PEND           |
+-------------------------------+----------------+
| Red Hat Enterprise Linux 8.10 | PEND           |
+-------------------------------+----------------+
| Ubuntu 24.04                  | PEND           |
+-------------------------------+----------------+
| Ubuntu 20.04                  | PEND           |
+-------------------------------+----------------+
| Arch Linux 20250613.0.365270  | PEND           |
+-------------------------------+----------------+
| CentOS Stream 10              | PEND           |
+-------------------------------+----------------+
| Ubuntu 22.04                  | PEND           |
+-------------------------------+----------------+
| Windows Server 2022           | PEND           |
+-------------------------------+----------------+
Fedora Linux 42
	Kernel: 5.15
	Compiler: gcc gcc (GCC) 15.2.1 20250808 (Red Hat 15.2.1-1)
Fedora Linux 40
	Kernel: 5.15
	Compiler: gcc gcc (GCC) 14.2.1 20240912 (Red Hat 14.2.1-3)
CentOS Stream 9
	Kernel: 5.15
	Compiler: gcc gcc (GCC) 11.5.0 20240719 (Red Hat 11.5.0-11)
Fedora Linux 41
	Kernel: 5.15
	Compiler: clang gcc (GCC) 14.3.1 20250523 (Red Hat 14.3.1-1)
Debian GNU/Linux 12
	Kernel: 5.15
	Compiler: gcc gcc (Debian 12.2.0-14+deb12u1) 12.2.0
Red Hat Enterprise Linux 9.5
	Kernel: 5.15
	Compiler: gcc gcc (GCC) 11.5.0 20240719 (Red Hat 11.5.0-2)
Red Hat Enterprise Linux 8.10
	Kernel: 5.15
	Compiler: gcc gcc (GCC) 8.5.0 20210514 (Red Hat 8.5.0-22)
Ubuntu 24.04
	Kernel: 5.15
	Compiler: gcc gcc (Ubuntu 13.3.0-6ubuntu2~24.04) 13.3.0
Ubuntu 20.04
	Kernel: 5.15
	Compiler: gcc gcc (Ubuntu 9.4.0-1ubuntu1~20.04.2) 9.4.0
Arch Linux 20250613.0.365270
	Kernel: 5.15
	Compiler: gcc gcc (GCC) 15.1.1 20250425
CentOS Stream 10
	Kernel: 5.15
	Compiler: gcc gcc (GCC) 14.2.1 20250110 (Red Hat 14.2.1-8)
Ubuntu 22.04
	Kernel: 5.15
	Compiler: gcc gcc (Ubuntu 11.4.0-1ubuntu1~22.04) 11.4.0
Windows Server 2022
	Kernel: 10.0.20348.2031
	Compiler: clang 15.0.7, gcc 14.1.0 (MinGW), and MSVC VS 19.39.33521
To view detailed results, visit:
https://lab.dpdk.org/results/dashboard/tarballs/35346/
UNH-IOL DPDK Community Lab
To manage your email subscriptions, visit: 
https://lab.dpdk.org/results/dashboard/preferences/subscriptions/
^ permalink raw reply	[flat|nested] 19+ messages in thread
* |PENDING| [GIT MASTER] 39b54f2dcf44ad1f91eabc7080cd5dea763607fd
@ 2025-10-26  0:10 dpdklab
  0 siblings, 0 replies; 19+ messages in thread
From: dpdklab @ 2025-10-26  0:10 UTC (permalink / raw)
  To: Test Report; +Cc: dpdk-test-reports
_Testing pending_
Branch: dpdk
39b54f2dcf44ad1f91eabc7080cd5dea763607fd --> testing pending
Upstream job id: Generic-VM-DPDK-Compile-Meson#39264
Test environment and result as below:
+---------------------+--------------------+-------------------------+-------------------+
|     Environment     | dpdk_meson_compile | dpdk_llvm_clang_compile | dpdk_msvc_compile |
+=====================+====================+=========================+===================+
| Ubuntu 20.04        | PASS               | SKIPPED                 | SKIPPED           |
+---------------------+--------------------+-------------------------+-------------------+
| FreeBSD 14.2        | PEND               | SKIPPED                 | SKIPPED           |
+---------------------+--------------------+-------------------------+-------------------+
| Windows Server 2022 | SKIPPED            | PEND                    | PEND              |
+---------------------+--------------------+-------------------------+-------------------+
Ubuntu 20.04
	Kernel: 4.19
	Compiler: gcc gcc (Ubuntu 9.4.0-1ubuntu1~20.04.2) 9.4.0
FreeBSD 14.2
	Kernel: 14.2-RELEASE
	Compiler: clang 18.1.6
Windows Server 2022
	Kernel: 10.0.20348.2031
	Compiler: clang 15.0.7, gcc 14.1.0 (MinGW), and MSVC VS 19.39.33521
To view detailed results, visit:
https://lab.dpdk.org/results/dashboard/tarballs/35346/
UNH-IOL DPDK Community Lab
To manage your email subscriptions, visit: 
https://lab.dpdk.org/results/dashboard/preferences/subscriptions/
^ permalink raw reply	[flat|nested] 19+ messages in thread
end of thread, other threads:[~2025-10-30  0:26 UTC | newest]
Thread overview: 19+ messages (download: mbox.gz / follow: Atom feed)
-- links below jump to the message on this page --
2025-10-30  0:26 |PENDING| [GIT MASTER] 39b54f2dcf44ad1f91eabc7080cd5dea763607fd dpdklab
  -- strict thread matches above, loose matches on Subject: below --
2025-10-30  0:23 dpdklab
2025-10-30  0:20 dpdklab
2025-10-30  0:12 dpdklab
2025-10-30  0:11 dpdklab
2025-10-28 23:45 dpdklab
2025-10-28 23:09 dpdklab
2025-10-28 19:46 dpdklab
2025-10-28 19:16 dpdklab
2025-10-27 19:28 dpdklab
2025-10-27 19:20 dpdklab
2025-10-27 19:19 dpdklab
2025-10-27 19:18 dpdklab
2025-10-27 19:17 dpdklab
2025-10-26  4:56 dpdklab
2025-10-26  0:36 dpdklab
2025-10-26  0:22 dpdklab
2025-10-26  0:16 dpdklab
2025-10-26  0:10 dpdklab
This is a public inbox, see mirroring instructions
for how to clone and mirror all data and code used for this inbox;
as well as URLs for NNTP newsgroup(s).