From mboxrd@z Thu Jan 1 00:00:00 1970 Return-Path: Received: from mails.dpdk.org (mails.dpdk.org [217.70.189.124]) by inbox.dpdk.org (Postfix) with ESMTP id 9B0EB489FC for ; Thu, 30 Oct 2025 01:31:46 +0100 (CET) Received: from mails.dpdk.org (localhost [127.0.0.1]) by mails.dpdk.org (Postfix) with ESMTP id 9512D4027A; Thu, 30 Oct 2025 01:31:46 +0100 (CET) Received: from mail-il1-f225.google.com (mail-il1-f225.google.com [209.85.166.225]) by mails.dpdk.org (Postfix) with ESMTP id F26D84027A for ; Thu, 30 Oct 2025 01:31:44 +0100 (CET) Received: by mail-il1-f225.google.com with SMTP id e9e14a558f8ab-433010fdfbbso4133485ab.2 for ; Wed, 29 Oct 2025 17:31:44 -0700 (PDT) DKIM-Signature: v=1; a=rsa-sha256; c=relaxed/relaxed; d=iol.unh.edu; s=unh-iol; t=1761784304; x=1762389104; darn=dpdk.org; h=references:in-reply-to:cc:to:from:subject:message-id:date:from:to :cc:subject:date:message-id:reply-to; bh=4yi/j4ZzRw4EBCRpayngRPDIgoa05nINS/XoxPppt7w=; b=Fe+0Dsenx6Yb/qan5eDqwSY9NiCD7dyzNW0PiCm8R8g8LMWWQiJ7riNP6iyWXbU1Nf 3CPherHPEb8w9Fnj3w5spD+jBXMd3MVQG6FPi30RblpCbAQZIZK8AKvbPtdGn8NRBMvf ZIiM812g9bwwrTrYHwtUuoODRP8VjWTZeT2B4= X-Google-DKIM-Signature: v=1; a=rsa-sha256; c=relaxed/relaxed; d=1e100.net; s=20230601; t=1761784304; x=1762389104; h=references:in-reply-to:cc:to:from:subject:message-id:date :x-gm-message-state:from:to:cc:subject:date:message-id:reply-to; bh=4yi/j4ZzRw4EBCRpayngRPDIgoa05nINS/XoxPppt7w=; b=jraRgAHmn2RkMLEYxqgP+tAKMoT+FmmXDCQLXtgEiXD8sJnoDe6JONLaepkZglMggr edpQEu0858Yut4XBb5+UO47pZfgy4ti8Y0JBEEy+H3hC+JbitTmR5dC1bl+yP/Klns9J 9xeX+6EEIPqUYHva9IC4q1E0XI4E86JWvSTopVrHiBjKkvRu7eRjl5/7CQUh6vw/mgNF aZaiwuOjsd/M74tUCX9pMdW6UmoHgSk6u7I6F5tX7yPMLNC5laHz/kfBiwHbPCr9lW06 rYjrOy3CI8DnJoWZ1deyrmyxGhiSim6EaClUGIBnjkh4kbFqplAbtyOlRYk+VEvz1RK4 sZpw== X-Gm-Message-State: AOJu0YyRTrSWWqfRIZnuTSnT0gZuQxFDR2+oAHzAIOSfvohBqHKuMHch UMt62Cy1Dv0KGiD5VeUAtdVaUtCnhi+0BnJRG05OhhAly5omARo5zC2Y8cb4AMpffbVOwiykTfs ZIAdfI+cjFTq6YgzlGEmoQvCMD73x4KZ+px9I4J4gJOGT X-Gm-Gg: ASbGncvPaRGgMq9ksfG1k1uxO1GiYqpe/dO/ufwrisKhssyBjK+dx04YQegETF8JS8f KtjxdtUvL+48XeA9rJJ9xfNrDATyajGI9KFFe8CGdP7kVMA+AiiIAHGapFUbeJkbm3mp16dyAKW OTw4RmH2WQijt+FMgezAoaFFYEAgV6bDNfoWz5fE7wNOqbCpOpzxFJEPWwACeneoEop0tm58JEy 1I/UH7AxjACNnqZ7d9ckVnxwixE0jNola1JHXmOZuIEHENUFSlOhaA6sSpzvpXd5p8lr4QOnfEN sB+t0H6b0IZ/Fj1cBPp+BNj3or2a1ym6Qp7uDMckilC4rZbMDvafJpbNkENFe1pFoE9ulLnnK1p noJ8c2Wyxe6Kf4YZ2GvGBp1vTiEDmDx8= X-Google-Smtp-Source: AGHT+IG6GOWnCATRmt/GooWtpfMAadwLclqmIfwvtLafOyevLXgZuD4Tj9RkYZCAQGojGbToo8qfJC3TeiCh X-Received: by 2002:a05:6e02:221d:b0:430:e5a4:6f33 with SMTP id e9e14a558f8ab-432f902b57fmr65921125ab.15.1761784304214; Wed, 29 Oct 2025 17:31:44 -0700 (PDT) Received: from postal.iol.unh.edu (postal.iol.unh.edu. [132.177.123.84]) by smtp-relay.gmail.com with ESMTPS id e9e14a558f8ab-432fc2547c3sm3036305ab.16.2025.10.29.17.31.44 (version=TLS1_2 cipher=ECDHE-ECDSA-AES128-GCM-SHA256 bits=128/128); Wed, 29 Oct 2025 17:31:44 -0700 (PDT) X-Relaying-Domain: iol.unh.edu Date: Wed, 29 Oct 2025 17:31:44 -0700 (PDT) Message-ID: <6902b1f0.050a0220.20c47c.e813SMTPIN_ADDED_MISSING@mx.google.com> Received: from [172.21.0.3] (unknown [172.18.0.240]) by postal.iol.unh.edu (Postfix) with ESMTP id CA2156051830; Wed, 29 Oct 2025 20:31:43 -0400 (EDT) Subject: |SUCCESS| pw158220 [PATCH] [v2] bitmap: change return value of rte_b From: dpdklab@iol.unh.edu To: Test Report Cc: dpdk-test-reports@iol.unh.edu In-Reply-To: <20251029145055.990899-1-stephen@networkplumber.org> References: <20251029145055.990899-1-stephen@networkplumber.org> Content-Type: text/plain X-BeenThere: test-report@dpdk.org X-Mailman-Version: 2.1.29 Precedence: list List-Id: automatic DPDK test reports List-Unsubscribe: , List-Archive: List-Post: List-Help: List-Subscribe: , Errors-To: test-report-bounces@dpdk.org Test-Label: iol-compile-arm64-testing Test-Status: SUCCESS http://dpdk.org/patch/158220 _Testing PASS_ Submitter: Stephen Hemminger Date: Wednesday, October 29 2025 14:50:55 DPDK git baseline: Repo:dpdk Branch: master CommitID:39b54f2dcf44ad1f91eabc7080cd5dea763607fd 158220 --> testing pass Upstream job id: Generic-DPDK-Compile-Meson#439052 Test environment and result as below: +------------------------------+--------------------+ | Environment | dpdk_meson_compile | +==============================+====================+ | Red Hat Enterprise Linux 9.5 | PASS | +------------------------------+--------------------+ | Ubuntu 20.04 | PASS | +------------------------------+--------------------+ | Debian GNU/Linux 12 | PASS | +------------------------------+--------------------+ | Fedora Linux 42 | PASS | +------------------------------+--------------------+ | Ubuntu 22.04 | PASS | +------------------------------+--------------------+ | Ubuntu 24.04 | PASS | +------------------------------+--------------------+ | CentOS Stream 9 | PASS | +------------------------------+--------------------+ | CentOS Stream 10 | PASS | +------------------------------+--------------------+ Red Hat Enterprise Linux 9.5 Kernel: 5.4 Compiler: gcc gcc (GCC) 11.5.0 20240719 (Red Hat 11.5.0-2) Ubuntu 20.04 Kernel: 5.15 Compiler: aarch64-linux-gnu-gcc gcc (Ubuntu 9.4.0-1ubuntu1~20.04.2) 9.4.0 Debian GNU/Linux 12 Kernel: 5.4 Compiler: gcc gcc (Debian 12.2.0-14+deb12u1) 12.2.0 Fedora Linux 42 Kernel: 5.4 Compiler: gcc gcc (GCC) 15.2.1 20250808 (Red Hat 15.2.1-1) Ubuntu 22.04 Kernel: 5.4 Compiler: gcc gcc (Ubuntu 11.4.0-1ubuntu1~22.04) 11.4.0 Ubuntu 24.04 Kernel: 5.4 Compiler: gcc gcc (Ubuntu 13.3.0-6ubuntu2~24.04) 13.3.0 CentOS Stream 9 Kernel: 5.4 Compiler: gcc gcc (GCC) 11.5.0 20240719 (Red Hat 11.5.0-11) CentOS Stream 10 Kernel: 5.4 Compiler: gcc gcc (GCC) 14.2.1 20250110 (Red Hat 14.2.1-8) To view detailed results, visit: https://lab.dpdk.org/results/dashboard/patchsets/34416/ UNH-IOL DPDK Community Lab To manage your email subscriptions, visit: https://lab.dpdk.org/results/dashboard/preferences/subscriptions/