From mboxrd@z Thu Jan 1 00:00:00 1970 Return-Path: Received: from mails.dpdk.org (mails.dpdk.org [217.70.189.124]) by inbox.dpdk.org (Postfix) with ESMTP id 80E5748A08 for ; Thu, 30 Oct 2025 02:14:57 +0100 (CET) Received: from mails.dpdk.org (localhost [127.0.0.1]) by mails.dpdk.org (Postfix) with ESMTP id 603BB4027A; Thu, 30 Oct 2025 02:14:57 +0100 (CET) Received: from mail-oa1-f99.google.com (mail-oa1-f99.google.com [209.85.160.99]) by mails.dpdk.org (Postfix) with ESMTP id 124E94027A for ; Thu, 30 Oct 2025 02:14:56 +0100 (CET) Received: by mail-oa1-f99.google.com with SMTP id 586e51a60fabf-3d5bb138b2cso235947fac.1 for ; Wed, 29 Oct 2025 18:14:55 -0700 (PDT) DKIM-Signature: v=1; a=rsa-sha256; c=relaxed/relaxed; d=iol.unh.edu; s=unh-iol; t=1761786895; x=1762391695; darn=dpdk.org; h=cc:to:from:subject:message-id:date:from:to:cc:subject:date :message-id:reply-to; bh=lSWa5PRIYxcZgaHiGcc/0dKj08fdzyLQqo0+3a/938Y=; b=NQPhtuyHiIJd7dOcpLNbBmzyfjGK0wa6xUS579DwbI+LrCwGQnVD5xABonZecDWHvQ GKPImiTdeE+Uc3WRBMFM7fYlUk0c8FIYisPKckQABMgFw+5OUgA3gK/6NCiK8axHzSmb KRU3u+Wonb+I2m8MPeKATRjbZ60KdG9tT0Eq0= X-Google-DKIM-Signature: v=1; a=rsa-sha256; c=relaxed/relaxed; d=1e100.net; s=20230601; t=1761786895; x=1762391695; h=cc:to:from:subject:message-id:date:x-gm-message-state:from:to:cc :subject:date:message-id:reply-to; bh=lSWa5PRIYxcZgaHiGcc/0dKj08fdzyLQqo0+3a/938Y=; b=kOXk6jTezDPL/MnkeiVAH9xOpQTvxOY6C93vLnz3J00IDoVqLu8HvkZYnaByEhncid 8jCTAVuBloTkWlg12WywstKisFYyzprkruqkFiVxG+ze+6J88Q2XvAROWLXWNl9LsEex /sbsiuuqU3uaff5N2MskpYy6MLsaq8BpTXDcAiXB6nDS0/C/YuNEVasJe38HZ8X9mtNl 0LJnMjGj3UfsG1oMFocWSUU+MDhf3v57fkTNyesEFXZmzBygDxHmdKln9OEZXXCPBFb3 OIQafR3bnhEjLohaT+iY2XFU43EtyysWMoxixJofaMzXZ65FUiBtDnnfG/S8kU33vX42 /Cyg== X-Gm-Message-State: AOJu0YzAamNE/dp8Vjmlh0+W0WOck36/N6gygRgCGWjns3UqWynXx58Q n9kqTFaZSoc1JAD3+KLEbSYMlE1vTOawqjT2I0WlSB0vBlfD9tsnxgJ/h8q8/hleGZV8DL3XwRv 4PEfkgrYB6og8TWehDHue1gGNRNQBf/ubwfsBLYYhUiHt9yRh/uYc X-Gm-Gg: ASbGnct6GmCYK5cZlXxZf6mWX9Nbj9m9CEyxMGmE1PXPWWMmTaLbmBdy7BL9Eb06NqG dcSgmU904B09dC4Mj0vSQISiWkBOLVeqtzmZ3agw5TvojFWxmsyJE2sM2XRD+C9xrxd6VY4i5Ec XeeOBWhHNTDWDBYTM7MGpIBiZf89wRCp9MzkLXdbBLe3OxDmMTChCto6ZHQgfg2RAbDjgDZtkqM h8EMJqNSzd8CgzySXWChMjbR4HZCc6dj1wmQutRjrAQer2c9eYOUgIqvpqC3ubB9N8X+PourtC/ OrsyBH8BRpQmXm0O9tKuCBFNsDLtDTF8j8xU5Y+CLZAL+T5YSUzA0SSCcNdGqy9vXNa4ZPvlHxb EvyM/4Mzq X-Google-Smtp-Source: AGHT+IFZ/GvhAs95mc1yoCd8SFGxWx4+a+UT6a2HE2hpiuPbSVubTJoXrULlEM9Fc4tOgNoAhfjgFaNg/xtS X-Received: by 2002:a05:6870:960a:b0:3c9:85d6:86a4 with SMTP id 586e51a60fabf-3d74587a9damr2188679fac.5.1761786895244; Wed, 29 Oct 2025 18:14:55 -0700 (PDT) Received: from postal.iol.unh.edu (postal.iol.unh.edu. [2606:4100:3880:1234::84]) by smtp-relay.gmail.com with ESMTPS id 586e51a60fabf-3d1e3553124sm1437328fac.15.2025.10.29.18.14.55 (version=TLS1_2 cipher=ECDHE-ECDSA-AES128-GCM-SHA256 bits=128/128); Wed, 29 Oct 2025 18:14:55 -0700 (PDT) X-Relaying-Domain: iol.unh.edu Date: Wed, 29 Oct 2025 18:14:55 -0700 (PDT) Message-ID: <6902bc0f.050a0220.2698d0.38e4SMTPIN_ADDED_MISSING@mx.google.com> Received: from [172.21.0.3] (unknown [172.18.0.240]) by postal.iol.unh.edu (Postfix) with ESMTP id D7F276051830; Wed, 29 Oct 2025 21:14:54 -0400 (EDT) Subject: |SUCCESS| [GIT MASTER] b287e404643aeab5bb5db084c142789df187844e From: dpdklab@iol.unh.edu To: Test Report Cc: dpdk-test-reports@iol.unh.edu, Xueming Li , Christian Ehrhardt , Kevin Traynor , Luca Boccassi Content-Type: text/plain X-BeenThere: test-report@dpdk.org X-Mailman-Version: 2.1.29 Precedence: list List-Id: automatic DPDK test reports List-Unsubscribe: , List-Archive: List-Post: List-Help: List-Subscribe: , Errors-To: test-report-bounces@dpdk.org _Testing PASS_ Branch: tags/v24.11 b287e404643aeab5bb5db084c142789df187844e --> testing pass Upstream job id: Generic-Unit-Test-DPDK#386583 Test environment and result as below: +------------------------------+--------------+---------------------------+------------------------------+----------------+ | Environment | lpm_autotest | cryptodev_sw_zuc_autotest | cryptodev_sw_snow3g_autotest | dpdk_unit_test | +==============================+==============+===========================+==============================+================+ | Ubuntu 20.04 | PASS | SKIPPED | SKIPPED | PASS | +------------------------------+--------------+---------------------------+------------------------------+----------------+ | Debian 12 (arm) | SKIPPED | PASS | PASS | SKIPPED | +------------------------------+--------------+---------------------------+------------------------------+----------------+ | CentOS Stream 9 | SKIPPED | SKIPPED | SKIPPED | PASS | +------------------------------+--------------+---------------------------+------------------------------+----------------+ | CentOS Stream 10 | SKIPPED | SKIPPED | SKIPPED | PASS | +------------------------------+--------------+---------------------------+------------------------------+----------------+ | Fedora Linux 40 | SKIPPED | SKIPPED | SKIPPED | PASS | +------------------------------+--------------+---------------------------+------------------------------+----------------+ | Debian GNU/Linux 12 | SKIPPED | SKIPPED | SKIPPED | PASS | +------------------------------+--------------+---------------------------+------------------------------+----------------+ | Fedora Linux 42 | SKIPPED | SKIPPED | SKIPPED | PASS | +------------------------------+--------------+---------------------------+------------------------------+----------------+ | Fedora Linux 41 | SKIPPED | SKIPPED | SKIPPED | PASS | +------------------------------+--------------+---------------------------+------------------------------+----------------+ | Ubuntu 22.04 | SKIPPED | SKIPPED | SKIPPED | PASS | +------------------------------+--------------+---------------------------+------------------------------+----------------+ | Red Hat Enterprise Linux 9.5 | SKIPPED | SKIPPED | SKIPPED | PASS | +------------------------------+--------------+---------------------------+------------------------------+----------------+ | Ubuntu 24.04 | SKIPPED | SKIPPED | SKIPPED | PASS | +------------------------------+--------------+---------------------------+------------------------------+----------------+ Ubuntu 20.04 Kernel: 5.4 Compiler: gcc gcc (Ubuntu 9.4.0-1ubuntu1~20.04.2) 9.4.0 Debian 12 (arm) Kernel: Depends on container host Compiler: gcc (Debian 12.2.0-14) 12.2.0 CentOS Stream 9 Kernel: 5.4 Compiler: gcc gcc (GCC) 11.5.0 20240719 (Red Hat 11.5.0-11) CentOS Stream 10 Kernel: 5.4 Compiler: gcc gcc (GCC) 14.2.1 20250110 (Red Hat 14.2.1-8) Fedora Linux 40 Kernel: 5.4 Compiler: gcc gcc (GCC) 14.2.1 20240912 (Red Hat 14.2.1-3) Debian GNU/Linux 12 Kernel: 5.4 Compiler: gcc gcc (Debian 12.2.0-14+deb12u1) 12.2.0 Fedora Linux 42 Kernel: 5.4 Compiler: gcc gcc (GCC) 15.2.1 20250808 (Red Hat 15.2.1-1) Fedora Linux 41 Kernel: 5.4 Compiler: clang gcc (GCC) 14.3.1 20250523 (Red Hat 14.3.1-1) Ubuntu 22.04 Kernel: 5.4 Compiler: gcc gcc (Ubuntu 11.4.0-1ubuntu1~22.04) 11.4.0 Red Hat Enterprise Linux 9.5 Kernel: 5.4 Compiler: gcc gcc (GCC) 11.5.0 20240719 (Red Hat 11.5.0-2) Ubuntu 24.04 Kernel: 5.4 Compiler: gcc gcc (Ubuntu 13.3.0-6ubuntu2~24.04) 13.3.0 To view detailed results, visit: https://lab.dpdk.org/results/dashboard/tarballs/35385/ UNH-IOL DPDK Community Lab To manage your email subscriptions, visit: https://lab.dpdk.org/results/dashboard/preferences/subscriptions/