From mboxrd@z Thu Jan 1 00:00:00 1970 Return-Path: Received: from mails.dpdk.org (mails.dpdk.org [217.70.189.124]) by inbox.dpdk.org (Postfix) with ESMTP id 2BD2248A08 for ; Thu, 30 Oct 2025 02:22:32 +0100 (CET) Received: from mails.dpdk.org (localhost [127.0.0.1]) by mails.dpdk.org (Postfix) with ESMTP id 275884027A; Thu, 30 Oct 2025 02:22:32 +0100 (CET) Received: from mail-yx1-f100.google.com (mail-yx1-f100.google.com [74.125.224.100]) by mails.dpdk.org (Postfix) with ESMTP id 872794027A for ; Thu, 30 Oct 2025 02:22:30 +0100 (CET) Received: by mail-yx1-f100.google.com with SMTP id 956f58d0204a3-63b710f276fso629750d50.1 for ; Wed, 29 Oct 2025 18:22:30 -0700 (PDT) DKIM-Signature: v=1; a=rsa-sha256; c=relaxed/relaxed; d=iol.unh.edu; s=unh-iol; t=1761787350; x=1762392150; darn=dpdk.org; h=cc:to:from:subject:message-id:date:from:to:cc:subject:date :message-id:reply-to; bh=71qi8GChskpUmR54nliWxlInmUfSsHyhbhrnoRf8BXA=; b=MXMTHC/iyq9p8nvasgaQz/8j2TO9ZaHSeMDO56nYeqwvANm0mpJyzUFhWbWUquZcL9 v/VEzIs9yRi0CeMxXE2YjeBHIWfEHqJ4LcsAhhiV07SZ4D6MKt2Bududv48Bt2+XpNFf MeRO6kR2mLymogmnrKxCAFsWkqPC/+614wflg= X-Google-DKIM-Signature: v=1; a=rsa-sha256; c=relaxed/relaxed; d=1e100.net; s=20230601; t=1761787350; x=1762392150; h=cc:to:from:subject:message-id:date:x-gm-message-state:from:to:cc :subject:date:message-id:reply-to; bh=71qi8GChskpUmR54nliWxlInmUfSsHyhbhrnoRf8BXA=; b=RsROXf7fU2O2CzsHI5J7tvM0CnGEgxefKyaxiNkbhZDEV9PoFlHyxk7rbr3my0gg2a 3Um35yZ3Z+2eWmoTUNX0e349GPTUDYODNtmxbufQNZNLu/fHDNPXy3yvuobFJamiRqyq Mw7sU4t9z5S/HFG24+mCjY+gEW6ZpTUmZTpre1w3Y8QYMK3MtdY9tPS4q9VyUWyk5ifW br4Jm3ejw+8inxOfwnzM8axvJJadgEbaTT7aT8o3Uh+tQPM3J6lSID9w81YeRj8bdvR5 OU1fda3qjdfXwEcKwju+ATMnwJJvX4o73fY6GqeVj8Uw4Y3MSAKHMViZ4FkmdqQEqB0o lcjg== X-Gm-Message-State: AOJu0YyxKDWRvW+pcz3O9DlsItVOYy/lCpnEs/dx7TgX7ftD+B6G13bX /41VmkinkSbKQRLisx1Pc4riqybQ9ajHTxyuH4dbStCc6Gz8F4o9Uvpn6TLfVz/LFU6pLyyo3wY mkBs9M+dUk+xXqWu5cwxqrbuK3EDB5rMPRluaNSpTJBx0UG5L0h1azLkucSfZ X-Gm-Gg: ASbGncuGnkINH1Dmky62jChRDJnhVhcgHiFHih5bBpW/uWehQ6fjioRv5wWf5ZJXnBa ev5Lf5z75kCK+Mdn4E24vfZM7X4xpcicEKvmZfpaS/AaXo93WAYkxhi+/WwTtpiojEBk+mDHl/4 HXGWSOr274cZvwEyVbBSYt1Dr3+TWs/ccmdjSmuCcuY6K2Y/Oql0WBbtq0uQ7qJQTX2K6UXruoc SuUEzs61ff0oXo6b17DhZgNlKNdZhDsQfrQltfwILPsyz6FhrP/IdijP+An0ge1lvXXq8Cp5j9F q5NrGxeChV8mo9kT/riDLbNtUUzkOgN9HKhPsvBtPKzixgg234Y9xiVkxZ68qXcTUi2S5jTuqE+ HUeg4Q21m X-Google-Smtp-Source: AGHT+IEDNupjR8qo595oTyI5uzV6J9r937LRZ8d4UT78xvVo4yx6m+uISK/SoAqI09MTtEvctDzEcbe9s1NR X-Received: by 2002:a05:690e:4289:20b0:63e:d28:c16 with SMTP id 956f58d0204a3-63f83890c80mr915159d50.37.1761787349977; Wed, 29 Oct 2025 18:22:29 -0700 (PDT) Received: from postal.iol.unh.edu (postal.iol.unh.edu. [2606:4100:3880:1234::84]) by smtp-relay.gmail.com with ESMTPS id 956f58d0204a3-63f4c3cff59sm1177210d50.5.2025.10.29.18.22.29 (version=TLS1_2 cipher=ECDHE-ECDSA-AES128-GCM-SHA256 bits=128/128); Wed, 29 Oct 2025 18:22:29 -0700 (PDT) X-Relaying-Domain: iol.unh.edu Date: Wed, 29 Oct 2025 18:22:29 -0700 (PDT) Message-ID: <6902bdd5.050a0220.26c033.63f4SMTPIN_ADDED_MISSING@mx.google.com> Received: from [172.21.0.2] (unknown [172.18.0.240]) by postal.iol.unh.edu (Postfix) with ESMTP id A7FFC6051830; Wed, 29 Oct 2025 21:22:29 -0400 (EDT) Subject: |SUCCESS| [GIT MASTER] 39b54f2dcf44ad1f91eabc7080cd5dea763607fd From: dpdklab@iol.unh.edu To: Test Report Cc: dpdk-test-reports@iol.unh.edu Content-Type: text/plain X-BeenThere: test-report@dpdk.org X-Mailman-Version: 2.1.29 Precedence: list List-Id: automatic DPDK test reports List-Unsubscribe: , List-Archive: List-Post: List-Help: List-Subscribe: , Errors-To: test-report-bounces@dpdk.org _Testing PASS_ Branch: dpdk 39b54f2dcf44ad1f91eabc7080cd5dea763607fd --> testing pass Upstream job id: Generic-VM-Unit-Test-DPDK#32170 Test environment and result as below: +-------------------------------+----------------+ | Environment | dpdk_unit_test | +===============================+================+ | Arch Linux 20250613.0.365270 | PASS | +-------------------------------+----------------+ | CentOS Stream 9 | PASS | +-------------------------------+----------------+ | Debian GNU/Linux 12 | PASS | +-------------------------------+----------------+ | CentOS Stream 10 | PASS | +-------------------------------+----------------+ | Fedora Linux 40 | PASS | +-------------------------------+----------------+ | Fedora Linux 41 | PASS | +-------------------------------+----------------+ | Red Hat Enterprise Linux 8.10 | PASS | +-------------------------------+----------------+ | Red Hat Enterprise Linux 9.5 | PASS | +-------------------------------+----------------+ | Ubuntu 24.04 | PASS | +-------------------------------+----------------+ | Fedora Linux 42 | PASS | +-------------------------------+----------------+ | Ubuntu 20.04 | PASS | +-------------------------------+----------------+ | Ubuntu 22.04 | PASS | +-------------------------------+----------------+ | Windows Server 2022 | PASS | +-------------------------------+----------------+ Arch Linux 20250613.0.365270 Kernel: 5.15 Compiler: gcc gcc (GCC) 15.1.1 20250425 CentOS Stream 9 Kernel: 5.15 Compiler: gcc gcc (GCC) 11.5.0 20240719 (Red Hat 11.5.0-11) Debian GNU/Linux 12 Kernel: 5.15 Compiler: gcc gcc (Debian 12.2.0-14+deb12u1) 12.2.0 CentOS Stream 10 Kernel: 5.15 Compiler: gcc gcc (GCC) 14.2.1 20250110 (Red Hat 14.2.1-8) Fedora Linux 40 Kernel: 5.15 Compiler: gcc gcc (GCC) 14.2.1 20240912 (Red Hat 14.2.1-3) Fedora Linux 41 Kernel: 5.15 Compiler: clang gcc (GCC) 14.3.1 20250523 (Red Hat 14.3.1-1) Red Hat Enterprise Linux 8.10 Kernel: 5.15 Compiler: gcc gcc (GCC) 8.5.0 20210514 (Red Hat 8.5.0-22) Red Hat Enterprise Linux 9.5 Kernel: 5.15 Compiler: gcc gcc (GCC) 11.5.0 20240719 (Red Hat 11.5.0-2) Ubuntu 24.04 Kernel: 5.15 Compiler: gcc gcc (Ubuntu 13.3.0-6ubuntu2~24.04) 13.3.0 Fedora Linux 42 Kernel: 5.15 Compiler: gcc gcc (GCC) 15.2.1 20250808 (Red Hat 15.2.1-1) Ubuntu 20.04 Kernel: 5.15 Compiler: gcc gcc (Ubuntu 9.4.0-1ubuntu1~20.04.2) 9.4.0 Ubuntu 22.04 Kernel: 5.15 Compiler: gcc gcc (Ubuntu 11.4.0-1ubuntu1~22.04) 11.4.0 Windows Server 2022 Kernel: 10.0.20348.2031 Compiler: clang 15.0.7, gcc 14.1.0 (MinGW), and MSVC VS 19.39.33521 To view detailed results, visit: https://lab.dpdk.org/results/dashboard/tarballs/35394/ UNH-IOL DPDK Community Lab To manage your email subscriptions, visit: https://lab.dpdk.org/results/dashboard/preferences/subscriptions/