From mboxrd@z Thu Jan 1 00:00:00 1970 Return-Path: Received: from mails.dpdk.org (mails.dpdk.org [217.70.189.124]) by inbox.dpdk.org (Postfix) with ESMTP id 0EF5F48A08 for ; Thu, 30 Oct 2025 02:31:07 +0100 (CET) Received: from mails.dpdk.org (localhost [127.0.0.1]) by mails.dpdk.org (Postfix) with ESMTP id 0A3D94027A; Thu, 30 Oct 2025 02:31:07 +0100 (CET) Received: from mail-pf1-f228.google.com (mail-pf1-f228.google.com [209.85.210.228]) by mails.dpdk.org (Postfix) with ESMTP id 6F9184027A for ; Thu, 30 Oct 2025 02:31:05 +0100 (CET) Received: by mail-pf1-f228.google.com with SMTP id d2e1a72fcca58-7a1603a098eso349664b3a.1 for ; Wed, 29 Oct 2025 18:31:05 -0700 (PDT) DKIM-Signature: v=1; a=rsa-sha256; c=relaxed/relaxed; d=iol.unh.edu; s=unh-iol; t=1761787864; x=1762392664; darn=dpdk.org; h=cc:to:from:subject:message-id:date:from:to:cc:subject:date :message-id:reply-to; bh=j408T/0bCA+vkBPULveCOrZ+NsX7KL5jPpbIeFMOlNw=; b=JdGLWR2fc/7i338PquEtmZ+ai+u9xpBw5qcfiEIfMJD2Rc7uLFJPF+ikrCZcweK8Ck zZdH9oMQ9wltLRGeMCIw+naAlr5Sv4AbxDhQFdTMhSVn8tIPLKSySC2fPukBrZqCWIAO ubrReqA2oeb4Y8HqXyxgnbP9x0eT8ShqKsXKQ= X-Google-DKIM-Signature: v=1; a=rsa-sha256; c=relaxed/relaxed; d=1e100.net; s=20230601; t=1761787864; x=1762392664; h=cc:to:from:subject:message-id:date:x-gm-message-state:from:to:cc :subject:date:message-id:reply-to; bh=j408T/0bCA+vkBPULveCOrZ+NsX7KL5jPpbIeFMOlNw=; b=ncutnglASe87G/tbbqQEYxEj3WaU3lEb//bcq9xE4MLjpdQ+mOaTY4WpOqsVuVoK8e yWnkEouELhoZKo1m+AjBVC2vF7DNLEAex1zooEuEIpu2cwa+zUx99gvkfPvXAGlVPE7E Zk61t2Ijb575iyJuMYJKlKywNZWxGUmgB7HsWL0xjT282t1Tt4iD3+aRAvEx+mATXY+0 o8vSAuFCswDF08PAiUHvF2sv6F4tusybL/DdhG0xPLKKxRjMhYqNehobbgiA1sH7BpE2 EUQvrlDtU+lq5kLI+/0PhckNSuVjRBsvqWr1ihXnbsyVAvKNmmtOY8DEIs4osOUKadnV ZfeQ== X-Gm-Message-State: AOJu0YzKG+PT4zk5SJ9VC38kmiJeptokIh7ZObFcUxe8AIqdCmUXWLQf ygMQBz+zJjkQKDCo7uzqZH508I1l6tvr/bPSbUdyV+VQMwGhKbXg3s3q81mH9XY16cpJnlvUB1u aSOtzMDMBLSixkG3viagBooo2fPx6S6Cr7FVOsXim855w X-Gm-Gg: ASbGncv1a/RDK9qnlxpgtAnUoyV7wpdS+KKSkz4OIDuHKisAyONNK/mv+Y6bqav/7XB LejVd6HjUe2OZdt3BsZoZZa+u/exdoCLa+8QqUnsI/B+MaPrDYjIVJS6CuZhdbfawAo4jScxm6r 4EJboLN0k8AB2RNrgrjQQuIRuHPBrIPUccF2I5hgB4mveZ41NOBeAPqLCkI1+44c343Kypsm/WU sUM9fHlqTQndsvDKs2JnWtQK7HjU1CKCgoHk4rKSW9HC2lrZnAW/PN4ioArm09hJ0yDjstUspHV jK6kraj1MRJu26py7ljTsPrpG2sXni6OugYeTjPcv7WrUDwe1Gc5RHiGNSeueBF+uBkNgqexHVF dcdijAqrg/9sdl922VMBCuiBOVWPrn2E= X-Google-Smtp-Source: AGHT+IGUcD4Z87GrHb6i4YKyi1MR4SLjYFilB/VBTmZ3fCaxWfwRmGMTXVlVQ2QqXRpcqBtdpZHZi4xJr+sU X-Received: by 2002:a05:6a20:394a:b0:344:97a7:8c62 with SMTP id adf61e73a8af0-34652b2bd6cmr6278786637.23.1761787864562; Wed, 29 Oct 2025 18:31:04 -0700 (PDT) Received: from postal.iol.unh.edu (postal.iol.unh.edu. [132.177.123.84]) by smtp-relay.gmail.com with ESMTPS id d2e1a72fcca58-7a4140b13bbsm1074406b3a.9.2025.10.29.18.31.04 (version=TLS1_2 cipher=ECDHE-ECDSA-AES128-GCM-SHA256 bits=128/128); Wed, 29 Oct 2025 18:31:04 -0700 (PDT) X-Relaying-Domain: iol.unh.edu Date: Wed, 29 Oct 2025 18:31:04 -0700 (PDT) Message-ID: <6902bfd8.050a0220.fbb7e.418bSMTPIN_ADDED_MISSING@mx.google.com> Received: from [172.21.0.2] (unknown [172.18.0.240]) by postal.iol.unh.edu (Postfix) with ESMTP id D25126051830; Wed, 29 Oct 2025 21:31:03 -0400 (EDT) Subject: |WARNING| [GIT MASTER] 39b54f2dcf44ad1f91eabc7080cd5dea763607fd From: dpdklab@iol.unh.edu To: Test Report Cc: dpdk-test-reports@iol.unh.edu Content-Type: text/plain X-BeenThere: test-report@dpdk.org X-Mailman-Version: 2.1.29 Precedence: list List-Id: automatic DPDK test reports List-Unsubscribe: , List-Archive: List-Post: List-Help: List-Subscribe: , Errors-To: test-report-bounces@dpdk.org _Testing issues_ Branch: dpdk 39b54f2dcf44ad1f91eabc7080cd5dea763607fd --> testing issues Upstream job id: Generic-DPDK-Compile-Meson#439166 Test environment and result as below: +-------------------------------+--------------------+-------------------+------------------+-------------------------+-------------------+----------------------+ | Environment | dpdk_meson_compile | dpdk_compile_spdk | dpdk_compile_ovs | dpdk_llvm_clang_compile | dpdk_msvc_compile | dpdk_mingw64_compile | +===============================+====================+===================+==================+=========================+===================+======================+ | CentOS Stream 9 | PASS | WARN | SKIPPED | SKIPPED | SKIPPED | SKIPPED | +-------------------------------+--------------------+-------------------+------------------+-------------------------+-------------------+----------------------+ | CentOS Stream 10 | PASS | SKIPPED | SKIPPED | SKIPPED | SKIPPED | SKIPPED | +-------------------------------+--------------------+-------------------+------------------+-------------------------+-------------------+----------------------+ | Debian GNU/Linux 12 | PASS | WARN | SKIPPED | SKIPPED | SKIPPED | SKIPPED | +-------------------------------+--------------------+-------------------+------------------+-------------------------+-------------------+----------------------+ | Fedora Linux 42 | PASS | WARN | PASS | SKIPPED | SKIPPED | SKIPPED | +-------------------------------+--------------------+-------------------+------------------+-------------------------+-------------------+----------------------+ | Ubuntu 20.04 | PASS | SKIPPED | SKIPPED | SKIPPED | SKIPPED | SKIPPED | +-------------------------------+--------------------+-------------------+------------------+-------------------------+-------------------+----------------------+ | openSUSE Leap 15.6 | PASS | SKIPPED | SKIPPED | SKIPPED | SKIPPED | SKIPPED | +-------------------------------+--------------------+-------------------+------------------+-------------------------+-------------------+----------------------+ | Red Hat Enterprise Linux 8.10 | PASS | SKIPPED | SKIPPED | SKIPPED | SKIPPED | SKIPPED | +-------------------------------+--------------------+-------------------+------------------+-------------------------+-------------------+----------------------+ | Ubuntu 24.04 | PASS | WARN | PASS | SKIPPED | SKIPPED | SKIPPED | +-------------------------------+--------------------+-------------------+------------------+-------------------------+-------------------+----------------------+ | Ubuntu 22.04 | PASS | WARN | SKIPPED | SKIPPED | SKIPPED | SKIPPED | +-------------------------------+--------------------+-------------------+------------------+-------------------------+-------------------+----------------------+ | Red Hat Enterprise Linux 9.5 | PASS | SKIPPED | SKIPPED | SKIPPED | SKIPPED | SKIPPED | +-------------------------------+--------------------+-------------------+------------------+-------------------------+-------------------+----------------------+ | Alpine Linux 3.22.0 | PASS | SKIPPED | SKIPPED | SKIPPED | SKIPPED | SKIPPED | +-------------------------------+--------------------+-------------------+------------------+-------------------------+-------------------+----------------------+ | Arch Linux 20250613.0.365270 | PASS | SKIPPED | SKIPPED | SKIPPED | SKIPPED | SKIPPED | +-------------------------------+--------------------+-------------------+------------------+-------------------------+-------------------+----------------------+ | FreeBSD 14.2 | PASS | SKIPPED | SKIPPED | SKIPPED | SKIPPED | SKIPPED | +-------------------------------+--------------------+-------------------+------------------+-------------------------+-------------------+----------------------+ | Windows Server 2022 | SKIPPED | SKIPPED | SKIPPED | PASS | PASS | PASS | +-------------------------------+--------------------+-------------------+------------------+-------------------------+-------------------+----------------------+ ==== 20 line log output for Ubuntu 22.04 (dpdk_compile_spdk): ==== --- Failed to get log output --- ==== End log output ==== CentOS Stream 9 Kernel: 5.15 Compiler: gcc gcc (GCC) 11.5.0 20240719 (Red Hat 11.5.0-11) CentOS Stream 10 Kernel: 5.15 Compiler: gcc gcc (GCC) 14.2.1 20250110 (Red Hat 14.2.1-8) Debian GNU/Linux 12 Kernel: 5.15 Compiler: gcc gcc (Debian 12.2.0-14+deb12u1) 12.2.0 Fedora Linux 42 Kernel: 5.15 Compiler: clang gcc (GCC) 15.2.1 20250808 (Red Hat 15.2.1-1) Ubuntu 20.04 Kernel: 4.19 Compiler: gcc gcc (Ubuntu 9.4.0-1ubuntu1~20.04.2) 9.4.0 openSUSE Leap 15.6 Kernel: 5.15 Compiler: gcc gcc (SUSE Linux) 7.5.0 Red Hat Enterprise Linux 8.10 Kernel: 5.15 Compiler: gcc gcc (GCC) 8.5.0 20210514 (Red Hat 8.5.0-22) Ubuntu 24.04 Kernel: 5.15 Compiler: gcc gcc (Ubuntu 13.3.0-6ubuntu2~24.04) 13.3.0 Ubuntu 22.04 Kernel: 5.15 Compiler: gcc gcc (Ubuntu 11.4.0-1ubuntu1~22.04) 11.4.0 Red Hat Enterprise Linux 9.5 Kernel: 5.15 Compiler: gcc gcc (GCC) 11.5.0 20240719 (Red Hat 11.5.0-2) Alpine Linux 3.22.0 Kernel: 5.15 Compiler: gcc gcc (Alpine 14.2.0) 14.2.0 Arch Linux 20250613.0.365270 Kernel: 5.15 Compiler: gcc gcc (GCC) 15.1.1 20250425 FreeBSD 14.2 Kernel: 14.2-RELEASE Compiler: clang 18.1.6 Windows Server 2022 Kernel: 10.0.20348.2031 Compiler: clang 15.0.7, gcc 14.1.0 (MinGW), and MSVC VS 19.39.33521 To view detailed results, visit: https://lab.dpdk.org/results/dashboard/tarballs/35394/ UNH-IOL DPDK Community Lab To manage your email subscriptions, visit: https://lab.dpdk.org/results/dashboard/preferences/subscriptions/