From mboxrd@z Thu Jan 1 00:00:00 1970 Return-Path: Received: from mails.dpdk.org (mails.dpdk.org [217.70.189.124]) by inbox.dpdk.org (Postfix) with ESMTP id 173F948A08 for ; Thu, 30 Oct 2025 02:42:20 +0100 (CET) Received: from mails.dpdk.org (localhost [127.0.0.1]) by mails.dpdk.org (Postfix) with ESMTP id EAE574027A; Thu, 30 Oct 2025 02:42:19 +0100 (CET) Received: from mail-pj1-f100.google.com (mail-pj1-f100.google.com [209.85.216.100]) by mails.dpdk.org (Postfix) with ESMTP id C4B744027A for ; Thu, 30 Oct 2025 02:42:18 +0100 (CET) Received: by mail-pj1-f100.google.com with SMTP id 98e67ed59e1d1-340564186b9so131814a91.0 for ; Wed, 29 Oct 2025 18:42:18 -0700 (PDT) DKIM-Signature: v=1; a=rsa-sha256; c=relaxed/relaxed; d=iol.unh.edu; s=unh-iol; t=1761788538; x=1762393338; darn=dpdk.org; h=references:in-reply-to:cc:to:from:subject:message-id:date:from:to :cc:subject:date:message-id:reply-to; bh=bKYrDcLh0lFEeuC02bwd4NVESxtoj310dleEueLrcek=; b=FLeeaOmckpAXRTVjojWlG0ECHAx1R/ZY+6uMw+H2D+ZZBXhu8JwI2myBZwSMyFGVDJ 3Kbo1o88MmgF+swfD6gwhHzJ1aX2iC+fIj4/KN+OjVixyEC2n8jvawRN/dak3Opq+5/Q 8QkGAFSsQchBMew4yHiBunMTnu6VZdXmRwJnY= X-Google-DKIM-Signature: v=1; a=rsa-sha256; c=relaxed/relaxed; d=1e100.net; s=20230601; t=1761788538; x=1762393338; h=references:in-reply-to:cc:to:from:subject:message-id:date :x-gm-message-state:from:to:cc:subject:date:message-id:reply-to; bh=bKYrDcLh0lFEeuC02bwd4NVESxtoj310dleEueLrcek=; b=nz6MfGY9/sW2yy1WimDphCJ49zPBlKmbxfZm7a5fZyzUAI2VQEMsfq5TgMcjVQRMgI N8DlyBTq0pwYkFk8vaa4rVDQb2a3UtsQwTw1LEUJvq2qtzipgfSA2+1ZlQY0DYTUPRDU 68pNHllwkyN9B42oWIy1Q3ETsg+1AEFMv5EOrn3pXysWjofvTxxgC8rrBX7Rq/G2Dwiy ecnKbRvuoas3aGX903ETHpXYQHBBCjb9XFmMRChZx+jiUQb1dkRqYI9TVWVdyhsnD/is PLQZ4D9qJzPTNVwLflL0tK4rwlCz/5u87a1bhkBJjPx9pAVQUtNGjYRjG3faacj/6++3 OqQQ== X-Gm-Message-State: AOJu0YxUEGNgi+W0AKelCPkruHUR0ogjg0qqMk5CYQQ0A9ZHAY/Yc4LG vdimc9PYfAJz248RmmOkJdcxr75QdA08WoJgbqeAMvihgInBbasfsNl/Idx7wPE8shNjNhhUoHZ bOf3ujDxOU3KNQmSmRL0MqQGo84A9OkIOtQJvIuI5uh2y X-Gm-Gg: ASbGnctOO5+UqqcHLe37V1TaxS77evXJ9jnnUprm4qU48/8Etql8/rSPQTjy572zqId Qb85DQ/v6Qw5MV8VjExMgyMHx/9ECrZZ7dwMEqS8C6vCPuVFkODIMA7sUVHvSeLPvtiP3tpmXz8 aXXxWfQx7Oh8rgUmsb4GyEEq4okWwmBZGqUHeICzUWijA+f8oSBb6I8zOpCo/LoQ23Ty3B+oBzu MKAbHKh85YD+Gc10gDzjiIH95PNLGREL6vn1L1PC5jhGaI2n8zqi48rs5cEhihQ8e3+KTd8SRIb LLXx00XPevBm0j+s+j5h34i7aag/zqGaMBPF6nZWaTC9BCR1xR3tw7DMse7evxsJjB5pH33iqZ8 CSkjBMT6Pfx82PYTSo3h8JnxEhMMcqko= X-Google-Smtp-Source: AGHT+IEezoOHcEc5Y4fyrDNWRqaHoSNp+2gyrDZEq5Oe3TQ76BQ7CbeBUmXXvxWZ2AfyD8pb/shKX2DlNm4r X-Received: by 2002:a17:90b:2647:b0:33b:b673:1b07 with SMTP id 98e67ed59e1d1-3404ac7d8dbmr2030298a91.9.1761788537801; Wed, 29 Oct 2025 18:42:17 -0700 (PDT) Received: from postal.iol.unh.edu (postal.iol.unh.edu. [132.177.123.84]) by smtp-relay.gmail.com with ESMTPS id 41be03b00d2f7-b712772aedbsm1166562a12.1.2025.10.29.18.42.17 (version=TLS1_2 cipher=ECDHE-ECDSA-AES128-GCM-SHA256 bits=128/128); Wed, 29 Oct 2025 18:42:17 -0700 (PDT) X-Relaying-Domain: iol.unh.edu Date: Wed, 29 Oct 2025 18:42:17 -0700 (PDT) Message-ID: <6902c279.050a0220.12f2f1.8f56SMTPIN_ADDED_MISSING@mx.google.com> Received: from [172.21.0.2] (unknown [172.18.0.240]) by postal.iol.unh.edu (Postfix) with ESMTP id 10AE76051830; Wed, 29 Oct 2025 21:42:17 -0400 (EDT) Subject: |WARNING| pw158284 [PATCH] [RFC] ethdev: fix UAF in rte_eth_tx_burst From: dpdklab@iol.unh.edu To: Test Report Cc: dpdk-test-reports@iol.unh.edu, Stephen Hemminger In-Reply-To: <20251029235400.1486861-1-stephen@networkplumber.org> References: <20251029235400.1486861-1-stephen@networkplumber.org> Content-Type: text/plain X-BeenThere: test-report@dpdk.org X-Mailman-Version: 2.1.29 Precedence: list List-Id: automatic DPDK test reports List-Unsubscribe: , List-Archive: List-Post: List-Help: List-Subscribe: , Errors-To: test-report-bounces@dpdk.org Test-Label: iol-compile-amd64-testing Test-Status: WARNING http://dpdk.org/patch/158284 _Testing issues_ Submitter: Stephen Hemminger Date: Wednesday, October 29 2025 23:54:00 DPDK git baseline: Repo:dpdk-next-net Branch: master CommitID:33145656260ac9a87590daab3d6f57aa9e579247 158284 --> testing issues Upstream job id: Windows-Compile-DPDK-Native#31997 Test environment and result as below: +-------------------------------+--------------------+-------------------+------------------+-------------------+-------------------------+ | Environment | dpdk_meson_compile | dpdk_compile_spdk | dpdk_compile_ovs | dpdk_msvc_compile | dpdk_llvm_clang_compile | +===============================+====================+===================+==================+===================+=========================+ | CentOS Stream 9 | PASS | WARN | SKIPPED | SKIPPED | SKIPPED | +-------------------------------+--------------------+-------------------+------------------+-------------------+-------------------------+ | CentOS Stream 10 | PASS | SKIPPED | SKIPPED | SKIPPED | SKIPPED | +-------------------------------+--------------------+-------------------+------------------+-------------------+-------------------------+ | Debian GNU/Linux 12 | PASS | WARN | SKIPPED | SKIPPED | SKIPPED | +-------------------------------+--------------------+-------------------+------------------+-------------------+-------------------------+ | Fedora Linux 42 | PASS | WARN | PASS | SKIPPED | SKIPPED | +-------------------------------+--------------------+-------------------+------------------+-------------------+-------------------------+ | Ubuntu 20.04 | PASS | SKIPPED | SKIPPED | SKIPPED | SKIPPED | +-------------------------------+--------------------+-------------------+------------------+-------------------+-------------------------+ | openSUSE Leap 15.6 | PASS | SKIPPED | SKIPPED | SKIPPED | SKIPPED | +-------------------------------+--------------------+-------------------+------------------+-------------------+-------------------------+ | Red Hat Enterprise Linux 8.10 | PASS | SKIPPED | SKIPPED | SKIPPED | SKIPPED | +-------------------------------+--------------------+-------------------+------------------+-------------------+-------------------------+ | Red Hat Enterprise Linux 9.5 | PASS | SKIPPED | SKIPPED | SKIPPED | SKIPPED | +-------------------------------+--------------------+-------------------+------------------+-------------------+-------------------------+ | FreeBSD 14.2 | PASS | SKIPPED | SKIPPED | SKIPPED | SKIPPED | +-------------------------------+--------------------+-------------------+------------------+-------------------+-------------------------+ | Ubuntu 22.04 | PASS | WARN | SKIPPED | SKIPPED | SKIPPED | +-------------------------------+--------------------+-------------------+------------------+-------------------+-------------------------+ | Ubuntu 24.04 | PASS | WARN | PASS | SKIPPED | SKIPPED | +-------------------------------+--------------------+-------------------+------------------+-------------------+-------------------------+ | Alpine Linux 3.22.0 | PASS | SKIPPED | SKIPPED | SKIPPED | SKIPPED | +-------------------------------+--------------------+-------------------+------------------+-------------------+-------------------------+ | Windows Server 2022 | SKIPPED | SKIPPED | SKIPPED | PASS | PASS | +-------------------------------+--------------------+-------------------+------------------+-------------------+-------------------------+ ==== 20 line log output for Ubuntu 24.04 (dpdk_compile_spdk): ==== --- Failed to get log output --- ==== End log output ==== CentOS Stream 9 Kernel: 5.15 Compiler: gcc gcc (GCC) 11.5.0 20240719 (Red Hat 11.5.0-11) CentOS Stream 10 Kernel: 5.15 Compiler: gcc gcc (GCC) 14.2.1 20250110 (Red Hat 14.2.1-8) Debian GNU/Linux 12 Kernel: 5.15 Compiler: gcc gcc (Debian 12.2.0-14+deb12u1) 12.2.0 Fedora Linux 42 Kernel: 5.15 Compiler: clang gcc (GCC) 15.2.1 20250808 (Red Hat 15.2.1-1) Ubuntu 20.04 Kernel: 4.19 Compiler: gcc gcc (Ubuntu 9.4.0-1ubuntu1~20.04.2) 9.4.0 openSUSE Leap 15.6 Kernel: 5.15 Compiler: gcc gcc (SUSE Linux) 7.5.0 Red Hat Enterprise Linux 8.10 Kernel: 5.15 Compiler: gcc gcc (GCC) 8.5.0 20210514 (Red Hat 8.5.0-22) Red Hat Enterprise Linux 9.5 Kernel: 5.15 Compiler: gcc gcc (GCC) 11.5.0 20240719 (Red Hat 11.5.0-2) FreeBSD 14.2 Kernel: 14.2-RELEASE Compiler: clang 18.1.6 Ubuntu 22.04 Kernel: 5.15 Compiler: gcc gcc (Ubuntu 11.4.0-1ubuntu1~22.04) 11.4.0 Ubuntu 24.04 Kernel: 5.15 Compiler: gcc gcc (Ubuntu 13.3.0-6ubuntu2~24.04) 13.3.0 Alpine Linux 3.22.0 Kernel: 5.15 Compiler: gcc gcc (Alpine 14.2.0) 14.2.0 Windows Server 2022 Kernel: 10.0.20348.2031 Compiler: clang 15.0.7, gcc 14.1.0 (MinGW), and MSVC VS 19.39.33521 To view detailed results, visit: https://lab.dpdk.org/results/dashboard/patchsets/34421/ UNH-IOL DPDK Community Lab To manage your email subscriptions, visit: https://lab.dpdk.org/results/dashboard/preferences/subscriptions/