From mboxrd@z Thu Jan 1 00:00:00 1970 Return-Path: Received: from mails.dpdk.org (mails.dpdk.org [217.70.189.124]) by inbox.dpdk.org (Postfix) with ESMTP id 1154348A08 for ; Thu, 30 Oct 2025 02:51:39 +0100 (CET) Received: from mails.dpdk.org (localhost [127.0.0.1]) by mails.dpdk.org (Postfix) with ESMTP id EDFB34027A; Thu, 30 Oct 2025 02:51:38 +0100 (CET) Received: from mail-il1-f228.google.com (mail-il1-f228.google.com [209.85.166.228]) by mails.dpdk.org (Postfix) with ESMTP id 359334027A for ; Thu, 30 Oct 2025 02:51:37 +0100 (CET) Received: by mail-il1-f228.google.com with SMTP id e9e14a558f8ab-430d4cf258fso1934375ab.0 for ; Wed, 29 Oct 2025 18:51:37 -0700 (PDT) DKIM-Signature: v=1; a=rsa-sha256; c=relaxed/relaxed; d=iol.unh.edu; s=unh-iol; t=1761789096; x=1762393896; darn=dpdk.org; h=references:in-reply-to:cc:to:from:subject:message-id:date:from:to :cc:subject:date:message-id:reply-to; bh=limopafTT2kps3kH11+EkOZlkzhvbaOiE8gcBMu29Lc=; b=OK8PJcqyFTENE9SRiii11Owk6K/iQNbPjn7zhJDRxGt2VY7zL1Lr+rZhjbnz6ah79B 5lq/TjJfAAQpKRpI3qzY28XFrTkUII+AdOtBv1w+ZuScO6s5pD1wb0+cQ+WK0cDdrYLF Pm9pIUt73ZaIG2VSko/r4dgytinfdTs30LEwg= X-Google-DKIM-Signature: v=1; a=rsa-sha256; c=relaxed/relaxed; d=1e100.net; s=20230601; t=1761789096; x=1762393896; h=references:in-reply-to:cc:to:from:subject:message-id:date :x-gm-message-state:from:to:cc:subject:date:message-id:reply-to; bh=limopafTT2kps3kH11+EkOZlkzhvbaOiE8gcBMu29Lc=; b=dwCXp8OLrcISTJOAUP7EzNMt9654Xpl7/XiEujYVDY9oI+akn/qQ8lyJ0oUctkNggR 1YmntpfQZYu6Z6B5/5bQptk+hYF/1bLoucdDZhMjsS7IZhwWQz7Dw7MG5cVxvbktcEJj uZRvp6KYIvdIk9yYUh1awfulHs4OqatSAnixI4IWVH8OQEIj8IJZiel/65298WSh0tc6 FRE15IiKECzHxIjyyCTQz0Q4iMwvOBN2oKmAonSpjAYfJAVr5Cr5S7SPYGfgxznrXgBa l8KnTN7bIHIdpvwoWwtlDU/bZtCDtp6fA08OjGXy/bgnTPVKCeB+4MJz2KaJJWxu46nd xAwA== X-Gm-Message-State: AOJu0Yy+KJhMy05GnOty02lQjh+UutZyp2Vhoeq4ufgHCgzeXHVaB6Va hyw5pMgbCs4fB4v0dCimrXozNFicGANagBYQX9tP6LlBYBAWIRFG3Wu4ZKSTHaNGS4/ZDbAIRM9 8XNOQmb8Y6PJTUxL3T+0M6Qlb1koPY6s/BlrHdMhxo8gI X-Gm-Gg: ASbGncvelvV5gu89MPH/z1pksbH7RbqvVqEztV2e4yK/nW+zxPH2EM8R+oQ6P4SC3Py iHZCZ9yi/6MNtmxsUcalRMtpq4A/r4NHpzqN3UqY6mnu8qH4aaOjySRIESK48LDIRehfYqqn8aP ywK8GcVRiFdVUrXVOgbaHGK9Y0GzDLB2gEtvU/VQE0Xl7fqyqOi4iuQoESyKHtumP2ys+OKkS6W omaNZaJg1d4eSJALW9R29lU7RB5kXFJxhfu+07wt34LWufoRrGBEd5ACRtm8ohfU1x1NFOjUCLL tts/9OwAR2LGNcZst2ahijt0wM1PcDLAWAN6H+UXnzqkwQ8E3uKA8sVX5kx4wlU4cAFZX+PSIKt thV6L6m1J7i+ioq4AFYcdyonoDGxRypQ= X-Google-Smtp-Source: AGHT+IHkhY6H71ERcLN8W9wkFQkq51QxKpTQwGqH371P99EYTFx8lX6/Z9jJ72UeL0+bI7ZmwxhhqJ9pAxQN X-Received: by 2002:a05:6e02:2383:b0:433:5b0:8596 with SMTP id e9e14a558f8ab-43305b08c3cmr202815ab.16.1761789096508; Wed, 29 Oct 2025 18:51:36 -0700 (PDT) Received: from postal.iol.unh.edu (postal.iol.unh.edu. [132.177.123.84]) by smtp-relay.gmail.com with ESMTPS id 8926c6da1cb9f-5aea7be3397sm1103452173.13.2025.10.29.18.51.36 (version=TLS1_2 cipher=ECDHE-ECDSA-AES128-GCM-SHA256 bits=128/128); Wed, 29 Oct 2025 18:51:36 -0700 (PDT) X-Relaying-Domain: iol.unh.edu Date: Wed, 29 Oct 2025 18:51:36 -0700 (PDT) Message-ID: <6902c4a8.050a0220.8c9c1.4112SMTPIN_ADDED_MISSING@mx.google.com> Received: from [172.21.0.2] (unknown [172.18.0.240]) by postal.iol.unh.edu (Postfix) with ESMTP id EE9996051830; Wed, 29 Oct 2025 21:51:35 -0400 (EDT) Subject: |SUCCESS| pw158284 [PATCH] [RFC] ethdev: fix UAF in rte_eth_tx_burst From: dpdklab@iol.unh.edu To: Test Report Cc: dpdk-test-reports@iol.unh.edu, Stephen Hemminger In-Reply-To: <20251029235400.1486861-1-stephen@networkplumber.org> References: <20251029235400.1486861-1-stephen@networkplumber.org> Content-Type: text/plain X-BeenThere: test-report@dpdk.org X-Mailman-Version: 2.1.29 Precedence: list List-Id: automatic DPDK test reports List-Unsubscribe: , List-Archive: List-Post: List-Help: List-Subscribe: , Errors-To: test-report-bounces@dpdk.org Test-Label: iol-unit-amd64-testing Test-Status: SUCCESS http://dpdk.org/patch/158284 _Testing PASS_ Submitter: Stephen Hemminger Date: Wednesday, October 29 2025 23:54:00 DPDK git baseline: Repo:dpdk-next-net Branch: master CommitID:33145656260ac9a87590daab3d6f57aa9e579247 158284 --> testing pass Upstream job id: Generic-VM-Unit-Test-DPDK#32171 Test environment and result as below: +-------------------------------+----------------+ | Environment | dpdk_unit_test | +===============================+================+ | CentOS Stream 9 | PASS | +-------------------------------+----------------+ | Fedora Linux 40 | PASS | +-------------------------------+----------------+ | Fedora Linux 42 | PASS | +-------------------------------+----------------+ | Fedora Linux 41 | PASS | +-------------------------------+----------------+ | CentOS Stream 10 | PASS | +-------------------------------+----------------+ | Debian GNU/Linux 12 | PASS | +-------------------------------+----------------+ | Red Hat Enterprise Linux 8.10 | PASS | +-------------------------------+----------------+ | Red Hat Enterprise Linux 9.5 | PASS | +-------------------------------+----------------+ | Ubuntu 20.04 | PASS | +-------------------------------+----------------+ | Ubuntu 22.04 | PASS | +-------------------------------+----------------+ | Ubuntu 24.04 | PASS | +-------------------------------+----------------+ | Windows Server 2022 | PASS | +-------------------------------+----------------+ CentOS Stream 9 Kernel: 5.15 Compiler: gcc gcc (GCC) 11.5.0 20240719 (Red Hat 11.5.0-11) Fedora Linux 40 Kernel: 5.15 Compiler: clang gcc (GCC) 14.2.1 20240912 (Red Hat 14.2.1-3) Fedora Linux 42 Kernel: 5.15 Compiler: gcc gcc (GCC) 15.2.1 20250808 (Red Hat 15.2.1-1) Fedora Linux 41 Kernel: 5.15 Compiler: gcc gcc (GCC) 14.3.1 20250523 (Red Hat 14.3.1-1) CentOS Stream 10 Kernel: 5.15 Compiler: gcc gcc (GCC) 14.2.1 20250110 (Red Hat 14.2.1-8) Debian GNU/Linux 12 Kernel: 5.15 Compiler: gcc gcc (Debian 12.2.0-14+deb12u1) 12.2.0 Red Hat Enterprise Linux 8.10 Kernel: 5.15 Compiler: gcc gcc (GCC) 8.5.0 20210514 (Red Hat 8.5.0-22) Red Hat Enterprise Linux 9.5 Kernel: 5.15 Compiler: gcc gcc (GCC) 11.5.0 20240719 (Red Hat 11.5.0-2) Ubuntu 20.04 Kernel: 5.15 Compiler: gcc gcc (Ubuntu 9.4.0-1ubuntu1~20.04.2) 9.4.0 Ubuntu 22.04 Kernel: 5.15 Compiler: gcc gcc (Ubuntu 11.4.0-1ubuntu1~22.04) 11.4.0 Ubuntu 24.04 Kernel: 5.15 Compiler: gcc gcc (Ubuntu 13.3.0-6ubuntu2~24.04) 13.3.0 Windows Server 2022 Kernel: 10.0.20348.2031 Compiler: clang 15.0.7, gcc 14.1.0 (MinGW), and MSVC VS 19.39.33521 To view detailed results, visit: https://lab.dpdk.org/results/dashboard/patchsets/34421/ UNH-IOL DPDK Community Lab To manage your email subscriptions, visit: https://lab.dpdk.org/results/dashboard/preferences/subscriptions/