From mboxrd@z Thu Jan 1 00:00:00 1970 Return-Path: Received: from mails.dpdk.org (mails.dpdk.org [217.70.189.124]) by inbox.dpdk.org (Postfix) with ESMTP id 91EA748A08 for ; Thu, 30 Oct 2025 02:56:46 +0100 (CET) Received: from mails.dpdk.org (localhost [127.0.0.1]) by mails.dpdk.org (Postfix) with ESMTP id 830C54027A; Thu, 30 Oct 2025 02:56:46 +0100 (CET) Received: from mail-io1-f99.google.com (mail-io1-f99.google.com [209.85.166.99]) by mails.dpdk.org (Postfix) with ESMTP id E06334027A for ; Thu, 30 Oct 2025 02:56:45 +0100 (CET) Received: by mail-io1-f99.google.com with SMTP id ca18e2360f4ac-92aee734585so22397139f.3 for ; Wed, 29 Oct 2025 18:56:45 -0700 (PDT) DKIM-Signature: v=1; a=rsa-sha256; c=relaxed/relaxed; d=iol.unh.edu; s=unh-iol; t=1761789405; x=1762394205; darn=dpdk.org; h=references:in-reply-to:cc:to:from:subject:message-id:date:from:to :cc:subject:date:message-id:reply-to; bh=r89fPdSOHfaYBu7EzLZKXFLj02fgp0y8pOqI9k9qCGw=; b=GF/qSoRV9n2bGCw2uX9YmZtDujsZUf06vu5OvRffI1Cor0dSLMdPKuuT34ozbcxeH2 41dzBu31Dy9VhzXPfPvfOGToX5muLcb1nI5Tb2C+0dv0zZLoXfLAc8ck03Z9lK8OIe8u jI6kk0d1sNWqyu61huTSlpmQwar618Fp0F0ZE= X-Google-DKIM-Signature: v=1; a=rsa-sha256; c=relaxed/relaxed; d=1e100.net; s=20230601; t=1761789405; x=1762394205; h=references:in-reply-to:cc:to:from:subject:message-id:date :x-gm-message-state:from:to:cc:subject:date:message-id:reply-to; bh=r89fPdSOHfaYBu7EzLZKXFLj02fgp0y8pOqI9k9qCGw=; b=ZH79InGyjJdcjmoBaCHRuumPYtnw4hOUZEguepv04Zkv/c93aRcbPLWgekkKXBXC8H I6yLvBc5ckBE4tbT4VPKsL+JNaHt0X9sf2oMW3g1v52GW8Qfqx/B+WvbH8mja2FRssx4 s1cRythUrOEWGT//WJiekXvQF4RiBvID6QHGzoYZ6EDcsuabVJkrGgumyude0eEXXjIo WhQrPFtkpWOyAjzuxxd1vhNgjN2rEw+XFBht8qO3SexcoiVvxfHWFNWijjrWgbV9Xdv1 YPmr+EgViY6x/HXqO08W0CBgr5U9FAwWDX+XZb+Sedn7cIq+DJjBtiRBd0fzLrFPrgNk SYvQ== X-Gm-Message-State: AOJu0YxbOGEI9SacXlas5aHSgsJyEylnZN6weYScErmlFXTqlP7wAPGd A2pRI2145oPpUT0cPdDxCTNBk6vCujwgGvyJHZrG94rsWsCAxcuhhrr4gRxmDGCPNBqL9RMfANP gfTy2g7WpAVUQsx4V8Q9DAvZliW+NBvKWj8NsZKQqLrPTRSRdUfLNWw0ld5wN X-Gm-Gg: ASbGncs3hBbTw9+mwYErOf05eoGMaFjmZXdlabHUpPga6d4EhgS+1KnJWf286C709Is EZFAd6Pj91T7MN4GXynv5I4c/FXnI6z+23vtksfonSe/FDWcGTGWPaXw4vE+MEUeazsdXIb6LZn GgzTW93iLWQ/m+30t+PV3Z0KQHU44pbizXQy2qHWeqBUf79QMRACUtk9WVC10sIEBPCrTQuDdK4 0Zpfj/lIFxFtcMDjYgabVwMdVJj4ac/+vLYgwCary0TpyFPDSb/djFqJlmDvOh2DzEGA+EYkA2o p7n5vSBbuYc95gDuFBoft8fzm8LxR0MLJ7rHux5Mcek1g3Awfl+hFpwqJLf0+665iaOf5sOrm09 ZKnBEJevD X-Google-Smtp-Source: AGHT+IH1zPI2hYUx9QfAtIK9uyyFAH2CJ7agx2DsKbS6gp1muKOCvYLZy1vHSzgyHngTEo16umM9rJGNTR74 X-Received: by 2002:a05:6602:6cc4:b0:940:d996:7837 with SMTP id ca18e2360f4ac-945c979c141mr696957939f.10.1761789405119; Wed, 29 Oct 2025 18:56:45 -0700 (PDT) Received: from postal.iol.unh.edu (postal.iol.unh.edu. [2606:4100:3880:1234::84]) by smtp-relay.gmail.com with ESMTPS id 8926c6da1cb9f-5aea995cf18sm1155748173.26.2025.10.29.18.56.45 (version=TLS1_2 cipher=ECDHE-ECDSA-AES128-GCM-SHA256 bits=128/128); Wed, 29 Oct 2025 18:56:45 -0700 (PDT) X-Relaying-Domain: iol.unh.edu Date: Wed, 29 Oct 2025 18:56:45 -0700 (PDT) Message-ID: <6902c5dd.050a0220.1309b9.661bSMTPIN_ADDED_MISSING@mx.google.com> Received: from [172.21.0.2] (unknown [172.18.0.240]) by postal.iol.unh.edu (Postfix) with ESMTP id AD7186051830; Wed, 29 Oct 2025 21:56:44 -0400 (EDT) Subject: |WARNING| pw158284 [PATCH] [RFC] ethdev: fix UAF in rte_eth_tx_burst From: dpdklab@iol.unh.edu To: Test Report Cc: dpdk-test-reports@iol.unh.edu, Stephen Hemminger In-Reply-To: <20251029235400.1486861-1-stephen@networkplumber.org> References: <20251029235400.1486861-1-stephen@networkplumber.org> Content-Type: text/plain X-BeenThere: test-report@dpdk.org X-Mailman-Version: 2.1.29 Precedence: list List-Id: automatic DPDK test reports List-Unsubscribe: , List-Archive: List-Post: List-Help: List-Subscribe: , Errors-To: test-report-bounces@dpdk.org Test-Label: iol-compile-amd64-testing Test-Status: WARNING http://dpdk.org/patch/158284 _Testing issues_ Submitter: Stephen Hemminger Date: Wednesday, October 29 2025 23:54:00 DPDK git baseline: Repo:dpdk-next-net Branch: master CommitID:33145656260ac9a87590daab3d6f57aa9e579247 158284 --> testing issues Upstream job id: Windows-Compile-DPDK-Native#31998 Test environment and result as below: +-------------------------------+--------------------+-------------------+------------------+-------------------+-------------------------+----------------------+ | Environment | dpdk_meson_compile | dpdk_compile_spdk | dpdk_compile_ovs | dpdk_msvc_compile | dpdk_llvm_clang_compile | dpdk_mingw64_compile | +===============================+====================+===================+==================+===================+=========================+======================+ | CentOS Stream 9 | PASS | WARN | SKIPPED | SKIPPED | SKIPPED | SKIPPED | +-------------------------------+--------------------+-------------------+------------------+-------------------+-------------------------+----------------------+ | CentOS Stream 10 | PASS | SKIPPED | SKIPPED | SKIPPED | SKIPPED | SKIPPED | +-------------------------------+--------------------+-------------------+------------------+-------------------+-------------------------+----------------------+ | Debian GNU/Linux 12 | PASS | WARN | SKIPPED | SKIPPED | SKIPPED | SKIPPED | +-------------------------------+--------------------+-------------------+------------------+-------------------+-------------------------+----------------------+ | Fedora Linux 42 | PASS | WARN | PASS | SKIPPED | SKIPPED | SKIPPED | +-------------------------------+--------------------+-------------------+------------------+-------------------+-------------------------+----------------------+ | Ubuntu 20.04 | PASS | SKIPPED | SKIPPED | SKIPPED | SKIPPED | SKIPPED | +-------------------------------+--------------------+-------------------+------------------+-------------------+-------------------------+----------------------+ | openSUSE Leap 15.6 | PASS | SKIPPED | SKIPPED | SKIPPED | SKIPPED | SKIPPED | +-------------------------------+--------------------+-------------------+------------------+-------------------+-------------------------+----------------------+ | Red Hat Enterprise Linux 8.10 | PASS | SKIPPED | SKIPPED | SKIPPED | SKIPPED | SKIPPED | +-------------------------------+--------------------+-------------------+------------------+-------------------+-------------------------+----------------------+ | Red Hat Enterprise Linux 9.5 | PASS | SKIPPED | SKIPPED | SKIPPED | SKIPPED | SKIPPED | +-------------------------------+--------------------+-------------------+------------------+-------------------+-------------------------+----------------------+ | FreeBSD 14.2 | PASS | SKIPPED | SKIPPED | SKIPPED | SKIPPED | SKIPPED | +-------------------------------+--------------------+-------------------+------------------+-------------------+-------------------------+----------------------+ | Ubuntu 22.04 | PASS | WARN | SKIPPED | SKIPPED | SKIPPED | SKIPPED | +-------------------------------+--------------------+-------------------+------------------+-------------------+-------------------------+----------------------+ | Ubuntu 24.04 | PASS | WARN | PASS | SKIPPED | SKIPPED | SKIPPED | +-------------------------------+--------------------+-------------------+------------------+-------------------+-------------------------+----------------------+ | Alpine Linux 3.22.0 | PASS | SKIPPED | SKIPPED | SKIPPED | SKIPPED | SKIPPED | +-------------------------------+--------------------+-------------------+------------------+-------------------+-------------------------+----------------------+ | Windows Server 2022 | SKIPPED | SKIPPED | SKIPPED | PASS | PASS | PASS | +-------------------------------+--------------------+-------------------+------------------+-------------------+-------------------------+----------------------+ ==== 20 line log output for Ubuntu 24.04 (dpdk_compile_spdk): ==== --- Failed to get log output --- ==== End log output ==== CentOS Stream 9 Kernel: 5.15 Compiler: gcc gcc (GCC) 11.5.0 20240719 (Red Hat 11.5.0-11) CentOS Stream 10 Kernel: 5.15 Compiler: gcc gcc (GCC) 14.2.1 20250110 (Red Hat 14.2.1-8) Debian GNU/Linux 12 Kernel: 5.15 Compiler: gcc gcc (Debian 12.2.0-14+deb12u1) 12.2.0 Fedora Linux 42 Kernel: 5.15 Compiler: clang gcc (GCC) 15.2.1 20250808 (Red Hat 15.2.1-1) Ubuntu 20.04 Kernel: 4.19 Compiler: gcc gcc (Ubuntu 9.4.0-1ubuntu1~20.04.2) 9.4.0 openSUSE Leap 15.6 Kernel: 5.15 Compiler: gcc gcc (SUSE Linux) 7.5.0 Red Hat Enterprise Linux 8.10 Kernel: 5.15 Compiler: gcc gcc (GCC) 8.5.0 20210514 (Red Hat 8.5.0-22) Red Hat Enterprise Linux 9.5 Kernel: 5.15 Compiler: gcc gcc (GCC) 11.5.0 20240719 (Red Hat 11.5.0-2) FreeBSD 14.2 Kernel: 14.2-RELEASE Compiler: clang 18.1.6 Ubuntu 22.04 Kernel: 5.15 Compiler: gcc gcc (Ubuntu 11.4.0-1ubuntu1~22.04) 11.4.0 Ubuntu 24.04 Kernel: 5.15 Compiler: gcc gcc (Ubuntu 13.3.0-6ubuntu2~24.04) 13.3.0 Alpine Linux 3.22.0 Kernel: 5.15 Compiler: gcc gcc (Alpine 14.2.0) 14.2.0 Windows Server 2022 Kernel: 10.0.20348.2031 Compiler: clang 15.0.7, gcc 14.1.0 (MinGW), and MSVC VS 19.39.33521 To view detailed results, visit: https://lab.dpdk.org/results/dashboard/patchsets/34421/ UNH-IOL DPDK Community Lab To manage your email subscriptions, visit: https://lab.dpdk.org/results/dashboard/preferences/subscriptions/