From mboxrd@z Thu Jan 1 00:00:00 1970 Return-Path: Received: from mails.dpdk.org (mails.dpdk.org [217.70.189.124]) by inbox.dpdk.org (Postfix) with ESMTP id 24C7A48A08 for ; Thu, 30 Oct 2025 03:02:07 +0100 (CET) Received: from mails.dpdk.org (localhost [127.0.0.1]) by mails.dpdk.org (Postfix) with ESMTP id 1F56F4027A; Thu, 30 Oct 2025 03:02:07 +0100 (CET) Received: from mail-qv1-f97.google.com (mail-qv1-f97.google.com [209.85.219.97]) by mails.dpdk.org (Postfix) with ESMTP id C2F244027A for ; Thu, 30 Oct 2025 03:02:05 +0100 (CET) Received: by mail-qv1-f97.google.com with SMTP id 6a1803df08f44-87c148fb575so6328166d6.2 for ; Wed, 29 Oct 2025 19:02:05 -0700 (PDT) DKIM-Signature: v=1; a=rsa-sha256; c=relaxed/relaxed; d=iol.unh.edu; s=unh-iol; t=1761789725; x=1762394525; darn=dpdk.org; h=references:in-reply-to:cc:to:from:subject:message-id:date:from:to :cc:subject:date:message-id:reply-to; bh=lOYBxyXwlb0ZnDtH1j+rnv498MA5k7HyGZ6u7edHZeQ=; b=S+D7hkMrlY6MXRl4ltbufIg8HFYoJQXWO7qpEcnFvG8qD0xv/Pb0naGyxGo6cfOlIq pNBkMAI1pnVSPgKFWRHrrtuoYd9GdQoZYswSZiqUqqXp3jXr4QUKT8U2BKKwihErA4s+ cEOF8fSAEr3k0D8Z3VViZpqwK5AdGaorCpgvg= X-Google-DKIM-Signature: v=1; a=rsa-sha256; c=relaxed/relaxed; d=1e100.net; s=20230601; t=1761789725; x=1762394525; h=references:in-reply-to:cc:to:from:subject:message-id:date :x-gm-message-state:from:to:cc:subject:date:message-id:reply-to; bh=lOYBxyXwlb0ZnDtH1j+rnv498MA5k7HyGZ6u7edHZeQ=; b=RJ+krzUHDLsYbDF2i4ap9j4CJp+mlLeoA08Mt0DPnsX74GBnKlaas7KNkILxPJZihA 4WrZMhp2Zoh0v2Nhi4T4snNH3Yxs0/mEeCdiUx+uoMAjYDO4lR435j1sCo74wyZG2y7c N5LE0Q6GbaCCoIYq6JhO+XeyrTN7/Co48vlxRW0iA1ZtotqSzAA5bZSW4r0EKkrYgaJx yQCWRE53uXKyP/2rCsEioYtAVOmXcH/k8wTE+auhg816mqINuq4ys9XtwHQpiZhEH6D0 B+cuj6Bw1jJCIfvymK4FMP24KiY2x/LPtLWLrQo4Ygau9EPKDosCZYV0p0t1EXBMMpJf WlfA== X-Gm-Message-State: AOJu0YyPgqjVxEb0hUEkNXBn55UlC4seGK0h0qmyjOzTK6cjXyNW3MuE gVNtpZSlDW01aAQ+Gb77bIbfwq2hmfbb5R39r60O2n6zjxTym0XOwvcllvURbUP121cF/gt+4XV SAadv6SstKjo3Ib7o9tfVGf4ScmpvsM/JDns6qtLafy1z X-Gm-Gg: ASbGncsOn5RIv6JIxBGqiLmQeuTk5uE6m9+32QFi63qg0F8uIfMcmgyqsg6vkO3VBv3 APKrUBWmXqh/0WjLHuT6ik77hHP0ud0NsGVq/sDHqT/2IoWa2o9l8jc8KPbiy5M0ZV0DHWZ3TKm r/hYQTgSJKhAy8H0oL35PiXX9aDU1qUc438sPiZ/p7C4sHZ8iSJS6jw2cqyOC54s9P6T1eoYNh0 yUShk8KDyDr6zc18IVWlKgOlqejcOMvT2AnYQwdX4+Rfopu03GFO6PvIn6FJWfUu+fZ9pjc0HE6 MjQQUfzMVBeUe0gdG7SnKkM07EnL+rtOi1KnNKn8/CsON9/jdoas1dgF7i+id7N3l/axCHDXi/u WHKTxh4Ua7rnFMuQM4CNmQjy3tBnnABE= X-Google-Smtp-Source: AGHT+IGE67kLNfpsMpUStoIHo1ZcW6k4UmmcwZdTJ7iDAA+4a8bRH2+8ARbsm1QP90EqjsF2wPGZNLOVNtEr X-Received: by 2002:ad4:5b82:0:b0:87c:182f:613d with SMTP id 6a1803df08f44-8801b235f25mr23463416d6.31.1761789725056; Wed, 29 Oct 2025 19:02:05 -0700 (PDT) Received: from postal.iol.unh.edu (postal.iol.unh.edu. [132.177.123.84]) by smtp-relay.gmail.com with ESMTPS id 6a1803df08f44-87fc49bf0casm14260886d6.31.2025.10.29.19.02.04 (version=TLS1_2 cipher=ECDHE-ECDSA-AES128-GCM-SHA256 bits=128/128); Wed, 29 Oct 2025 19:02:05 -0700 (PDT) X-Relaying-Domain: iol.unh.edu Date: Wed, 29 Oct 2025 19:02:05 -0700 (PDT) Message-ID: <6902c71d.050a0220.366eb9.3615SMTPIN_ADDED_MISSING@mx.google.com> Received: from [172.21.0.2] (unknown [172.18.0.240]) by postal.iol.unh.edu (Postfix) with ESMTP id CB23C6051830; Wed, 29 Oct 2025 22:02:04 -0400 (EDT) Subject: |SUCCESS| pw158284 [PATCH] [RFC] ethdev: fix UAF in rte_eth_tx_burst From: dpdklab@iol.unh.edu To: Test Report Cc: dpdk-test-reports@iol.unh.edu, Stephen Hemminger In-Reply-To: <20251029235400.1486861-1-stephen@networkplumber.org> References: <20251029235400.1486861-1-stephen@networkplumber.org> Content-Type: text/plain X-BeenThere: test-report@dpdk.org X-Mailman-Version: 2.1.29 Precedence: list List-Id: automatic DPDK test reports List-Unsubscribe: , List-Archive: List-Post: List-Help: List-Subscribe: , Errors-To: test-report-bounces@dpdk.org Test-Label: iol-unit-amd64-testing Test-Status: SUCCESS http://dpdk.org/patch/158284 _Testing PASS_ Submitter: Stephen Hemminger Date: Wednesday, October 29 2025 23:54:00 DPDK git baseline: Repo:dpdk-next-net Branch: master CommitID:33145656260ac9a87590daab3d6f57aa9e579247 158284 --> testing pass Upstream job id: Generic-VM-Unit-Test-DPDK#32172 Test environment and result as below: +-------------------------------+----------------+ | Environment | dpdk_unit_test | +===============================+================+ | CentOS Stream 9 | PASS | +-------------------------------+----------------+ | Fedora Linux 40 | PASS | +-------------------------------+----------------+ | Fedora Linux 42 | PASS | +-------------------------------+----------------+ | Fedora Linux 41 | PASS | +-------------------------------+----------------+ | CentOS Stream 10 | PASS | +-------------------------------+----------------+ | Debian GNU/Linux 12 | PASS | +-------------------------------+----------------+ | Red Hat Enterprise Linux 8.10 | PASS | +-------------------------------+----------------+ | Red Hat Enterprise Linux 9.5 | PASS | +-------------------------------+----------------+ | Ubuntu 20.04 | PASS | +-------------------------------+----------------+ | Ubuntu 22.04 | PASS | +-------------------------------+----------------+ | Ubuntu 24.04 | PASS | +-------------------------------+----------------+ | Windows Server 2022 | PASS | +-------------------------------+----------------+ CentOS Stream 9 Kernel: 5.15 Compiler: gcc gcc (GCC) 11.5.0 20240719 (Red Hat 11.5.0-11) Fedora Linux 40 Kernel: 5.15 Compiler: clang gcc (GCC) 14.2.1 20240912 (Red Hat 14.2.1-3) Fedora Linux 42 Kernel: 5.15 Compiler: gcc gcc (GCC) 15.2.1 20250808 (Red Hat 15.2.1-1) Fedora Linux 41 Kernel: 5.15 Compiler: gcc gcc (GCC) 14.3.1 20250523 (Red Hat 14.3.1-1) CentOS Stream 10 Kernel: 5.15 Compiler: gcc gcc (GCC) 14.2.1 20250110 (Red Hat 14.2.1-8) Debian GNU/Linux 12 Kernel: 5.15 Compiler: gcc gcc (Debian 12.2.0-14+deb12u1) 12.2.0 Red Hat Enterprise Linux 8.10 Kernel: 5.15 Compiler: gcc gcc (GCC) 8.5.0 20210514 (Red Hat 8.5.0-22) Red Hat Enterprise Linux 9.5 Kernel: 5.15 Compiler: gcc gcc (GCC) 11.5.0 20240719 (Red Hat 11.5.0-2) Ubuntu 20.04 Kernel: 5.15 Compiler: gcc gcc (Ubuntu 9.4.0-1ubuntu1~20.04.2) 9.4.0 Ubuntu 22.04 Kernel: 5.15 Compiler: gcc gcc (Ubuntu 11.4.0-1ubuntu1~22.04) 11.4.0 Ubuntu 24.04 Kernel: 5.15 Compiler: gcc gcc (Ubuntu 13.3.0-6ubuntu2~24.04) 13.3.0 Windows Server 2022 Kernel: 10.0.20348.2031 Compiler: clang 15.0.7, gcc 14.1.0 (MinGW), and MSVC VS 19.39.33521 To view detailed results, visit: https://lab.dpdk.org/results/dashboard/patchsets/34421/ UNH-IOL DPDK Community Lab To manage your email subscriptions, visit: https://lab.dpdk.org/results/dashboard/preferences/subscriptions/