From mboxrd@z Thu Jan 1 00:00:00 1970 Return-Path: Received: from mails.dpdk.org (mails.dpdk.org [217.70.189.124]) by inbox.dpdk.org (Postfix) with ESMTP id 99D6B48A0A for ; Thu, 30 Oct 2025 03:30:53 +0100 (CET) Received: from mails.dpdk.org (localhost [127.0.0.1]) by mails.dpdk.org (Postfix) with ESMTP id 6B1844027A; Thu, 30 Oct 2025 03:30:53 +0100 (CET) Received: from mail-pl1-f227.google.com (mail-pl1-f227.google.com [209.85.214.227]) by mails.dpdk.org (Postfix) with ESMTP id 0B5E74027A for ; Thu, 30 Oct 2025 03:30:52 +0100 (CET) Received: by mail-pl1-f227.google.com with SMTP id d9443c01a7336-29490944023so4306705ad.3 for ; Wed, 29 Oct 2025 19:30:51 -0700 (PDT) DKIM-Signature: v=1; a=rsa-sha256; c=relaxed/relaxed; d=iol.unh.edu; s=unh-iol; t=1761791451; x=1762396251; darn=dpdk.org; h=references:in-reply-to:cc:to:from:subject:message-id:date:from:to :cc:subject:date:message-id:reply-to; bh=4gXjsaGE4e0mvVyy1u2ZrCa973i2M7V1Ldkt04ozEkY=; b=L0XFaQUGKBUJ+moImJ8eU/g7+njFt2cWoKXK9jYi2xGZ/Z5pfBG6MRUqMGmA4711Hf tQXiutZjTxgA5NzLnAIImhXBn4rQaM9CO4NvjAwJUuMxGzJs0Mmbc9C30YNYrx2d8TRq ur7zf07/cwaN7STAkwxhCCNM8Y+pR5RYM/9Ls= X-Google-DKIM-Signature: v=1; a=rsa-sha256; c=relaxed/relaxed; d=1e100.net; s=20230601; t=1761791451; x=1762396251; h=references:in-reply-to:cc:to:from:subject:message-id:date :x-gm-message-state:from:to:cc:subject:date:message-id:reply-to; bh=4gXjsaGE4e0mvVyy1u2ZrCa973i2M7V1Ldkt04ozEkY=; b=KVD41cVeK+DqNybr2mho8ybB4X4CYf2Rpn85yZqfpuYSuYWMfUkvSlrt8+erqldV80 ckGaOj3AoYeNqEfykpNnykaiZoFYtbrNz8cPnzoqZsR2s2WMqUV8+nDQLh+q+03N7czq StK44a3zp2BAUlx8Z4o3vdiheAr2349VDAtP2qF1jYKZd7tH+38HDr2t9YeofjDo/qe/ 8a5hVQRMxelNya5PvcYqjVAFBNwyuxgYVhkWFlwIUtJiKeKmYcTY0PsoYDgkvJ3Xq5Gy SWbVs0es3tb0GpA4pJTlzNaDSjSopxI4vbC/WvMC7UThRq9mohusFTvfdMf1DQOGUD2d zPSw== X-Gm-Message-State: AOJu0YzsQdl8bPshqtYHF0Ejdg90FWr1/cPFQ0JpghvEd5ImPXGqQ5BF +Eny8Na25D18FS/tS3SkfOtQueCMHRFt5vjEonZpsexPv9+hg5NIqwWwhlnm6utxU+FpyE3Ah4x EByOxg2H7LDbT15yYwSWcHCcmHVk25I3Wzv+IYPEKO6GIp0XKf967RV1ELRY6 X-Gm-Gg: ASbGncvlFqvw0vdNqCHIsJWVg7FMx2t0Fgj2lWWouYzI52r/aJOpmDxM2P5/SyLOtLH 3LW9RsYA11+3UuuHRhO311LeSHU9vfnbNf01w6EHThwq2NY1up9+nRSH3b0D6/jn3KeQpHf24Ir 0FV/YPfMN7Zkfll40HSKQafEnYQoA/9xnN+3SAcayfoZ/+f2a40MNInGIHE+2oqyPm0ClOSOIFC W/9TMngk0UhXk4Dks/uTDkVdK9C4MP3uBAu4nfogaLY5335w/OhlF33t/HQDrlcNj3XsxQqPjdy PQTHneOJzvajNx9h/nmZxUXV4dG2cHdgwvHt/rD9PnuceroLpP8USgaYQ3vEk6vNolW2esVP/kz nRICsQtpt X-Google-Smtp-Source: AGHT+IHIZTted2oITkkX9QjB48KfGXp4ntcjPK2Ix9MoNllfCkCehqP14zQlSi+TD5q9P2UmY7Ta4MsKKNIb X-Received: by 2002:a17:902:c94f:b0:279:a5bb:54e2 with SMTP id d9443c01a7336-294dee04fb7mr59542325ad.20.1761791451041; Wed, 29 Oct 2025 19:30:51 -0700 (PDT) Received: from postal.iol.unh.edu (postal.iol.unh.edu. [2606:4100:3880:1234::84]) by smtp-relay.gmail.com with ESMTPS id d9443c01a7336-29498e411a1sm15069215ad.56.2025.10.29.19.30.50 (version=TLS1_2 cipher=ECDHE-ECDSA-AES128-GCM-SHA256 bits=128/128); Wed, 29 Oct 2025 19:30:51 -0700 (PDT) X-Relaying-Domain: iol.unh.edu Date: Wed, 29 Oct 2025 19:30:51 -0700 (PDT) Message-ID: <6902cddb.170a0220.1de891.975cSMTPIN_ADDED_MISSING@mx.google.com> Received: from [172.21.0.2] (unknown [172.18.0.240]) by postal.iol.unh.edu (Postfix) with ESMTP id 443386051830; Wed, 29 Oct 2025 22:30:50 -0400 (EDT) Subject: |SUCCESS| pw158212-158213 [PATCH] [2/2] net/mlx5: fix unnecessary co From: dpdklab@iol.unh.edu To: Test Report Cc: dpdk-test-reports@iol.unh.edu In-Reply-To: <20251029095505.100582-2-getelson@nvidia.com> References: <20251029095505.100582-2-getelson@nvidia.com> Content-Type: text/plain X-BeenThere: test-report@dpdk.org X-Mailman-Version: 2.1.29 Precedence: list List-Id: automatic DPDK test reports List-Unsubscribe: , List-Archive: List-Post: List-Help: List-Subscribe: , Errors-To: test-report-bounces@dpdk.org Test-Label: iol-unit-arm64-testing Test-Status: SUCCESS http://dpdk.org/patch/158213 _Testing PASS_ Submitter: Gregory Etelson Date: Wednesday, October 29 2025 09:55:04 DPDK git baseline: Repo:dpdk-next-net-mlx Branch: master CommitID:39b54f2dcf44ad1f91eabc7080cd5dea763607fd 158212-158213 --> testing pass Upstream job id: Generic-Unit-Test-DPDK#386607 Test environment and result as below: +------------------------------+----------------+--------------+---------------------------+------------------------------+ | Environment | dpdk_unit_test | lpm_autotest | cryptodev_sw_zuc_autotest | cryptodev_sw_snow3g_autotest | +==============================+================+==============+===========================+==============================+ | CentOS Stream 9 | PASS | SKIPPED | SKIPPED | SKIPPED | +------------------------------+----------------+--------------+---------------------------+------------------------------+ | CentOS Stream 10 | PASS | SKIPPED | SKIPPED | SKIPPED | +------------------------------+----------------+--------------+---------------------------+------------------------------+ | Debian GNU/Linux 12 | PASS | SKIPPED | SKIPPED | SKIPPED | +------------------------------+----------------+--------------+---------------------------+------------------------------+ | Fedora Linux 40 | PASS | SKIPPED | SKIPPED | SKIPPED | +------------------------------+----------------+--------------+---------------------------+------------------------------+ | Ubuntu 22.04 | PASS | SKIPPED | SKIPPED | SKIPPED | +------------------------------+----------------+--------------+---------------------------+------------------------------+ | Fedora Linux 41 | PASS | SKIPPED | SKIPPED | SKIPPED | +------------------------------+----------------+--------------+---------------------------+------------------------------+ | Fedora Linux 42 | PASS | SKIPPED | SKIPPED | SKIPPED | +------------------------------+----------------+--------------+---------------------------+------------------------------+ | Red Hat Enterprise Linux 9.5 | PASS | SKIPPED | SKIPPED | SKIPPED | +------------------------------+----------------+--------------+---------------------------+------------------------------+ | Ubuntu 24.04 | PASS | SKIPPED | SKIPPED | SKIPPED | +------------------------------+----------------+--------------+---------------------------+------------------------------+ | Ubuntu 20.04 | PASS | PASS | SKIPPED | SKIPPED | +------------------------------+----------------+--------------+---------------------------+------------------------------+ | Debian 12 (arm) | SKIPPED | SKIPPED | PASS | PASS | +------------------------------+----------------+--------------+---------------------------+------------------------------+ CentOS Stream 9 Kernel: 5.4 Compiler: gcc gcc (GCC) 11.5.0 20240719 (Red Hat 11.5.0-11) CentOS Stream 10 Kernel: 5.4 Compiler: gcc gcc (GCC) 14.2.1 20250110 (Red Hat 14.2.1-8) Debian GNU/Linux 12 Kernel: 5.4 Compiler: gcc gcc (Debian 12.2.0-14+deb12u1) 12.2.0 Fedora Linux 40 Kernel: 5.4 Compiler: gcc gcc (GCC) 14.2.1 20240912 (Red Hat 14.2.1-3) Ubuntu 22.04 Kernel: 5.15 Compiler: gcc gcc (Ubuntu 11.4.0-1ubuntu1~22.04.2) 11.4.0 Fedora Linux 41 Kernel: 5.4 Compiler: gcc gcc (GCC) 14.3.1 20250523 (Red Hat 14.3.1-1) Fedora Linux 42 Kernel: 5.4 Compiler: gcc gcc (GCC) 15.2.1 20250808 (Red Hat 15.2.1-1) Red Hat Enterprise Linux 9.5 Kernel: 5.4 Compiler: gcc gcc (GCC) 11.5.0 20240719 (Red Hat 11.5.0-2) Ubuntu 24.04 Kernel: 5.4 Compiler: gcc gcc (Ubuntu 13.3.0-6ubuntu2~24.04) 13.3.0 Ubuntu 20.04 Kernel: 5.4 Compiler: gcc gcc (Ubuntu 9.4.0-1ubuntu1~20.04.2) 9.4.0 Debian 12 (arm) Kernel: Depends on container host Compiler: gcc (Debian 12.2.0-14) 12.2.0 To view detailed results, visit: https://lab.dpdk.org/results/dashboard/patchsets/34413/ UNH-IOL DPDK Community Lab To manage your email subscriptions, visit: https://lab.dpdk.org/results/dashboard/preferences/subscriptions/