From mboxrd@z Thu Jan 1 00:00:00 1970 Return-Path: Received: from mails.dpdk.org (mails.dpdk.org [217.70.189.124]) by inbox.dpdk.org (Postfix) with ESMTP id 67FB948A0C for ; Thu, 30 Oct 2025 04:42:14 +0100 (CET) Received: from mails.dpdk.org (localhost [127.0.0.1]) by mails.dpdk.org (Postfix) with ESMTP id 63E704027A; Thu, 30 Oct 2025 04:42:14 +0100 (CET) Received: from mail-qk1-f226.google.com (mail-qk1-f226.google.com [209.85.222.226]) by mails.dpdk.org (Postfix) with ESMTP id 915F14027A for ; Thu, 30 Oct 2025 04:42:10 +0100 (CET) Received: by mail-qk1-f226.google.com with SMTP id af79cd13be357-89f07fee490so65176585a.0 for ; Wed, 29 Oct 2025 20:42:10 -0700 (PDT) DKIM-Signature: v=1; a=rsa-sha256; c=relaxed/relaxed; d=iol.unh.edu; s=unh-iol; t=1761795730; x=1762400530; darn=dpdk.org; h=references:in-reply-to:cc:to:from:subject:message-id:date:from:to :cc:subject:date:message-id:reply-to; bh=+6pTaUe5VZsBg84lSpVk28D09mgqdqEgmL44g7KqyRQ=; b=GJuFedozDj/nDrhpYivqdkmQIYNaPvn57lFvnJ3mbVGrM4GUXPskAOrZ8HWa+Zzmlw +kZgzyq63C336mnFirzpsBKkslD70Mf0T9KoBGZcwVnY4XexHOUHYYUu1/B3FskUYABR roaaXIyAmdgnT0s7lpWr41VKENy83wGOICSNw= X-Google-DKIM-Signature: v=1; a=rsa-sha256; c=relaxed/relaxed; d=1e100.net; s=20230601; t=1761795730; x=1762400530; h=references:in-reply-to:cc:to:from:subject:message-id:date :x-gm-message-state:from:to:cc:subject:date:message-id:reply-to; bh=+6pTaUe5VZsBg84lSpVk28D09mgqdqEgmL44g7KqyRQ=; b=GbTq3ef2PEvhEPplUfBtAdQNH5+ddspp7TCifnNeLORAsiG9bIB44gY21iUj/bEMAg WsHBK+qb/ebzkpXxB5Su6rpAF/17uy3wY0c6extJT9EjuEbLYdfXT9jSZHWH1izm66Wt mpLfWM4XWa+7ObBsXC9Pka2hm8c2lrMZTWjYDqVM+5D5N8dVCZV0Bmi0aIXcxiMdrcjr e8Rx+8lH6x5psX16JMHhfKYa4NNiGTtQmNMMZhhLmQ9BHgxI36YrCRCZ+BMi5MUWsiem og3bBmaTXshOTJDz2AMqrARJBJcktIWU5JZ+2/AKCEYM9El74ftRJQTO/8y1Ryrkn+7Q VsgA== X-Gm-Message-State: AOJu0Yx7POSNcdcaAVhTM9ORoa4PdaBzCNkKdQ3Ws3tCEKbRP2Rl6+aa 78LPIpNDbUfCW8LURZNQhjgvsXd+Za0yvhol4cqZtRo2MpHhIYFkPcPgDx5PRq4EDeY6dpaFuJZ AbZur1qy7kloBVWhZ1+0xn+kYUdBreaefbAROtJL066oX9ipqZGrK/G8Bb3kn X-Gm-Gg: ASbGncsM/ZkCUp/HcmYhrDhNWIYLuJI3HQWIKN8XHCKhnzVenhSuJ1KSgtL+aqax9Hw 4JjwUKcWcapQe4zUTRr2Uxa6l+Pp4DtwLJTWp2YSQ3RpR4ASJo9nAnWeIbsaz3Kxnsy8cL7zPdu nExfZp11hrGFsyKHf6AgS0y9QRpZS/a4Yq1Q8X07+Gsd0nCllXbEjL+XRqg939i5k2IsFL1Ax73 +FJA1XVlOSNcumv5jmCSJ6CNzW62q4d2XtxI+A03PBTu6lZhP4v83lFgHl8nrhEFGeM5gcdgOtd qXPF6L5kj5MvyNxVX9fGtAVXsIoImiQq5o64wpKofJ7zjy31WZP26Goixb1f64LRvOiOkQ9dG5N TPu1KPdEM X-Google-Smtp-Source: AGHT+IGvuh44+WCK4ogwvq84F/x3Q9GvQMTzp/Y1zOTzNbnhS9UaIrT1lawgOCAKXarEtag9wSpRskRRUf7e X-Received: by 2002:a05:620a:46a4:b0:8a2:234a:17d9 with SMTP id af79cd13be357-8a8e36c2977mr659985285a.33.1761795729863; Wed, 29 Oct 2025 20:42:09 -0700 (PDT) Received: from postal.iol.unh.edu (postal.iol.unh.edu. [2606:4100:3880:1234::84]) by smtp-relay.gmail.com with ESMTPS id af79cd13be357-89f23c3e870sm147971985a.3.2025.10.29.20.42.09 (version=TLS1_2 cipher=ECDHE-ECDSA-AES128-GCM-SHA256 bits=128/128); Wed, 29 Oct 2025 20:42:09 -0700 (PDT) X-Relaying-Domain: iol.unh.edu Date: Wed, 29 Oct 2025 20:42:09 -0700 (PDT) Message-ID: <6902de91.050a0220.3064db.567bSMTPIN_ADDED_MISSING@mx.google.com> Received: from [172.21.0.3] (unknown [172.18.0.240]) by postal.iol.unh.edu (Postfix) with ESMTP id 995A26051830; Wed, 29 Oct 2025 23:42:09 -0400 (EDT) Subject: |SUCCESS| pw158283 [PATCH] pmdinfogen: fix warning with python 3.14 From: dpdklab@iol.unh.edu To: Test Report Cc: dpdk-test-reports@iol.unh.edu In-Reply-To: <20251029164616.76233-2-rjarry@redhat.com> References: <20251029164616.76233-2-rjarry@redhat.com> Content-Type: text/plain X-BeenThere: test-report@dpdk.org X-Mailman-Version: 2.1.29 Precedence: list List-Id: automatic DPDK test reports List-Unsubscribe: , List-Archive: List-Post: List-Help: List-Subscribe: , Errors-To: test-report-bounces@dpdk.org Test-Label: iol-compile-arm64-testing Test-Status: SUCCESS http://dpdk.org/patch/158283 _Testing PASS_ Submitter: Robin Jarry Date: Wednesday, October 29 2025 16:46:17 DPDK git baseline: Repo:dpdk Branch: master CommitID:39b54f2dcf44ad1f91eabc7080cd5dea763607fd 158283 --> testing pass Upstream job id: Generic-DPDK-Compile-Meson#439150 Test environment and result as below: +------------------------------+--------------------+ | Environment | dpdk_meson_compile | +==============================+====================+ | Red Hat Enterprise Linux 9.5 | PASS | +------------------------------+--------------------+ | Ubuntu 20.04 | PASS | +------------------------------+--------------------+ | Debian GNU/Linux 12 | PASS | +------------------------------+--------------------+ | Fedora Linux 42 | PASS | +------------------------------+--------------------+ | Ubuntu 22.04 | PASS | +------------------------------+--------------------+ | Ubuntu 24.04 | PASS | +------------------------------+--------------------+ | CentOS Stream 9 | PASS | +------------------------------+--------------------+ | CentOS Stream 10 | PASS | +------------------------------+--------------------+ Red Hat Enterprise Linux 9.5 Kernel: 5.4 Compiler: gcc gcc (GCC) 11.5.0 20240719 (Red Hat 11.5.0-2) Ubuntu 20.04 Kernel: 5.15 Compiler: aarch64-linux-gnu-gcc gcc (Ubuntu 9.4.0-1ubuntu1~20.04.2) 9.4.0 Debian GNU/Linux 12 Kernel: 5.4 Compiler: gcc gcc (Debian 12.2.0-14+deb12u1) 12.2.0 Fedora Linux 42 Kernel: 5.4 Compiler: gcc gcc (GCC) 15.2.1 20250808 (Red Hat 15.2.1-1) Ubuntu 22.04 Kernel: 5.4 Compiler: gcc gcc (Ubuntu 11.4.0-1ubuntu1~22.04) 11.4.0 Ubuntu 24.04 Kernel: 5.4 Compiler: gcc gcc (Ubuntu 13.3.0-6ubuntu2~24.04) 13.3.0 CentOS Stream 9 Kernel: 5.4 Compiler: gcc gcc (GCC) 11.5.0 20240719 (Red Hat 11.5.0-11) CentOS Stream 10 Kernel: 5.4 Compiler: gcc gcc (GCC) 14.2.1 20250110 (Red Hat 14.2.1-8) To view detailed results, visit: https://lab.dpdk.org/results/dashboard/patchsets/34420/ UNH-IOL DPDK Community Lab To manage your email subscriptions, visit: https://lab.dpdk.org/results/dashboard/preferences/subscriptions/