From mboxrd@z Thu Jan 1 00:00:00 1970 Return-Path: Received: from mails.dpdk.org (mails.dpdk.org [217.70.189.124]) by inbox.dpdk.org (Postfix) with ESMTP id 74F2C48A0C for ; Thu, 30 Oct 2025 04:42:22 +0100 (CET) Received: from mails.dpdk.org (localhost [127.0.0.1]) by mails.dpdk.org (Postfix) with ESMTP id 708C64027A; Thu, 30 Oct 2025 04:42:22 +0100 (CET) Received: from mail-pl1-f226.google.com (mail-pl1-f226.google.com [209.85.214.226]) by mails.dpdk.org (Postfix) with ESMTP id 211DC4027A for ; Thu, 30 Oct 2025 04:42:18 +0100 (CET) Received: by mail-pl1-f226.google.com with SMTP id d9443c01a7336-28a5b8b12a1so5904865ad.0 for ; Wed, 29 Oct 2025 20:42:18 -0700 (PDT) DKIM-Signature: v=1; a=rsa-sha256; c=relaxed/relaxed; d=iol.unh.edu; s=unh-iol; t=1761795737; x=1762400537; darn=dpdk.org; h=cc:to:from:subject:message-id:date:from:to:cc:subject:date :message-id:reply-to; bh=+b4nCAt+rC9N9kWqgMjfICbRE/elczL0qBnCUxcYguM=; b=bzGUVvLbj0cdwPbVVFlOKCnt/tD/85LZ593Kpk/7yU2Wi+nvu4ihAQ+bMld5zpvkeo MKtLRWVGKuRYQOBJd1ObSGdPrSCDXik2BErFW/tdoNnEB1r3hY8aW2TR0sLtVkOc+2La D2B78Zb9pAZDRO+1s3QQb3lGbSTKnTmny0+pw= X-Google-DKIM-Signature: v=1; a=rsa-sha256; c=relaxed/relaxed; d=1e100.net; s=20230601; t=1761795737; x=1762400537; h=cc:to:from:subject:message-id:date:x-gm-message-state:from:to:cc :subject:date:message-id:reply-to; bh=+b4nCAt+rC9N9kWqgMjfICbRE/elczL0qBnCUxcYguM=; b=lGXYLcVYeLujA0UNAyCmgM1SUO+yO16T+qKQ9112F0Odzg9x7VvmbV6lmP50PR3aRd ZBpI5Vza0omGKQVYmpbNcAqS2kMejZn5ERlAxViU7kkyi1ZJjTG3YH0ocxkAwfbOTZvE ijsXlzmOz2x944Rbi/ifgnif0J7AFlx3QDrO+/7IZ/LBwVcKX5UU2PxZyrXEw8XmOAA5 0CnlRicfQ/BzbTkMVsUxveTLxBWpGdXwgM1Okc/3idhHeK35Pn3/I+SEKVweHC9Yl/RG mIwUJ5ckOSrVEinXQJzmH+ch+QUrC5p3u/eB1NUJc2LIeZr0mvMVfXqbv8FXX6yrhCsa xjZg== X-Gm-Message-State: AOJu0YzvM87niHibF4oZUnd2ld1qIOXrIEhQta0uqfCC5HgCgncYoZM3 WEdLigAkwZ9jn211Zuw1b/Ch5Kb+0EwODa9w+qzK7jcLe68BvXJPKnEQAd5E/OQqKRI5i06XYIB lxQB1CaykPnYeT7/D3sPpQeWMDL2IWtgx5SNA8/+wB1GGxjvnfnTQ X-Gm-Gg: ASbGncuI19jVom7gdy8B//TGGFc1epv4p4S/QHsm85M4RgDODBSmLkDQkI8RsggG0M8 Q/Qap1R4tVg+Hleg66WQ+ANvNuAUwm9uZh5DVfvE5mswUdtFF9XyXyO2H0YrBOxP0Hcd5YV+phx +poHsQsc2XCcd+GCwiakHd04+I9nOo3dnu2PssMdXD3ssdc8BK+Tc56hLI7iiQC4Jw0/lavo0JD T5PTUw8oNQl5DZOH9ySKxn8cC6YJafaDVnv/UHZQbox6Hj2lViEfTPoi9PXLWfqBy5OF0SqsI2k TOIXlohMNu6SmtBcoxXyyOd34QM3nvypQgaU6+yl63IcjQ5bCwR9/ha6mZerpoCkQEabcLC37dy SuGdA9rvC X-Google-Smtp-Source: AGHT+IHFg7QaaVE8NKUG2MBlGI2G0MJIuJWnmG+CS18Z5kQ8UAbkqW6x6FZqcoimj/Ru3Wc4XefmZ65oTLu6 X-Received: by 2002:a17:903:22c3:b0:294:a827:851 with SMTP id d9443c01a7336-294dedf645amr60626745ad.17.1761795737215; Wed, 29 Oct 2025 20:42:17 -0700 (PDT) Received: from postal.iol.unh.edu (postal.iol.unh.edu. [2606:4100:3880:1234::84]) by smtp-relay.gmail.com with ESMTPS id d9443c01a7336-29498d4276asm15943005ad.47.2025.10.29.20.42.17 (version=TLS1_2 cipher=ECDHE-ECDSA-AES128-GCM-SHA256 bits=128/128); Wed, 29 Oct 2025 20:42:17 -0700 (PDT) X-Relaying-Domain: iol.unh.edu Date: Wed, 29 Oct 2025 20:42:17 -0700 (PDT) Message-ID: <6902de99.170a0220.3b275f.b5b1SMTPIN_ADDED_MISSING@mx.google.com> Received: from [172.21.0.3] (unknown [172.18.0.240]) by postal.iol.unh.edu (Postfix) with ESMTP id A4B566051830; Wed, 29 Oct 2025 23:42:16 -0400 (EDT) Subject: |SUCCESS| [GIT MASTER] 5d40aaf77852b5884e137f1588726c92feb59002 From: dpdklab@iol.unh.edu To: Test Report Cc: dpdk-test-reports@iol.unh.edu, Ajit Khaparde Content-Type: text/plain X-BeenThere: test-report@dpdk.org X-Mailman-Version: 2.1.29 Precedence: list List-Id: automatic DPDK test reports List-Unsubscribe: , List-Archive: List-Post: List-Help: List-Subscribe: , Errors-To: test-report-bounces@dpdk.org _Testing PASS_ Branch: next-net-brcm-for-next-net 5d40aaf77852b5884e137f1588726c92feb59002 --> testing pass Upstream job id: Generic-DPDK-Compile-Meson#439066 Test environment and result as below: +------------------------------+--------------------+ | Environment | dpdk_meson_compile | +==============================+====================+ | Ubuntu 20.04 | PASS | +------------------------------+--------------------+ | Red Hat Enterprise Linux 9.5 | PASS | +------------------------------+--------------------+ | Debian GNU/Linux 12 | PASS | +------------------------------+--------------------+ | Fedora Linux 42 | PASS | +------------------------------+--------------------+ | Ubuntu 22.04 | PASS | +------------------------------+--------------------+ | Ubuntu 24.04 | PASS | +------------------------------+--------------------+ | CentOS Stream 9 | PASS | +------------------------------+--------------------+ | CentOS Stream 10 | PASS | +------------------------------+--------------------+ Ubuntu 20.04 Kernel: 5.15 Compiler: aarch64-linux-gnu-gcc gcc (Ubuntu 9.4.0-1ubuntu1~20.04.2) 9.4.0 Red Hat Enterprise Linux 9.5 Kernel: 5.4 Compiler: gcc gcc (GCC) 11.5.0 20240719 (Red Hat 11.5.0-2) Debian GNU/Linux 12 Kernel: 5.4 Compiler: gcc gcc (Debian 12.2.0-14+deb12u1) 12.2.0 Fedora Linux 42 Kernel: 5.4 Compiler: gcc gcc (GCC) 15.2.1 20250808 (Red Hat 15.2.1-1) Ubuntu 22.04 Kernel: 5.4 Compiler: gcc gcc (Ubuntu 11.4.0-1ubuntu1~22.04) 11.4.0 Ubuntu 24.04 Kernel: 5.4 Compiler: gcc gcc (Ubuntu 13.3.0-6ubuntu2~24.04) 13.3.0 CentOS Stream 9 Kernel: 5.4 Compiler: gcc gcc (GCC) 11.5.0 20240719 (Red Hat 11.5.0-11) CentOS Stream 10 Kernel: 5.4 Compiler: gcc gcc (GCC) 14.2.1 20250110 (Red Hat 14.2.1-8) To view detailed results, visit: https://lab.dpdk.org/results/dashboard/tarballs/35390/ UNH-IOL DPDK Community Lab To manage your email subscriptions, visit: https://lab.dpdk.org/results/dashboard/preferences/subscriptions/