From mboxrd@z Thu Jan 1 00:00:00 1970 Return-Path: Received: from mails.dpdk.org (mails.dpdk.org [217.70.189.124]) by inbox.dpdk.org (Postfix) with ESMTP id 8FCA848A0C for ; Thu, 30 Oct 2025 04:42:29 +0100 (CET) Received: from mails.dpdk.org (localhost [127.0.0.1]) by mails.dpdk.org (Postfix) with ESMTP id 8A3514027A; Thu, 30 Oct 2025 04:42:29 +0100 (CET) Received: from mail-qv1-f98.google.com (mail-qv1-f98.google.com [209.85.219.98]) by mails.dpdk.org (Postfix) with ESMTP id 9B0604027A for ; Thu, 30 Oct 2025 04:42:24 +0100 (CET) Received: by mail-qv1-f98.google.com with SMTP id 6a1803df08f44-7ea50f94045so18144916d6.1 for ; Wed, 29 Oct 2025 20:42:24 -0700 (PDT) DKIM-Signature: v=1; a=rsa-sha256; c=relaxed/relaxed; d=iol.unh.edu; s=unh-iol; t=1761795744; x=1762400544; darn=dpdk.org; h=references:in-reply-to:cc:to:from:subject:message-id:date:from:to :cc:subject:date:message-id:reply-to; bh=9uEJJm8xnoWPslOdLS0UvehHv8D5ko7NcVwY1MIhfDE=; b=eCz33I//p7Ds7djr6odf/Z/4MywvBxWskW9xwHXV6ddXL/whUVoQN765G+Fo2ape7P NlcK2dqpQ45fVmDnAmYkt3CDURuVRwmWD1DQx1WPBSs018mtpQvYSTCwrXQIpe7fp3LS 069ugBddxfP6zR+zLH3POJ8U3pwNbPrUhYtKc= X-Google-DKIM-Signature: v=1; a=rsa-sha256; c=relaxed/relaxed; d=1e100.net; s=20230601; t=1761795744; x=1762400544; h=references:in-reply-to:cc:to:from:subject:message-id:date :x-gm-message-state:from:to:cc:subject:date:message-id:reply-to; bh=9uEJJm8xnoWPslOdLS0UvehHv8D5ko7NcVwY1MIhfDE=; b=U3hmbfQGRsw2a4vstdR6MgaHOXvWwepwHEwFec4clxpljnVQR1gMY5Vj18lUv3qOYk OpXVuub27t52eNQ+Vj4Vu4Fg0ZJYSB4kRNBX/xi+Uaj2Hp+QyO8LjRBL02K1Rn4SGFd7 PqDHNHRxrl7+9v68d2lf9QK3Byq/AHUNsx+Xw+1yNyDNlOjGwVcE3i+T+g0CXPEm1QXB u+bmIXbAll8mN47V/+OVDB+AutyL38tcI9aDwDCGeSv326c21Yhe/VnXei+939qR9CsQ Xm8IXE6AgdZyfJVsXQkAu/CIbQNnMlHlqIyRuuH9w9bRokMoWt74C5V7/zx3fQlRW22N gN1w== X-Gm-Message-State: AOJu0YzzBEoPfSGF8pdeyGSQxGo9vs6heuXYinTtx5/gmX7IZYbey9P+ Q0IXDT/IOrR6L7nGFI+pnKYzgRgLEslpXwUHjxfohIFYmgodWjefQqiGj0ILupuMcf6CP9kGx2M jNKbS3sD5msayKfrbl/3J72tXphwAnh0bJLuTRRDJnrLM8zUmnT5uTdlS1b4F X-Gm-Gg: ASbGncvR/Pjkl79t37Ivmgyvn1VUaS4aAxgGggevDD+w2LjN263Mvhj3q5gwL2+NPpq +/h7jSK9XntQvCA8w3d/x6xfNI5wp/o/tWLZEqF4tYFP3UzbIZiWBEGxeVk0Unt8AIuITWnomrN CV6+QOjfA689hFO9QJz/xQMZrnVp5JMhz/9A894YtpRf45O3ZqEiso/63wO1qK8iApgiUYDlZOj x1uBta6A+StaoNwgJr/68lf/5icVqnD4edQngI90xC4ABzkG5S/MqRVgB5UGHvhsS1Q7oxVBTNZ MgdTFD3MjpEwRIHToPAzJFrJsNTjqfsTLpo7WSgWL1rCsHHa2QcCQrBPnB8WstjVgWfukIXLV94 tn5beyigQ X-Google-Smtp-Source: AGHT+IFprv12z9fwY+33y5p/GD91WvIFtGm5TbFUUwkS2fiHBdhZtpiPlW+5re/HU81C+GzhwliS16I/ppvG X-Received: by 2002:a05:6214:4608:b0:87f:fffb:b7af with SMTP id 6a1803df08f44-8801ac16b19mr27178546d6.1.1761795744006; Wed, 29 Oct 2025 20:42:24 -0700 (PDT) Received: from postal.iol.unh.edu (postal.iol.unh.edu. [2606:4100:3880:1234::84]) by smtp-relay.gmail.com with ESMTPS id 6a1803df08f44-87fc49dbba7sm15350446d6.34.2025.10.29.20.42.23 (version=TLS1_2 cipher=ECDHE-ECDSA-AES128-GCM-SHA256 bits=128/128); Wed, 29 Oct 2025 20:42:24 -0700 (PDT) X-Relaying-Domain: iol.unh.edu Date: Wed, 29 Oct 2025 20:42:24 -0700 (PDT) Message-ID: <6902dea0.050a0220.315307.90a2SMTPIN_ADDED_MISSING@mx.google.com> Received: from [172.21.0.2] (unknown [172.18.0.240]) by postal.iol.unh.edu (Postfix) with ESMTP id BDEE26051830; Wed, 29 Oct 2025 23:42:23 -0400 (EDT) Subject: |SUCCESS| pw158223-158224 [PATCH] [3/3] net/mlx5: support flow metad From: dpdklab@iol.unh.edu To: Test Report Cc: dpdk-test-reports@iol.unh.edu In-Reply-To: <20251029155711.169580-3-getelson@nvidia.com> References: <20251029155711.169580-3-getelson@nvidia.com> Content-Type: text/plain X-BeenThere: test-report@dpdk.org X-Mailman-Version: 2.1.29 Precedence: list List-Id: automatic DPDK test reports List-Unsubscribe: , List-Archive: List-Post: List-Help: List-Subscribe: , Errors-To: test-report-bounces@dpdk.org Test-Label: iol-compile-arm64-testing Test-Status: SUCCESS http://dpdk.org/patch/158224 _Testing PASS_ Submitter: Gregory Etelson Date: Wednesday, October 29 2025 15:57:10 DPDK git baseline: Repo:dpdk-next-net-mlx Branch: master CommitID:39b54f2dcf44ad1f91eabc7080cd5dea763607fd 158223-158224 --> testing pass Upstream job id: Generic-DPDK-Compile-Meson#439093 Test environment and result as below: +------------------------------+--------------------+ | Environment | dpdk_meson_compile | +==============================+====================+ | Red Hat Enterprise Linux 9.5 | PASS | +------------------------------+--------------------+ | Ubuntu 20.04 | PASS | +------------------------------+--------------------+ | Debian GNU/Linux 12 | PASS | +------------------------------+--------------------+ | Fedora Linux 42 | PASS | +------------------------------+--------------------+ | Ubuntu 22.04 | PASS | +------------------------------+--------------------+ | Ubuntu 24.04 | PASS | +------------------------------+--------------------+ | CentOS Stream 9 | PASS | +------------------------------+--------------------+ | CentOS Stream 10 | PASS | +------------------------------+--------------------+ Red Hat Enterprise Linux 9.5 Kernel: 5.4 Compiler: gcc gcc (GCC) 11.5.0 20240719 (Red Hat 11.5.0-2) Ubuntu 20.04 Kernel: 5.15 Compiler: aarch64-linux-gnu-gcc gcc (Ubuntu 9.4.0-1ubuntu1~20.04.2) 9.4.0 Debian GNU/Linux 12 Kernel: 5.4 Compiler: gcc gcc (Debian 12.2.0-14+deb12u1) 12.2.0 Fedora Linux 42 Kernel: 5.4 Compiler: gcc gcc (GCC) 15.2.1 20250808 (Red Hat 15.2.1-1) Ubuntu 22.04 Kernel: 5.4 Compiler: gcc gcc (Ubuntu 11.4.0-1ubuntu1~22.04) 11.4.0 Ubuntu 24.04 Kernel: 5.4 Compiler: gcc gcc (Ubuntu 13.3.0-6ubuntu2~24.04) 13.3.0 CentOS Stream 9 Kernel: 5.4 Compiler: gcc gcc (GCC) 11.5.0 20240719 (Red Hat 11.5.0-11) CentOS Stream 10 Kernel: 5.4 Compiler: gcc gcc (GCC) 14.2.1 20250110 (Red Hat 14.2.1-8) To view detailed results, visit: https://lab.dpdk.org/results/dashboard/patchsets/34418/ UNH-IOL DPDK Community Lab To manage your email subscriptions, visit: https://lab.dpdk.org/results/dashboard/preferences/subscriptions/