From mboxrd@z Thu Jan 1 00:00:00 1970 Return-Path: Received: from mails.dpdk.org (mails.dpdk.org [217.70.189.124]) by inbox.dpdk.org (Postfix) with ESMTP id 9EDAD48A0C for ; Thu, 30 Oct 2025 04:42:35 +0100 (CET) Received: from mails.dpdk.org (localhost [127.0.0.1]) by mails.dpdk.org (Postfix) with ESMTP id 9B02D4027A; Thu, 30 Oct 2025 04:42:35 +0100 (CET) Received: from mail-yx1-f97.google.com (mail-yx1-f97.google.com [74.125.224.97]) by mails.dpdk.org (Postfix) with ESMTP id 9AC224027A for ; Thu, 30 Oct 2025 04:42:30 +0100 (CET) Received: by mail-yx1-f97.google.com with SMTP id 956f58d0204a3-633c1b740c5so741098d50.3 for ; Wed, 29 Oct 2025 20:42:30 -0700 (PDT) DKIM-Signature: v=1; a=rsa-sha256; c=relaxed/relaxed; d=iol.unh.edu; s=unh-iol; t=1761795750; x=1762400550; darn=dpdk.org; h=cc:to:from:subject:message-id:date:from:to:cc:subject:date :message-id:reply-to; bh=naI3cVa9hKhtXjjkj7+moNpdpNFsSH+Ax56aYsUfZTg=; b=AXBGnXq+0eFEsjrAPUN6340+Nk2LphoGBMhhYPxZygy68lyCEg79VzRHttZq7dBgmD MnkXgxCnGYmqFCtfDuvuH3FQTpu6P2/MmX10P/M2KgsmziggOJ5lvPzRRe+wF+WRv+Tc yRGyat96katynuKForhR9CTesnQv7UMVRbXMY= X-Google-DKIM-Signature: v=1; a=rsa-sha256; c=relaxed/relaxed; d=1e100.net; s=20230601; t=1761795750; x=1762400550; h=cc:to:from:subject:message-id:date:x-gm-message-state:from:to:cc :subject:date:message-id:reply-to; bh=naI3cVa9hKhtXjjkj7+moNpdpNFsSH+Ax56aYsUfZTg=; b=lEQcgJo7Rn1RaUQnI0e36bfiFW/MF0XlpVX/lGvpx78ga5BCpsVRAZ/fusSoed7h6A 4H2w6h7ZUuCLhrXqz0fTOYkVT30a4qi0soY4PLAH8N2oEIW6phQU3LNCEiRYv62yKG2h yONCHTu6Q5b6ikTwKG9IjF2fudFGrzKH8BnqxyPjrx3x0dH1gjhVnKsGx7+S5NFT4q0s y/0q3bej6ex3xs+VAfk/uLz8OVOIsGKVzBNO9eEmGw/vwEIXkSu+vP96spXSfCFhzTMj toly9G4+l+xS/ozpZv1jQTOgAbuWuc05Aqrm8qMIfOffawJWuJ+hR/x8ZEopboW+joAF k1yg== X-Gm-Message-State: AOJu0YwxjwqrTKZIzy4rrHcp0U8jiU7ZO/86X/5nROffgkkkMFuurT/z CVuECH+4E+UBU3COvMohuKOrjOFkKoqpd89sQpQdTsDSusJgVaemsJDEEd26WNfZM0fiXIPl+hY 8UWJP/feMMYUGVsG+T0pcpk9K9QgoewkLrvbzLCW9DExosjhXHQi1 X-Gm-Gg: ASbGnctH2EJvX1ImFNWwNoAFikCufdkAu6Cn40r5vn6ltpBOF1x0Fq8IE4AFVH+sHa2 CKaCWYECFv6MCkBRDfCZBA8elbVmQeM28cDcx8Ebj7TYDCT3Yk1JjPsCB9gJx82iP+IpPVwg3cL Kz1zd4H7Gw8piD7OjNMtki7c2Q50Rbnm68CFgcKOmc9Bb3HkAXkLc7atZgKoiFP26HQ5P22PZPf AKZPgXaYXss/00dUyo1NpiBL38NkVCiKhrwz0x9RTt+vhLBcJaTW6WEoX93oVQ+7OGsh2nJPA4I isYzPHPD0s+cT0YPqOR3QWCcgNBxdj9QK10tNn+ZJ65jBqglHt7PY6MMITnQWZZcw8E/5wdvouQ HzQMggIOH X-Google-Smtp-Source: AGHT+IHJtpy3YvdnWjGwUnoDwOxFUWRPpO5eDLnzFAJiYoyXkMX2q0TVifhxv7cADBiPPAseGraxmxt45xAy X-Received: by 2002:a53:8450:0:b0:63e:d1f:d685 with SMTP id 956f58d0204a3-63f76db43d8mr3517819d50.51.1761795750004; Wed, 29 Oct 2025 20:42:30 -0700 (PDT) Received: from postal.iol.unh.edu (postal.iol.unh.edu. [2606:4100:3880:1234::84]) by smtp-relay.gmail.com with ESMTPS id 00721157ae682-786307691casm2103567b3.21.2025.10.29.20.42.29 (version=TLS1_2 cipher=ECDHE-ECDSA-AES128-GCM-SHA256 bits=128/128); Wed, 29 Oct 2025 20:42:29 -0700 (PDT) X-Relaying-Domain: iol.unh.edu Date: Wed, 29 Oct 2025 20:42:29 -0700 (PDT) Message-ID: <6902dea5.050a0220.2d815b.a313SMTPIN_ADDED_MISSING@mx.google.com> Received: from [172.21.0.2] (unknown [172.18.0.240]) by postal.iol.unh.edu (Postfix) with ESMTP id A5BE06051830; Wed, 29 Oct 2025 23:42:29 -0400 (EDT) Subject: |SUCCESS| [GIT MASTER] 5d40aaf77852b5884e137f1588726c92feb59002 From: dpdklab@iol.unh.edu To: Test Report Cc: dpdk-test-reports@iol.unh.edu, Ajit Khaparde Content-Type: text/plain X-BeenThere: test-report@dpdk.org X-Mailman-Version: 2.1.29 Precedence: list List-Id: automatic DPDK test reports List-Unsubscribe: , List-Archive: List-Post: List-Help: List-Subscribe: , Errors-To: test-report-bounces@dpdk.org _Testing PASS_ Branch: next-net-brcm-for-next-net 5d40aaf77852b5884e137f1588726c92feb59002 --> testing pass Upstream job id: Generic-DPDK-Compile-Meson#439065 Test environment and result as below: +------------------------------+--------------------+ | Environment | dpdk_meson_compile | +==============================+====================+ | Ubuntu 20.04 | PASS | +------------------------------+--------------------+ | Red Hat Enterprise Linux 9.5 | PASS | +------------------------------+--------------------+ | Debian GNU/Linux 12 | PASS | +------------------------------+--------------------+ | Fedora Linux 42 | PASS | +------------------------------+--------------------+ | Ubuntu 22.04 | PASS | +------------------------------+--------------------+ | Ubuntu 24.04 | PASS | +------------------------------+--------------------+ | CentOS Stream 9 | PASS | +------------------------------+--------------------+ | CentOS Stream 10 | PASS | +------------------------------+--------------------+ Ubuntu 20.04 Kernel: 5.15 Compiler: aarch64-linux-gnu-gcc gcc (Ubuntu 9.4.0-1ubuntu1~20.04.2) 9.4.0 Red Hat Enterprise Linux 9.5 Kernel: 5.4 Compiler: gcc gcc (GCC) 11.5.0 20240719 (Red Hat 11.5.0-2) Debian GNU/Linux 12 Kernel: 5.4 Compiler: gcc gcc (Debian 12.2.0-14+deb12u1) 12.2.0 Fedora Linux 42 Kernel: 5.4 Compiler: gcc gcc (GCC) 15.2.1 20250808 (Red Hat 15.2.1-1) Ubuntu 22.04 Kernel: 5.4 Compiler: gcc gcc (Ubuntu 11.4.0-1ubuntu1~22.04) 11.4.0 Ubuntu 24.04 Kernel: 5.4 Compiler: gcc gcc (Ubuntu 13.3.0-6ubuntu2~24.04) 13.3.0 CentOS Stream 9 Kernel: 5.4 Compiler: gcc gcc (GCC) 11.5.0 20240719 (Red Hat 11.5.0-11) CentOS Stream 10 Kernel: 5.4 Compiler: gcc gcc (GCC) 14.2.1 20250110 (Red Hat 14.2.1-8) To view detailed results, visit: https://lab.dpdk.org/results/dashboard/tarballs/35390/ UNH-IOL DPDK Community Lab To manage your email subscriptions, visit: https://lab.dpdk.org/results/dashboard/preferences/subscriptions/