From mboxrd@z Thu Jan 1 00:00:00 1970 Return-Path: Received: from mails.dpdk.org (mails.dpdk.org [217.70.189.124]) by inbox.dpdk.org (Postfix) with ESMTP id 2CA0E48A0C for ; Thu, 30 Oct 2025 04:47:37 +0100 (CET) Received: from mails.dpdk.org (localhost [127.0.0.1]) by mails.dpdk.org (Postfix) with ESMTP id 20C354027A; Thu, 30 Oct 2025 04:47:37 +0100 (CET) Received: from mail-il1-f225.google.com (mail-il1-f225.google.com [209.85.166.225]) by mails.dpdk.org (Postfix) with ESMTP id 68C824027A for ; Thu, 30 Oct 2025 04:47:35 +0100 (CET) Received: by mail-il1-f225.google.com with SMTP id e9e14a558f8ab-43300e49693so4988835ab.0 for ; Wed, 29 Oct 2025 20:47:35 -0700 (PDT) DKIM-Signature: v=1; a=rsa-sha256; c=relaxed/relaxed; d=iol.unh.edu; s=unh-iol; t=1761796055; x=1762400855; darn=dpdk.org; h=cc:to:from:subject:message-id:date:from:to:cc:subject:date :message-id:reply-to; bh=3yfkF4+dkX1qT+e/2RdO9ejQ8ERgQ5Xt4/JszT0f2nM=; b=MZ/7B6C+LGyymT+wMSADtCCsUeDCBXt3NZDAyLCZMJz+hkSpzoEwtsJk3t4p6K/VtT o6PZcBqhe+CQc4rQG2NMgzlkpy2OKsKcmRu6kkkiJirEDvwYUcCOP4wWpbOd+/KsDNuD /ntbnE/bP2mDBN9i6tIoB1Aj1anKbXamROCas= X-Google-DKIM-Signature: v=1; a=rsa-sha256; c=relaxed/relaxed; d=1e100.net; s=20230601; t=1761796055; x=1762400855; h=cc:to:from:subject:message-id:date:x-gm-message-state:from:to:cc :subject:date:message-id:reply-to; bh=3yfkF4+dkX1qT+e/2RdO9ejQ8ERgQ5Xt4/JszT0f2nM=; b=gV6/FI8tJFIfvqXa4/SkDlEzNISxC/lXM3k+jWibUHn6gHWZV/nYFIvZirxz5rRZYu rNRi7PTnpHNiG8MoAuFp8Pcvi+1r2V/OEO+/wM1sGSsTwW8OKRBbT+MFV069BNdgdG3Z mUzdA9jZMfeVZiVrH6H5GZALyzOUip9STH9UNNJhDi2jN9iBNKmefrWTuaypUOMsQp6r yY7kROE5Pp5LjpUsG8d81SEanr2eBFtVdZoN1DP3qt9xs+tV2ub1n30fJHSQP+UEwi57 UjYJXz7CkuSmvzBgkm7mZB9ulYTKmnPsY3cjdipBWn1HOwh0y2XcMibY1606yGrO5mb6 PBGw== X-Gm-Message-State: AOJu0YxsfdWzwwJj2q+ZEjje5JCy+vKYTkKv7EM7Y12rwrBtDxh/1Xhy GJy6CRUzfkJZrv+G+oIUlnH7CPCj4ei9iulSw2iGcASjtvrQn2Mhe1Q4hoyFujrmk4wF3coTRLL f5A5ti/H3ozXFcOEKpIV7p1j8HM89fpGAgMlK4wHrFQi8 X-Gm-Gg: ASbGncvMeLptPIx4z7voBMACQVpeL6vBrizl3ecLbh2ftasdjUwWj82FyyzNDdot19g otROw/+MY+OsaLwsX7qdYcG8Unct5BJ1i/AAhQ4DS8pf/FEanTo1fwVzmodViFILIkSVftZ8nU2 pzjtqqccCSEm0aeaCjt62nFmd0UgW6Iw1nVYkN5p5RwqBq1/TVBQpnZXjv3xpc5lmTqxlvEH+7W bddyTc1S6eeWGbso9f3583W85nmhtx6C6JbcII4qz9gt7IgfJmBFOtwkNbciWW9h5d1jZLGLpiR oHx6PGdKhIwErtEGR0I8blicUNc6lfZlK247eBHT1KOomP4EZSn4aILqO81ZNe7US954m8a76QJ VPJlW7bMn/yYYt/Xi+tEqerfZjIsMBM0= X-Google-Smtp-Source: AGHT+IERA7dHaESao0PYDn8xR+6c9Mqoq90X4m+EoAC/yCdC0UcUDL8jrU6QKX2GX8ntAgf2lLIzU+Bl58yF X-Received: by 2002:a05:6e02:17c9:b0:42f:8d40:6c4b with SMTP id e9e14a558f8ab-432f8faca17mr67959835ab.11.1761796054735; Wed, 29 Oct 2025 20:47:34 -0700 (PDT) Received: from postal.iol.unh.edu (postal.iol.unh.edu. [132.177.123.84]) by smtp-relay.gmail.com with ESMTPS id e9e14a558f8ab-43302079639sm1062705ab.12.2025.10.29.20.47.34 (version=TLS1_2 cipher=ECDHE-ECDSA-AES128-GCM-SHA256 bits=128/128); Wed, 29 Oct 2025 20:47:34 -0700 (PDT) X-Relaying-Domain: iol.unh.edu Date: Wed, 29 Oct 2025 20:47:34 -0700 (PDT) Message-ID: <6902dfd6.050a0220.1d8f45.5234SMTPIN_ADDED_MISSING@mx.google.com> Received: from [172.21.0.2] (unknown [172.18.0.240]) by postal.iol.unh.edu (Postfix) with ESMTP id 353E86051830; Wed, 29 Oct 2025 23:47:34 -0400 (EDT) Subject: |SUCCESS| [GIT MASTER] 39b54f2dcf44ad1f91eabc7080cd5dea763607fd From: dpdklab@iol.unh.edu To: Test Report Cc: dpdk-test-reports@iol.unh.edu Content-Type: text/plain X-BeenThere: test-report@dpdk.org X-Mailman-Version: 2.1.29 Precedence: list List-Id: automatic DPDK test reports List-Unsubscribe: , List-Archive: List-Post: List-Help: List-Subscribe: , Errors-To: test-report-bounces@dpdk.org _Testing PASS_ Branch: dpdk 39b54f2dcf44ad1f91eabc7080cd5dea763607fd --> testing pass Upstream job id: Generic-DPDK-Compile-Meson#439181 Test environment and result as below: +------------------------------+--------------------+ | Environment | dpdk_meson_compile | +==============================+====================+ | Ubuntu 20.04 | PASS | +------------------------------+--------------------+ | Red Hat Enterprise Linux 9.5 | PASS | +------------------------------+--------------------+ | Fedora Linux 42 | PASS | +------------------------------+--------------------+ | Debian GNU/Linux 12 | PASS | +------------------------------+--------------------+ | Ubuntu 22.04 | PASS | +------------------------------+--------------------+ | Ubuntu 24.04 | PASS | +------------------------------+--------------------+ | CentOS Stream 9 | PASS | +------------------------------+--------------------+ | CentOS Stream 10 | PASS | +------------------------------+--------------------+ Ubuntu 20.04 Kernel: 5.15 Compiler: aarch64-linux-gnu-gcc gcc (Ubuntu 9.4.0-1ubuntu1~20.04.2) 9.4.0 Red Hat Enterprise Linux 9.5 Kernel: 5.4 Compiler: gcc gcc (GCC) 11.5.0 20240719 (Red Hat 11.5.0-2) Fedora Linux 42 Kernel: 5.4 Compiler: gcc gcc (GCC) 15.2.1 20250808 (Red Hat 15.2.1-1) Debian GNU/Linux 12 Kernel: 5.4 Compiler: gcc gcc (Debian 12.2.0-14+deb12u1) 12.2.0 Ubuntu 22.04 Kernel: 5.4 Compiler: gcc gcc (Ubuntu 11.4.0-1ubuntu1~22.04) 11.4.0 Ubuntu 24.04 Kernel: 5.4 Compiler: gcc gcc (Ubuntu 13.3.0-6ubuntu2~24.04) 13.3.0 CentOS Stream 9 Kernel: 5.4 Compiler: gcc gcc (GCC) 11.5.0 20240719 (Red Hat 11.5.0-11) CentOS Stream 10 Kernel: 5.4 Compiler: gcc gcc (GCC) 14.2.1 20250110 (Red Hat 14.2.1-8) To view detailed results, visit: https://lab.dpdk.org/results/dashboard/tarballs/35394/ UNH-IOL DPDK Community Lab To manage your email subscriptions, visit: https://lab.dpdk.org/results/dashboard/preferences/subscriptions/