From mboxrd@z Thu Jan 1 00:00:00 1970 Return-Path: Received: from mails.dpdk.org (mails.dpdk.org [217.70.189.124]) by inbox.dpdk.org (Postfix) with ESMTP id C80F9489E6 for ; Thu, 30 Oct 2025 05:53:04 +0100 (CET) Received: from mails.dpdk.org (localhost [127.0.0.1]) by mails.dpdk.org (Postfix) with ESMTP id C43B44027A; Thu, 30 Oct 2025 05:53:04 +0100 (CET) Received: from mail-oa1-f98.google.com (mail-oa1-f98.google.com [209.85.160.98]) by mails.dpdk.org (Postfix) with ESMTP id 323FE4027A for ; Thu, 30 Oct 2025 05:53:01 +0100 (CET) Received: by mail-oa1-f98.google.com with SMTP id 586e51a60fabf-30cce892b7dso391331fac.1 for ; Wed, 29 Oct 2025 21:53:01 -0700 (PDT) DKIM-Signature: v=1; a=rsa-sha256; c=relaxed/relaxed; d=iol.unh.edu; s=unh-iol; t=1761799980; x=1762404780; darn=dpdk.org; h=references:in-reply-to:cc:to:from:subject:message-id:date:from:to :cc:subject:date:message-id:reply-to; bh=MTJf/j8F/jBCm7ZJC4zSxPqbjPaKO2ro9F26giD6Olk=; b=Ct0KLwganYKI1xbn+KqRQlR1XAK8FgoHbOmrxnhEmrDml8JgzjtLVB2aBiL2r90zqW AiaIevSZ8BoqFUvZoDMXk5iECKLqeKcIEPrldZJ9PDg7Fcwfxbd+cS0yui/E9vy6oY2d 060wS84aIdbpq/08Aw+APbi5RR4Z27w2Eu714= X-Google-DKIM-Signature: v=1; a=rsa-sha256; c=relaxed/relaxed; d=1e100.net; s=20230601; t=1761799980; x=1762404780; h=references:in-reply-to:cc:to:from:subject:message-id:date :x-gm-message-state:from:to:cc:subject:date:message-id:reply-to; bh=MTJf/j8F/jBCm7ZJC4zSxPqbjPaKO2ro9F26giD6Olk=; b=Hq/nC+KJ1nMvjPmbzqPgnvEBIx133uPYfDYxqRcgUsb7fF0RpvlAWpGkpjgEtkJJAq RGaLt/fMkfVJikt+E4CCdrPCV8i55CUmR31jXRJ751DC7hLws8OGY4R9899kz4IPCfVi Kr0nL3Tkb/chMp7gdcLfY67/trnukU3UfCflXw0pa35lAmd6Vv29WMk2w54NXwtOHBWN H1zcN/FBwacmYsULXu8oELCaIYdhYD336z7WNj7BO4nP0seA3ZUctZB2dVKweFzUKz1d mIRZewTIj0xv5sWqoRa0v1o966zuWZOW/ly8CWJUHB7wHMWQzVevCFhR2H/UNzGJAE8f vITQ== X-Gm-Message-State: AOJu0Yzl2B797prP/3qjJIMvV1JWULdqK7TDj3OFdh22JEmaEQJLpoKR XUYzBr9ZX71VcYZDsOL9OjzIKW6N4mcNN3u7DwFV89sdNfBBo430Tx/iQTmuSsLaLS54dMSeA5h 74PCLwZIUGQ9vNxVdL+90nxkSAuUdatvJeG7u6xSbH4pH X-Gm-Gg: ASbGnct+KyORZSBMz54eA8eAvJ43x5WCD2wBpxHV2NbtAqOEXremX2mb3/iHdDa1P2K RDwoqfTTGZVOq8iRAkGvZEsXlJUmBrAs8GN1xTGx+p9Zp7Y+/BQbO2yhTkGELf6j3QzP/FcOf1J kxZNgJxrnCYPNgzxwO06AkdjUMgxTk4yAA0oGgkW0zLOafFZXlnCE8SFt2lxajZbDSiAvvWpfAV blAGKNnuATkyBJUprStWXhEMAPnu4TXu4UroNxiIteQSKFPnPlIsn23dOzRGdeYYjEoLq7aNrD5 KsPwQEKfzdBGSKTYxBSs4pMXfAI0B1OV2txDwDwT+5Yp4ecSfdVjV92y3uXs7nLdQrgOMceC2nY cRd8t7aZizJETdZ4Khf7VnAdsgL9Rqbk= X-Google-Smtp-Source: AGHT+IHOZw16Ihnlv9b7CKZRGAe5NRHENtB7Q3P0S3hycRWFQWoSfgb0CjPii45hGlu6TEo5Sy+5Tpbojg96 X-Received: by 2002:a05:6870:8dca:b0:35d:a9e2:fbd1 with SMTP id 586e51a60fabf-3d7464ca101mr2410782fac.21.1761799980281; Wed, 29 Oct 2025 21:53:00 -0700 (PDT) Received: from postal.iol.unh.edu (postal.iol.unh.edu. [132.177.123.84]) by smtp-relay.gmail.com with ESMTPS id 586e51a60fabf-3d1e354609dsm1354646fac.14.2025.10.29.21.53.00 (version=TLS1_2 cipher=ECDHE-ECDSA-AES128-GCM-SHA256 bits=128/128); Wed, 29 Oct 2025 21:53:00 -0700 (PDT) X-Relaying-Domain: iol.unh.edu Date: Wed, 29 Oct 2025 21:53:00 -0700 (PDT) Message-ID: <6902ef2c.050a0220.2d3ff5.fe15SMTPIN_ADDED_MISSING@mx.google.com> Received: from [172.21.0.2] (unknown [172.18.0.240]) by postal.iol.unh.edu (Postfix) with ESMTP id CCD006051830; Thu, 30 Oct 2025 00:52:59 -0400 (EDT) Subject: |SUCCESS| pw158285 [PATCH] [v1,1/1] net/nbl: fix issues reported by From: dpdklab@iol.unh.edu To: Test Report Cc: dpdk-test-reports@iol.unh.edu, Stephen Hemminger In-Reply-To: <20251030033619.3386064-2-dimon.zhao@nebula-matrix.com> References: <20251030033619.3386064-2-dimon.zhao@nebula-matrix.com> Content-Type: text/plain X-BeenThere: test-report@dpdk.org X-Mailman-Version: 2.1.29 Precedence: list List-Id: automatic DPDK test reports List-Unsubscribe: , List-Archive: List-Post: List-Help: List-Subscribe: , Errors-To: test-report-bounces@dpdk.org Test-Label: iol-unit-amd64-testing Test-Status: SUCCESS http://dpdk.org/patch/158285 _Testing PASS_ Submitter: Dimon Zhao Date: Thursday, October 30 2025 03:36:19 DPDK git baseline: Repo:dpdk-next-net Branch: master CommitID:33145656260ac9a87590daab3d6f57aa9e579247 158285 --> testing pass Upstream job id: Generic-VM-Unit-Test-DPDK#32173 Test environment and result as below: +-------------------------------+----------------+ | Environment | dpdk_unit_test | +===============================+================+ | Debian GNU/Linux 12 | PASS | +-------------------------------+----------------+ | CentOS Stream 10 | PASS | +-------------------------------+----------------+ | CentOS Stream 9 | PASS | +-------------------------------+----------------+ | Fedora Linux 40 | PASS | +-------------------------------+----------------+ | Fedora Linux 41 | PASS | +-------------------------------+----------------+ | Fedora Linux 42 | PASS | +-------------------------------+----------------+ | Ubuntu 20.04 | PASS | +-------------------------------+----------------+ | Red Hat Enterprise Linux 8.10 | PASS | +-------------------------------+----------------+ | Red Hat Enterprise Linux 9.5 | PASS | +-------------------------------+----------------+ | Ubuntu 22.04 | PASS | +-------------------------------+----------------+ | Ubuntu 24.04 | PASS | +-------------------------------+----------------+ | Windows Server 2022 | PASS | +-------------------------------+----------------+ Debian GNU/Linux 12 Kernel: 5.15 Compiler: gcc gcc (Debian 12.2.0-14+deb12u1) 12.2.0 CentOS Stream 10 Kernel: 5.15 Compiler: gcc gcc (GCC) 14.2.1 20250110 (Red Hat 14.2.1-8) CentOS Stream 9 Kernel: 5.15 Compiler: gcc gcc (GCC) 11.5.0 20240719 (Red Hat 11.5.0-11) Fedora Linux 40 Kernel: 5.15 Compiler: clang gcc (GCC) 14.2.1 20240912 (Red Hat 14.2.1-3) Fedora Linux 41 Kernel: 5.15 Compiler: gcc gcc (GCC) 14.3.1 20250523 (Red Hat 14.3.1-1) Fedora Linux 42 Kernel: 5.15 Compiler: clang gcc (GCC) 15.2.1 20250808 (Red Hat 15.2.1-1) Ubuntu 20.04 Kernel: 5.15 Compiler: gcc gcc (Ubuntu 9.4.0-1ubuntu1~20.04.2) 9.4.0 Red Hat Enterprise Linux 8.10 Kernel: 5.15 Compiler: gcc gcc (GCC) 8.5.0 20210514 (Red Hat 8.5.0-22) Red Hat Enterprise Linux 9.5 Kernel: 5.15 Compiler: gcc gcc (GCC) 11.5.0 20240719 (Red Hat 11.5.0-2) Ubuntu 22.04 Kernel: 5.15 Compiler: gcc gcc (Ubuntu 11.4.0-1ubuntu1~22.04) 11.4.0 Ubuntu 24.04 Kernel: 5.15 Compiler: gcc gcc (Ubuntu 13.3.0-6ubuntu2~24.04) 13.3.0 Windows Server 2022 Kernel: 10.0.20348.2031 Compiler: clang 15.0.7, gcc 14.1.0 (MinGW), and MSVC VS 19.39.33521 To view detailed results, visit: https://lab.dpdk.org/results/dashboard/patchsets/34422/ UNH-IOL DPDK Community Lab To manage your email subscriptions, visit: https://lab.dpdk.org/results/dashboard/preferences/subscriptions/