From mboxrd@z Thu Jan 1 00:00:00 1970 Return-Path: Received: from mails.dpdk.org (mails.dpdk.org [217.70.189.124]) by inbox.dpdk.org (Postfix) with ESMTP id 4CFBC489FC for ; Thu, 30 Oct 2025 06:00:55 +0100 (CET) Received: from mails.dpdk.org (localhost [127.0.0.1]) by mails.dpdk.org (Postfix) with ESMTP id 374C24027A; Thu, 30 Oct 2025 06:00:55 +0100 (CET) Received: from mail-qt1-f228.google.com (mail-qt1-f228.google.com [209.85.160.228]) by mails.dpdk.org (Postfix) with ESMTP id 1BE4D4027A for ; Thu, 30 Oct 2025 06:00:54 +0100 (CET) Received: by mail-qt1-f228.google.com with SMTP id d75a77b69052e-4e8a25d96ecso8726631cf.0 for ; Wed, 29 Oct 2025 22:00:54 -0700 (PDT) DKIM-Signature: v=1; a=rsa-sha256; c=relaxed/relaxed; d=iol.unh.edu; s=unh-iol; t=1761800453; x=1762405253; darn=dpdk.org; h=references:in-reply-to:cc:to:from:subject:message-id:date:from:to :cc:subject:date:message-id:reply-to; bh=ZHr+tLi2k+j/2abEVvL7y3xKVb/25uov5ulY4qQmdzE=; b=ZbTepfPh6Tpm1eOhLszDX3HygFvvox9xwRE2+vxTnWNP7JFzdLCZC5QGgf7v/jftvs El3yaImYgsH1Z4vqjR29k7y+w/Z3J8FL6rEsQSws374XQ7sr2buyEZJW4mzq0heaGAwp BdOg2uyJiqHYphzA387fUESWphNwBGlNYeXVo= X-Google-DKIM-Signature: v=1; a=rsa-sha256; c=relaxed/relaxed; d=1e100.net; s=20230601; t=1761800453; x=1762405253; h=references:in-reply-to:cc:to:from:subject:message-id:date :x-gm-message-state:from:to:cc:subject:date:message-id:reply-to; bh=ZHr+tLi2k+j/2abEVvL7y3xKVb/25uov5ulY4qQmdzE=; b=UBMRqOAUkq49jqRBaICRLXZljJCAha7Wg6jnCgr2sTZ1mFq4OV0lFsbNOmpxXbq4iA lOHBP/RAcaQA87vMME6Hfhi1vhmR8vgoNqIRg6SUk+MxlpaXJ5qRosY//Te3GKg7A64d DGSCBN5gsDuZ5LPA6VaLrrEV0Ss3+Zyly4QtKRiVScXfXr6QUvHEDCSUC9LgTs9JRo1u 5gI0zQ+fZGZSP65/hW4Hi3t9MgwPJTNAFmKfvlCn/xwQCUWZc+Z0YDrzxUrFmwvwEnag ADrA3Z+LJngwvlg66O1a9U+7DzOi+fvP7NA0/vXE1ESJ8Ah/yrrVJFindI+wocAA19Cp la1g== X-Gm-Message-State: AOJu0Ywm8upbkKdsF1TSkDYFFLR1OsAu8aNPIs2eOxJyGTnJ/UZaHRxr hvRzIwJYX2hZ8+VnnREYzP0VOlbfZbQ75P1NN8k1IOpgior+dppn+lCilM2gxaqNdqNfTYCJJBQ BBHSGQwR1O5cgsxCWC9hjwgVex8H6l/eQKtdLhYZDM+R3 X-Gm-Gg: ASbGnctAqx1pKJSJ04yyRi79YQWY7tNNM0ONuFRkSmCj3GQDwC+nt0GAG0KvjqteFGu D/iKDQKY0+ZqXPozTMx8y/GRi+z1yMo/cU/vnE8BtQedlLOFEnpeULuehguLgJIbwWD6QGAUqIF mCsZ4+teFzrc2TflQxCAZAYJG7mdYCwkaOaATItECi7/w1SyqmxRwkxuizulsCa1dfwlVZHEXDE QxK95epHse8zpIbg4ol0kXmX3PZkcMW+rav18Y4FGSrdJbSfAJCb1qthPSvyZViSB84k3xkhCXJ nn3SUopcWA4eZUVJauSFV5AzAqZNar3WWtx09aLnDVXHfTFKxiGQsmbnthDyUjwy2b4XGKeAXti 6CIVwrYjyaySkHzQnfiXW/6PYu3IuTX0= X-Google-Smtp-Source: AGHT+IGogphC+FIYOSnI/k0MRYnJW2npPEluzPHtgdM2YB7pJ5BEjTMhZw84mU0dRQX7fR4vIS9s9Gw19yMc X-Received: by 2002:ac8:5fd0:0:b0:4e8:b669:99f with SMTP id d75a77b69052e-4ed15c24e7bmr70228761cf.57.1761800453214; Wed, 29 Oct 2025 22:00:53 -0700 (PDT) Received: from postal.iol.unh.edu (postal.iol.unh.edu. [132.177.123.84]) by smtp-relay.gmail.com with ESMTPS id 6a1803df08f44-87fc48f8526sm15855466d6.9.2025.10.29.22.00.53 (version=TLS1_2 cipher=ECDHE-ECDSA-AES128-GCM-SHA256 bits=128/128); Wed, 29 Oct 2025 22:00:53 -0700 (PDT) X-Relaying-Domain: iol.unh.edu Date: Wed, 29 Oct 2025 22:00:53 -0700 (PDT) Message-ID: <6902f105.050a0220.3152c7.bdc4SMTPIN_ADDED_MISSING@mx.google.com> Received: from [172.21.0.3] (unknown [172.18.0.240]) by postal.iol.unh.edu (Postfix) with ESMTP id E616D6051830; Thu, 30 Oct 2025 01:00:52 -0400 (EDT) Subject: |SUCCESS| pw158285 [PATCH] [v1,1/1] net/nbl: fix issues reported by From: dpdklab@iol.unh.edu To: Test Report Cc: dpdk-test-reports@iol.unh.edu, Stephen Hemminger In-Reply-To: <20251030033619.3386064-2-dimon.zhao@nebula-matrix.com> References: <20251030033619.3386064-2-dimon.zhao@nebula-matrix.com> Content-Type: text/plain X-BeenThere: test-report@dpdk.org X-Mailman-Version: 2.1.29 Precedence: list List-Id: automatic DPDK test reports List-Unsubscribe: , List-Archive: List-Post: List-Help: List-Subscribe: , Errors-To: test-report-bounces@dpdk.org Test-Label: iol-unit-amd64-testing Test-Status: SUCCESS http://dpdk.org/patch/158285 _Testing PASS_ Submitter: Dimon Zhao Date: Thursday, October 30 2025 03:36:19 DPDK git baseline: Repo:dpdk-next-net Branch: master CommitID:33145656260ac9a87590daab3d6f57aa9e579247 158285 --> testing pass Upstream job id: Generic-VM-Unit-Test-DPDK#32174 Test environment and result as below: +-------------------------------+----------------+ | Environment | dpdk_unit_test | +===============================+================+ | Debian GNU/Linux 12 | PASS | +-------------------------------+----------------+ | CentOS Stream 10 | PASS | +-------------------------------+----------------+ | CentOS Stream 9 | PASS | +-------------------------------+----------------+ | Fedora Linux 40 | PASS | +-------------------------------+----------------+ | Fedora Linux 41 | PASS | +-------------------------------+----------------+ | Fedora Linux 42 | PASS | +-------------------------------+----------------+ | Ubuntu 20.04 | PASS | +-------------------------------+----------------+ | Red Hat Enterprise Linux 8.10 | PASS | +-------------------------------+----------------+ | Red Hat Enterprise Linux 9.5 | PASS | +-------------------------------+----------------+ | Ubuntu 22.04 | PASS | +-------------------------------+----------------+ | Ubuntu 24.04 | PASS | +-------------------------------+----------------+ | Windows Server 2022 | PASS | +-------------------------------+----------------+ Debian GNU/Linux 12 Kernel: 5.15 Compiler: gcc gcc (Debian 12.2.0-14+deb12u1) 12.2.0 CentOS Stream 10 Kernel: 5.15 Compiler: gcc gcc (GCC) 14.2.1 20250110 (Red Hat 14.2.1-8) CentOS Stream 9 Kernel: 5.15 Compiler: gcc gcc (GCC) 11.5.0 20240719 (Red Hat 11.5.0-11) Fedora Linux 40 Kernel: 5.15 Compiler: clang gcc (GCC) 14.2.1 20240912 (Red Hat 14.2.1-3) Fedora Linux 41 Kernel: 5.15 Compiler: gcc gcc (GCC) 14.3.1 20250523 (Red Hat 14.3.1-1) Fedora Linux 42 Kernel: 5.15 Compiler: clang gcc (GCC) 15.2.1 20250808 (Red Hat 15.2.1-1) Ubuntu 20.04 Kernel: 5.15 Compiler: gcc gcc (Ubuntu 9.4.0-1ubuntu1~20.04.2) 9.4.0 Red Hat Enterprise Linux 8.10 Kernel: 5.15 Compiler: gcc gcc (GCC) 8.5.0 20210514 (Red Hat 8.5.0-22) Red Hat Enterprise Linux 9.5 Kernel: 5.15 Compiler: gcc gcc (GCC) 11.5.0 20240719 (Red Hat 11.5.0-2) Ubuntu 22.04 Kernel: 5.15 Compiler: gcc gcc (Ubuntu 11.4.0-1ubuntu1~22.04) 11.4.0 Ubuntu 24.04 Kernel: 5.15 Compiler: gcc gcc (Ubuntu 13.3.0-6ubuntu2~24.04) 13.3.0 Windows Server 2022 Kernel: 10.0.20348.2031 Compiler: clang 15.0.7, gcc 14.1.0 (MinGW), and MSVC VS 19.39.33521 To view detailed results, visit: https://lab.dpdk.org/results/dashboard/patchsets/34422/ UNH-IOL DPDK Community Lab To manage your email subscriptions, visit: https://lab.dpdk.org/results/dashboard/preferences/subscriptions/