From mboxrd@z Thu Jan 1 00:00:00 1970 Return-Path: Received: from mails.dpdk.org (mails.dpdk.org [217.70.189.124]) by inbox.dpdk.org (Postfix) with ESMTP id EB500489FC for ; Thu, 30 Oct 2025 06:35:57 +0100 (CET) Received: from mails.dpdk.org (localhost [127.0.0.1]) by mails.dpdk.org (Postfix) with ESMTP id CF8604027A; Thu, 30 Oct 2025 06:35:57 +0100 (CET) Received: from mail-vk1-f225.google.com (mail-vk1-f225.google.com [209.85.221.225]) by mails.dpdk.org (Postfix) with ESMTP id BC5174027A for ; Thu, 30 Oct 2025 06:35:55 +0100 (CET) Received: by mail-vk1-f225.google.com with SMTP id 71dfb90a1353d-54bbc2a8586so252663e0c.2 for ; Wed, 29 Oct 2025 22:35:55 -0700 (PDT) DKIM-Signature: v=1; a=rsa-sha256; c=relaxed/relaxed; d=iol.unh.edu; s=unh-iol; t=1761802555; x=1762407355; darn=dpdk.org; h=references:in-reply-to:cc:to:from:subject:message-id:date:from:to :cc:subject:date:message-id:reply-to; bh=BocaCp0qrb4ihNsd2/wuRNKbjBIiq/Jl4zufQ4JeeG4=; b=MugRYARbpwmYfhDNlPYl4l6X+/vN4BCUUyUE9tLQx9jWh38L1m1tYIIUZ0VF58WYXf n+BUI4Oq84zz839wHgigB/zILrPPeaBVZtVlUpEyjYnhGSHoHxxNy8nGu3m5A0LX0zI4 si/DzVNvo1j62J3klZQrZ9H0lLmagMAMNcB6E= X-Google-DKIM-Signature: v=1; a=rsa-sha256; c=relaxed/relaxed; d=1e100.net; s=20230601; t=1761802555; x=1762407355; h=references:in-reply-to:cc:to:from:subject:message-id:date :x-gm-message-state:from:to:cc:subject:date:message-id:reply-to; bh=BocaCp0qrb4ihNsd2/wuRNKbjBIiq/Jl4zufQ4JeeG4=; b=Y8o3wOQdUmsheORCV9UmFaPUz1V3dJfScDaVzYdz9mF39D/UQSji7o+OzIHhxVal+Z sv8z0CTN0tx7CXzrMHYJj9ZBUF9zWiWwcVw5YH/TeBpLycyXMoP/ePZLlfNfBmmyPOgO 6r6sImgOiFi8GMfFlY/9Lo2y3jK2U9IiA4s6UP0m3Ebp0UYuBVJeJ+eudilpNQA3eb51 soGDAILklC7fLteZq/nPPGWCaVdS2Atap4qqWSO+tr9lvkxV4jMZtnSovm/blQlg3jy7 jTRutvT0x9pq8+xVMGoS5xu9Q4wN+QA8zZ1/WVsE3fX86p+YCAGkR2pgJr8b7cEkwZNZ Atig== X-Gm-Message-State: AOJu0Yxz5wPpP9gTlv73OZgjtwXmbrO2US6NmW21PQPux6KOQ7ilz6bz JybXOz8c+ChvYqy06/wcLJyLMLrF+gaTitdFGR4T0UQN+dev6+6rwj5CCJWxj+LTz0GB4oUdFQx u1cYPth7WyOgN6X2ignUxTS3Nw26obY4m/+DRVEPcjY7xaRimfBhBLwPmCgwA X-Gm-Gg: ASbGnctQW1FcNE0+brK2JcirJwfTXF2fLSbDNFjev+DH7eY+CST0U+4sHbwZKsGI++L 5XFOY3wB8z+Z8DV94cdAQaioaIY8zRWIyjt6dBeNRH+89Px2+elLp0NCjqDGgmepJmH6adU06jM KDWQzEcQwAbVnqdVriUwltuCUFGsTmpL2pxhOWUrCIqDhC/AWh+dshXsAipLcNwkqES3SQFJUH1 fR6ndgzONJkZr3tajSTlR6VpcqGeQGjk7fAu+jmINs/9TAO/hyO11bR1DSU7tj33KtOTxh+IOnm aWKld4lH9eTBPXvlzj9nrrTvus0IbezGYa9cwiZ2u8RBknywHCsaJLnAPtUiGEkvvxWImkiELd4 YnfsNYnE9 X-Google-Smtp-Source: AGHT+IFuTSeb+kf0uvmwnY2RFiykQF0HQmIxWjcc8Vv8JaJuIIm8mRyofItAo9M1cbiG49QCaIGF7YseJ1el X-Received: by 2002:a05:6123:2eb:b0:558:251:f0e8 with SMTP id 71dfb90a1353d-5581423c68cmr1785426e0c.11.1761802555094; Wed, 29 Oct 2025 22:35:55 -0700 (PDT) Received: from postal.iol.unh.edu (postal.iol.unh.edu. [2606:4100:3880:1234::84]) by smtp-relay.gmail.com with ESMTPS id 71dfb90a1353d-557ddb4f6dbsm1775412e0c.6.2025.10.29.22.35.55 (version=TLS1_2 cipher=ECDHE-ECDSA-AES128-GCM-SHA256 bits=128/128); Wed, 29 Oct 2025 22:35:55 -0700 (PDT) X-Relaying-Domain: iol.unh.edu Date: Wed, 29 Oct 2025 22:35:55 -0700 (PDT) Message-ID: <6902f93b.050a0220.2d0917.32d4SMTPIN_ADDED_MISSING@mx.google.com> Received: from [172.21.0.2] (unknown [172.18.0.240]) by postal.iol.unh.edu (Postfix) with ESMTP id 9DDD36051830; Thu, 30 Oct 2025 01:35:54 -0400 (EDT) Subject: |SUCCESS| pw158286 [PATCH] net/cnxk: fix port ID default action From: dpdklab@iol.unh.edu To: Test Report Cc: dpdk-test-reports@iol.unh.edu In-Reply-To: <20251030034404.4187369-1-psatheesh@marvell.com> References: <20251030034404.4187369-1-psatheesh@marvell.com> Content-Type: text/plain X-BeenThere: test-report@dpdk.org X-Mailman-Version: 2.1.29 Precedence: list List-Id: automatic DPDK test reports List-Unsubscribe: , List-Archive: List-Post: List-Help: List-Subscribe: , Errors-To: test-report-bounces@dpdk.org Test-Label: iol-compile-amd64-testing Test-Status: SUCCESS http://dpdk.org/patch/158286 _Testing PASS_ Submitter: Satheesh Paul Antonysamy Date: Thursday, October 30 2025 03:44:03 DPDK git baseline: Repo:dpdk-next-net-mrvl Branch: master CommitID:39b54f2dcf44ad1f91eabc7080cd5dea763607fd 158286 --> testing pass Upstream job id: Windows-Compile-DPDK-VS#7372 Test environment and result as below: +---------------------+--------------------+-------------------+ | Environment | dpdk_meson_compile | dpdk_msvc_compile | +=====================+====================+===================+ | Ubuntu 20.04 | PASS | SKIPPED | +---------------------+--------------------+-------------------+ | FreeBSD 14.2 | PASS | SKIPPED | +---------------------+--------------------+-------------------+ | Windows Server 2022 | SKIPPED | PASS | +---------------------+--------------------+-------------------+ Ubuntu 20.04 Kernel: 4.19 Compiler: gcc gcc (Ubuntu 9.4.0-1ubuntu1~20.04.2) 9.4.0 FreeBSD 14.2 Kernel: 14.2-RELEASE Compiler: clang 18.1.6 Windows Server 2022 Kernel: 10.0.20348.2031 Compiler: clang 15.0.7, gcc 14.1.0 (MinGW), and MSVC VS 19.39.33521 To view detailed results, visit: https://lab.dpdk.org/results/dashboard/patchsets/34423/ UNH-IOL DPDK Community Lab To manage your email subscriptions, visit: https://lab.dpdk.org/results/dashboard/preferences/subscriptions/