From mboxrd@z Thu Jan 1 00:00:00 1970 Return-Path: Received: from mails.dpdk.org (mails.dpdk.org [217.70.189.124]) by inbox.dpdk.org (Postfix) with ESMTP id E67DB489FC for ; Thu, 30 Oct 2025 06:44:58 +0100 (CET) Received: from mails.dpdk.org (localhost [127.0.0.1]) by mails.dpdk.org (Postfix) with ESMTP id E045F4027A; Thu, 30 Oct 2025 06:44:58 +0100 (CET) Received: from mail-yw1-f228.google.com (mail-yw1-f228.google.com [209.85.128.228]) by mails.dpdk.org (Postfix) with ESMTP id 371DE4027A for ; Thu, 30 Oct 2025 06:44:57 +0100 (CET) Received: by mail-yw1-f228.google.com with SMTP id 00721157ae682-785d3a5f641so7769437b3.1 for ; Wed, 29 Oct 2025 22:44:57 -0700 (PDT) DKIM-Signature: v=1; a=rsa-sha256; c=relaxed/relaxed; d=iol.unh.edu; s=unh-iol; t=1761803096; x=1762407896; darn=dpdk.org; h=cc:to:from:subject:message-id:date:from:to:cc:subject:date :message-id:reply-to; bh=8GM9qLtAMpnxkaU2f1yvaKRemMdXoWF54fuwYNdT0kk=; b=GQWS2yS5Ew9S+Qy0TyxzteB/8G0cxQOBtQRSRsh5pLvAM/wjnwg1Ys9J+XmszeooRG 90YAmn/kKKFBuw0/I6pM4TXlK7Yrio+D1cUBdD4bAS+qRNIjXUGk/5gUB3Tpy0Daea2Y mSTxXnLG8eYxHiWxM8cjiRDli8clMAkZLnxPg= X-Google-DKIM-Signature: v=1; a=rsa-sha256; c=relaxed/relaxed; d=1e100.net; s=20230601; t=1761803096; x=1762407896; h=cc:to:from:subject:message-id:date:x-gm-message-state:from:to:cc :subject:date:message-id:reply-to; bh=8GM9qLtAMpnxkaU2f1yvaKRemMdXoWF54fuwYNdT0kk=; b=SYCORJlRsJ7UZUfAJtjlIEgrmcD8x6aVVIZlPnl+VVmzDz3QG2Yf4EYlAXOp1eeDce YkY8OBcVrV35qfXDLqib/ZKeBnTVkPDLpO3Wo3Zi0ptEmAXtL50ox6UF/grHT9N5Qoem miAe5+c/27LGQ0eXNfzlr62ELFmayLaCufGOJGetaxC9Nwya2pK5zkSEMZqqB2/1MbTY wIW25nDMY+XcEwJdolcafngo9hWn8DH0JHRwyzR0nh9jAJxnOk+kQD+N5Kbn0izx6USx Rei+vZ8U16+bGaFgJzBtdutP/ZOIB/etyE8iHTqw09UlyOHAFAPqFrnl/9BJnCH465N1 BR/g== X-Gm-Message-State: AOJu0YyoPvDYkXJL6QziXmwPQv/tZJZfM2QU7XAf6DtzkV3tVCLvUDTG Vq+GfFA166RbBtkOC+aVwckpbi+a45VT9X4owVBVpCdJvq8pl9dwopacLkoH525YDLj6SpoCZkV kjp25q6OViIkP54fRfgKdxgqAo10gtLq37L7i/GXU5qNs/GDN1/n3 X-Gm-Gg: ASbGncsrABMTUOj2EAKcXKroEx21KcNqBgNtUUKYh7w77uOvcFl9iXqLKUirrB8Bxbt 6BQewndDFzWbL6SDtwnE0Ft+cHmMuFm9RszlIBrgkF3IjgtkUgkpWLn1A2Nm/91eSkRcBSGDb5B 5F5ggsndG4Y8Bpe+S56/lCs/VUVKlSuuqdDI7wp+Y2JURGui3FPWbjZ6Njmd4ZrhTbAXjDOsXyB tVG/4EsOkfFId/Tt/BbldnaZ8xdAOsXbKBx96fWfsOQ0GGvg1/tZt810bJM7aaOhqj5qWSGjEjq j9q7Nl6PnUQNsqOvxnQ88ztl7w8H2R4C+GRKi8Gew/kFzeOri/C3f0q9/scQaB7OjVLvS9jzOzK neKeYPGG5 X-Google-Smtp-Source: AGHT+IG90r6MPWAPVOm0L3Xt3lD/RxI1RCms1+z/ce04g+StS272xLTS3rPVxSBdsBWkf2MkFx16er50G0dk X-Received: by 2002:a05:690c:9418:20b0:786:32da:30d with SMTP id 00721157ae682-78632da10f2mr28593207b3.66.1761803096450; Wed, 29 Oct 2025 22:44:56 -0700 (PDT) Received: from postal.iol.unh.edu (postal.iol.unh.edu. [2606:4100:3880:1234::84]) by smtp-relay.gmail.com with ESMTPS id 00721157ae682-785ed2078a3sm11420567b3.34.2025.10.29.22.44.56 (version=TLS1_2 cipher=ECDHE-ECDSA-AES128-GCM-SHA256 bits=128/128); Wed, 29 Oct 2025 22:44:56 -0700 (PDT) X-Relaying-Domain: iol.unh.edu Date: Wed, 29 Oct 2025 22:44:56 -0700 (PDT) Message-ID: <6902fb58.050a0220.26d39.7b66SMTPIN_ADDED_MISSING@mx.google.com> Received: from [172.21.0.6] (unknown [172.18.0.240]) by postal.iol.unh.edu (Postfix) with ESMTP id 209966051830; Thu, 30 Oct 2025 01:44:56 -0400 (EDT) Subject: |SUCCESS| [GIT MASTER] 3b43ce3f4a54468e7ef65760c2fd7b4d6ee6d9fc From: dpdklab@iol.unh.edu To: Test Report Cc: dpdk-test-reports@iol.unh.edu, Xueming Li , Christian Ehrhardt , Kevin Traynor , Luca Boccassi Content-Type: text/plain X-BeenThere: test-report@dpdk.org X-Mailman-Version: 2.1.29 Precedence: list List-Id: automatic DPDK test reports List-Unsubscribe: , List-Archive: List-Post: List-Help: List-Subscribe: , Errors-To: test-report-bounces@dpdk.org _Testing PASS_ Branch: tags/v22.11 3b43ce3f4a54468e7ef65760c2fd7b4d6ee6d9fc --> testing pass Upstream job id: Generic-DPDK-Compile-Meson#439255 Test environment and result as below: +-------------------------------+--------------------+-------------------------+----------------------+ | Environment | dpdk_meson_compile | dpdk_llvm_clang_compile | dpdk_mingw64_compile | +===============================+====================+=========================+======================+ | FreeBSD 14.2 | PASS | SKIPPED | SKIPPED | +-------------------------------+--------------------+-------------------------+----------------------+ | Ubuntu 20.04 | PASS | SKIPPED | SKIPPED | +-------------------------------+--------------------+-------------------------+----------------------+ | CentOS Stream 10 | PASS | SKIPPED | SKIPPED | +-------------------------------+--------------------+-------------------------+----------------------+ | CentOS Stream 9 | PASS | SKIPPED | SKIPPED | +-------------------------------+--------------------+-------------------------+----------------------+ | Red Hat Enterprise Linux 8.10 | PASS | SKIPPED | SKIPPED | +-------------------------------+--------------------+-------------------------+----------------------+ | Fedora Linux 42 | PASS | SKIPPED | SKIPPED | +-------------------------------+--------------------+-------------------------+----------------------+ | openSUSE Leap 15.6 | PASS | SKIPPED | SKIPPED | +-------------------------------+--------------------+-------------------------+----------------------+ | Debian GNU/Linux 12 | PASS | SKIPPED | SKIPPED | +-------------------------------+--------------------+-------------------------+----------------------+ | Red Hat Enterprise Linux 9.5 | PASS | SKIPPED | SKIPPED | +-------------------------------+--------------------+-------------------------+----------------------+ | Ubuntu 22.04 | PASS | SKIPPED | SKIPPED | +-------------------------------+--------------------+-------------------------+----------------------+ | Ubuntu 24.04 | PASS | SKIPPED | SKIPPED | +-------------------------------+--------------------+-------------------------+----------------------+ | Windows Server 2022 | SKIPPED | PASS | PASS | +-------------------------------+--------------------+-------------------------+----------------------+ FreeBSD 14.2 Kernel: 14.2-RELEASE Compiler: clang 18.1.6 Ubuntu 20.04 Kernel: 4.19 Compiler: gcc gcc (Ubuntu 9.4.0-1ubuntu1~20.04.2) 9.4.0 CentOS Stream 10 Kernel: 5.15 Compiler: gcc gcc (GCC) 14.2.1 20250110 (Red Hat 14.2.1-8) CentOS Stream 9 Kernel: 5.15 Compiler: gcc gcc (GCC) 11.5.0 20240719 (Red Hat 11.5.0-11) Red Hat Enterprise Linux 8.10 Kernel: 5.15 Compiler: gcc gcc (GCC) 8.5.0 20210514 (Red Hat 8.5.0-22) Fedora Linux 42 Kernel: 5.15 Compiler: clang gcc (GCC) 15.2.1 20250808 (Red Hat 15.2.1-1) openSUSE Leap 15.6 Kernel: 5.15 Compiler: gcc gcc (SUSE Linux) 7.5.0 Debian GNU/Linux 12 Kernel: 5.15 Compiler: gcc gcc (Debian 12.2.0-14+deb12u1) 12.2.0 Red Hat Enterprise Linux 9.5 Kernel: 5.15 Compiler: gcc gcc (GCC) 11.5.0 20240719 (Red Hat 11.5.0-2) Ubuntu 22.04 Kernel: 5.15 Compiler: gcc gcc (Ubuntu 11.4.0-1ubuntu1~22.04) 11.4.0 Ubuntu 24.04 Kernel: 5.15 Compiler: gcc gcc (Ubuntu 13.3.0-6ubuntu2~24.04) 13.3.0 Windows Server 2022 Kernel: 10.0.20348.2031 Compiler: clang 15.0.7, gcc 14.1.0 (MinGW), and MSVC VS 19.39.33521 To view detailed results, visit: https://lab.dpdk.org/results/dashboard/tarballs/35397/ UNH-IOL DPDK Community Lab To manage your email subscriptions, visit: https://lab.dpdk.org/results/dashboard/preferences/subscriptions/