From mboxrd@z Thu Jan 1 00:00:00 1970 Return-Path: Received: from mails.dpdk.org (mails.dpdk.org [217.70.189.124]) by inbox.dpdk.org (Postfix) with ESMTP id 0185E489FC for ; Thu, 30 Oct 2025 06:45:19 +0100 (CET) Received: from mails.dpdk.org (localhost [127.0.0.1]) by mails.dpdk.org (Postfix) with ESMTP id EFD134027A; Thu, 30 Oct 2025 06:45:18 +0100 (CET) Received: from mail-pj1-f97.google.com (mail-pj1-f97.google.com [209.85.216.97]) by mails.dpdk.org (Postfix) with ESMTP id 41BD24027A for ; Thu, 30 Oct 2025 06:45:17 +0100 (CET) Received: by mail-pj1-f97.google.com with SMTP id 98e67ed59e1d1-33be037cf73so743796a91.2 for ; Wed, 29 Oct 2025 22:45:17 -0700 (PDT) DKIM-Signature: v=1; a=rsa-sha256; c=relaxed/relaxed; d=iol.unh.edu; s=unh-iol; t=1761803116; x=1762407916; darn=dpdk.org; h=cc:to:from:subject:message-id:date:from:to:cc:subject:date :message-id:reply-to; bh=lZdsZghNL05PSVQehX5k4BdJmE4DTp17CTeHVH5DkTE=; b=cC3ty4vTASy9Ubo55bdcPVMeX6oynnCIVhxnqeQBeo7CLCuYbh6kLS112zz+T5G3rD pO2vmwnb+ENpp0fajWWLMwMF+Dg5NULTDj5ku3VjEVgp7sZUm7h7age6gfn7NB/G9NtH rZEytkdtPTNNhiWY31yQOD4TUFNmNykMSiHG4= X-Google-DKIM-Signature: v=1; a=rsa-sha256; c=relaxed/relaxed; d=1e100.net; s=20230601; t=1761803116; x=1762407916; h=cc:to:from:subject:message-id:date:x-gm-message-state:from:to:cc :subject:date:message-id:reply-to; bh=lZdsZghNL05PSVQehX5k4BdJmE4DTp17CTeHVH5DkTE=; b=nm5AoHkSUHJ1+nkJwnV1Y4i9r6zKFcD+0UpOsWUmRVNnUDf5IneZDzijmb+CqjPQ4j lAeLHiXq1tX1755juacPVAe9NIau50CLb36DVfC+Em6q/dW9TmWNpJfABTrvbvKGyTyl MYS8OlUH0DZkZDtDoLkpaqrnksisl5BL9h1GH3ZG1ZLSlZOjNr5STrZal7isRRy0puLH JpF8XPHwfhjWCkfYsy0V3bT3mcKdccjBqZiKmO5G1AL7NVFICado4c6lkNvRj9L3fHTK 04SyG+OMIQrzYHRyTIkNPymtdvUu1/h0jiFY8pJHbJwWaRCLavreoz1s1iCT//M3IJaF X+AA== X-Gm-Message-State: AOJu0YzNLDBWUCkW/+ZEg71Tb6CU2GlRJDYryg8KWpOP8J3ZFRWLcPFv O7fEEKeXZUTgWP0HTh2o4GygS0M8zK7Ijqvvelr9JcrBPHNNTQg3Mqm5ZI3IXD7fNKcOy7DswKt sN7meM7tStUiqRu2WBeSYWzP8J/PmRr2WOF51uoMNn+QlBSkFIwnr X-Gm-Gg: ASbGncsl6Olzr4iPzRKzoUiQxtY/cjBNSHhcO19C5LU4XA0jcCoQpo64KyEO2p/JmF8 hf1+eqBQZAcuBRW6j3jyRlzr0sixJ8nV+UoD4FKjsjghIN8NNn4qNKTGYvwB6UUM2Nl57b3cKOC i6z1gqj9dh+tLctuizYTxqUQV9OYZAEF75F9etqdAHbLkXd0mJszCG+P13uUX+WaQguXRH9XTop XmikohV6P3okANQYcobTK2wT1FFMWJjINsJw9m9WCQr4eeEjIciOgx6+wpTAE/53qO8830AYKrg Kvwp17eTET+Lh7WbH1Cu+IoQUSwSKorywuNeK5pcmcRMgbCckKkYCCaZOl2StECSOVkWnVu4VCK Iq82i5puQ X-Google-Smtp-Source: AGHT+IH2AT4H2A4X7KlFtX09cRm6L7ox+7EppK5S68+iKV/wAsFXdTAyAc1ii7SEaVos6V1Mm34459u853A+ X-Received: by 2002:a17:90b:3942:b0:339:cece:a99 with SMTP id 98e67ed59e1d1-3403a265016mr6886306a91.13.1761803116297; Wed, 29 Oct 2025 22:45:16 -0700 (PDT) Received: from postal.iol.unh.edu (postal.iol.unh.edu. [2606:4100:3880:1234::84]) by smtp-relay.gmail.com with ESMTPS id 98e67ed59e1d1-3404f3b2ba2sm126155a91.3.2025.10.29.22.45.16 (version=TLS1_2 cipher=ECDHE-ECDSA-AES128-GCM-SHA256 bits=128/128); Wed, 29 Oct 2025 22:45:16 -0700 (PDT) X-Relaying-Domain: iol.unh.edu Date: Wed, 29 Oct 2025 22:45:16 -0700 (PDT) Message-ID: <6902fb6c.170a0220.1780da.628aSMTPIN_ADDED_MISSING@mx.google.com> Received: from [172.21.0.2] (unknown [172.18.0.240]) by postal.iol.unh.edu (Postfix) with ESMTP id 6FE3F6051830; Thu, 30 Oct 2025 01:45:15 -0400 (EDT) Subject: |SUCCESS| [GIT MASTER] 3b43ce3f4a54468e7ef65760c2fd7b4d6ee6d9fc From: dpdklab@iol.unh.edu To: Test Report Cc: dpdk-test-reports@iol.unh.edu, Xueming Li , Christian Ehrhardt , Kevin Traynor , Luca Boccassi Content-Type: text/plain X-BeenThere: test-report@dpdk.org X-Mailman-Version: 2.1.29 Precedence: list List-Id: automatic DPDK test reports List-Unsubscribe: , List-Archive: List-Post: List-Help: List-Subscribe: , Errors-To: test-report-bounces@dpdk.org _Testing PASS_ Branch: tags/v22.11 3b43ce3f4a54468e7ef65760c2fd7b4d6ee6d9fc --> testing pass Upstream job id: Generic-DPDK-Compile-Meson#439246 Test environment and result as below: +-------------------------------+--------------------+-------------------------+----------------------+ | Environment | dpdk_meson_compile | dpdk_llvm_clang_compile | dpdk_mingw64_compile | +===============================+====================+=========================+======================+ | FreeBSD 14.2 | PASS | SKIPPED | SKIPPED | +-------------------------------+--------------------+-------------------------+----------------------+ | Ubuntu 20.04 | PASS | SKIPPED | SKIPPED | +-------------------------------+--------------------+-------------------------+----------------------+ | CentOS Stream 10 | PASS | SKIPPED | SKIPPED | +-------------------------------+--------------------+-------------------------+----------------------+ | CentOS Stream 9 | PASS | SKIPPED | SKIPPED | +-------------------------------+--------------------+-------------------------+----------------------+ | Red Hat Enterprise Linux 8.10 | PASS | SKIPPED | SKIPPED | +-------------------------------+--------------------+-------------------------+----------------------+ | Fedora Linux 42 | PASS | SKIPPED | SKIPPED | +-------------------------------+--------------------+-------------------------+----------------------+ | openSUSE Leap 15.6 | PASS | SKIPPED | SKIPPED | +-------------------------------+--------------------+-------------------------+----------------------+ | Debian GNU/Linux 12 | PASS | SKIPPED | SKIPPED | +-------------------------------+--------------------+-------------------------+----------------------+ | Red Hat Enterprise Linux 9.5 | PASS | SKIPPED | SKIPPED | +-------------------------------+--------------------+-------------------------+----------------------+ | Ubuntu 22.04 | PASS | SKIPPED | SKIPPED | +-------------------------------+--------------------+-------------------------+----------------------+ | Ubuntu 24.04 | PASS | SKIPPED | SKIPPED | +-------------------------------+--------------------+-------------------------+----------------------+ | Windows Server 2022 | SKIPPED | PASS | PASS | +-------------------------------+--------------------+-------------------------+----------------------+ FreeBSD 14.2 Kernel: 14.2-RELEASE Compiler: clang 18.1.6 Ubuntu 20.04 Kernel: 4.19 Compiler: gcc gcc (Ubuntu 9.4.0-1ubuntu1~20.04.2) 9.4.0 CentOS Stream 10 Kernel: 5.15 Compiler: gcc gcc (GCC) 14.2.1 20250110 (Red Hat 14.2.1-8) CentOS Stream 9 Kernel: 5.15 Compiler: gcc gcc (GCC) 11.5.0 20240719 (Red Hat 11.5.0-11) Red Hat Enterprise Linux 8.10 Kernel: 5.15 Compiler: gcc gcc (GCC) 8.5.0 20210514 (Red Hat 8.5.0-22) Fedora Linux 42 Kernel: 5.15 Compiler: clang gcc (GCC) 15.2.1 20250808 (Red Hat 15.2.1-1) openSUSE Leap 15.6 Kernel: 5.15 Compiler: gcc gcc (SUSE Linux) 7.5.0 Debian GNU/Linux 12 Kernel: 5.15 Compiler: gcc gcc (Debian 12.2.0-14+deb12u1) 12.2.0 Red Hat Enterprise Linux 9.5 Kernel: 5.15 Compiler: gcc gcc (GCC) 11.5.0 20240719 (Red Hat 11.5.0-2) Ubuntu 22.04 Kernel: 5.15 Compiler: gcc gcc (Ubuntu 11.4.0-1ubuntu1~22.04) 11.4.0 Ubuntu 24.04 Kernel: 5.15 Compiler: gcc gcc (Ubuntu 13.3.0-6ubuntu2~24.04) 13.3.0 Windows Server 2022 Kernel: 10.0.20348.2031 Compiler: clang 15.0.7, gcc 14.1.0 (MinGW), and MSVC VS 19.39.33521 To view detailed results, visit: https://lab.dpdk.org/results/dashboard/tarballs/35397/ UNH-IOL DPDK Community Lab To manage your email subscriptions, visit: https://lab.dpdk.org/results/dashboard/preferences/subscriptions/