From mboxrd@z Thu Jan 1 00:00:00 1970 Return-Path: Received: from mails.dpdk.org (mails.dpdk.org [217.70.189.124]) by inbox.dpdk.org (Postfix) with ESMTP id 0FCAA489FC for ; Thu, 30 Oct 2025 06:45:38 +0100 (CET) Received: from mails.dpdk.org (localhost [127.0.0.1]) by mails.dpdk.org (Postfix) with ESMTP id 0A5834027A; Thu, 30 Oct 2025 06:45:38 +0100 (CET) Received: from mail-pf1-f225.google.com (mail-pf1-f225.google.com [209.85.210.225]) by mails.dpdk.org (Postfix) with ESMTP id BA1CA4027A for ; Thu, 30 Oct 2025 06:45:24 +0100 (CET) Received: by mail-pf1-f225.google.com with SMTP id d2e1a72fcca58-79af647cef2so685954b3a.3 for ; Wed, 29 Oct 2025 22:45:24 -0700 (PDT) DKIM-Signature: v=1; a=rsa-sha256; c=relaxed/relaxed; d=iol.unh.edu; s=unh-iol; t=1761803124; x=1762407924; darn=dpdk.org; h=cc:to:from:subject:message-id:date:from:to:cc:subject:date :message-id:reply-to; bh=LsIEdo5e63FW1cX1AgMxRzlpUix8VfI+VoBnrMfRY9c=; b=BxGmwF4+TetpAKF23i2b8oCKjiU7JIdYTh+e8Xa0dbfBU9EFj/UgBTdPTmA9m1IzAK S3H4zSY1Gne295DP4Ttzrr8pYkJzmLK6DJBNGb///MJ0TRgaeq21XqyEBknK9MGnebeR mD2S8bhZ8mkyKOz9zLlYpHHAld0LQDEchupo0= X-Google-DKIM-Signature: v=1; a=rsa-sha256; c=relaxed/relaxed; d=1e100.net; s=20230601; t=1761803124; x=1762407924; h=cc:to:from:subject:message-id:date:x-gm-message-state:from:to:cc :subject:date:message-id:reply-to; bh=LsIEdo5e63FW1cX1AgMxRzlpUix8VfI+VoBnrMfRY9c=; b=WyE1ihYy5Rd1F/MdD938olYRskmnb1aMtb8PIRqVfCNgeT4XaENkSVwVkoACCRDo8I ik/TaBK/ATeUVgAoJW3JfXojB1kUNyrTg/e/4kvnViYUyhSDiY5C17upf8Qb5SUe7Ss8 fR93HCft7ns5+/uEzF6zm3GZiveYkJp3KW01M+NVAYR6VnyEpTriLWOVeU4LiJYJgllj wm5gdEQ679o1nyu7l6yHXwVxAwcZML5mHsN9WbrFxb3FfYSl1LmKqxgZ+gT9Iuz1wphU S4qIOHQtHHaXN1sPzNnq0gvDzJZ77GynoCO/lOaUnU/FsQTOqMbqQQb1xRAxMWLpQz0U pliQ== X-Gm-Message-State: AOJu0YxiSxCnDtkcd47tcfZU1LulsOnqrHv6LiucdcUN9gctOPifLk2l 77F8tBp1KuDPq2J7UbQW2X8FIYfHxLm4gDqYX6H4KI/nlM6P4K7qEHEjK7bSfeB9o3nldzFca4l wwUJJTPm2Dw9DdYDxT6+q2CutUwrVqwql/shr X-Gm-Gg: ASbGncvXvUakqF0lIns3P3pQ6/tXAxUG+3SZDsMrEwU0ow5MlZL/dPIRipLH+emCE+T 4WagkRxaGvj1SwuEWL84rGnywy5IbbjqQN5YTKfbxFZqodEstpOLaDVquP3YQiZDFhbHYmp0ctm X8H72/fh57CViYyhiLkLhqtS0ciH1KRKtT/Jx9MQX5udKwk1ea08mc4UyGXlZnte3neFX4kOcsG Tf+tgpC3RXUr+D+g9zBZbu7XmGJRHfiG61M/hRn8GbiHlJbx2GP1vBT8rrGjQTbC7OBhSRqk9Go OBSF1IkaXwQHAoInykaLPMoFROBAWJsVdzv3Nbyv5CkYv7ZMxhBqNoLiIKdUvaaIXMvfJPoBcgc UMYLqeUHJZpZpxtCr5Jnf/7sS3cEkPFo= X-Google-Smtp-Source: AGHT+IEeB6F8NL9XQRA25Z7839OVcOZTxBNof26BEboj0KtPNNKmTv7Strf5JQvOYnXQdGEtTiSJnGTkZrJZ X-Received: by 2002:a05:6a00:4f90:b0:7a2:7b5f:4ce0 with SMTP id d2e1a72fcca58-7a62ca7d011mr2555066b3a.28.1761803123932; Wed, 29 Oct 2025 22:45:23 -0700 (PDT) Received: from postal.iol.unh.edu (postal.iol.unh.edu. [132.177.123.84]) by smtp-relay.gmail.com with ESMTPS id d2e1a72fcca58-7a41409e120sm1103692b3a.6.2025.10.29.22.45.23 (version=TLS1_2 cipher=ECDHE-ECDSA-AES128-GCM-SHA256 bits=128/128); Wed, 29 Oct 2025 22:45:23 -0700 (PDT) X-Relaying-Domain: iol.unh.edu Date: Wed, 29 Oct 2025 22:45:23 -0700 (PDT) Message-ID: <6902fb73.050a0220.2d8a19.4aa2SMTPIN_ADDED_MISSING@mx.google.com> Received: from [172.21.0.7] (unknown [172.18.0.240]) by postal.iol.unh.edu (Postfix) with ESMTP id 355876051830; Thu, 30 Oct 2025 01:45:23 -0400 (EDT) Subject: |SUCCESS| [GIT MASTER] 3b43ce3f4a54468e7ef65760c2fd7b4d6ee6d9fc From: dpdklab@iol.unh.edu To: Test Report Cc: dpdk-test-reports@iol.unh.edu, Xueming Li , Christian Ehrhardt , Kevin Traynor , Luca Boccassi Content-Type: text/plain X-BeenThere: test-report@dpdk.org X-Mailman-Version: 2.1.29 Precedence: list List-Id: automatic DPDK test reports List-Unsubscribe: , List-Archive: List-Post: List-Help: List-Subscribe: , Errors-To: test-report-bounces@dpdk.org _Testing PASS_ Branch: tags/v22.11 3b43ce3f4a54468e7ef65760c2fd7b4d6ee6d9fc --> testing pass Upstream job id: Generic-DPDK-Compile-Meson#439248 Test environment and result as below: +-------------------------------+--------------------+-------------------------+----------------------+ | Environment | dpdk_meson_compile | dpdk_llvm_clang_compile | dpdk_mingw64_compile | +===============================+====================+=========================+======================+ | FreeBSD 14.2 | PASS | SKIPPED | SKIPPED | +-------------------------------+--------------------+-------------------------+----------------------+ | Ubuntu 20.04 | PASS | SKIPPED | SKIPPED | +-------------------------------+--------------------+-------------------------+----------------------+ | CentOS Stream 10 | PASS | SKIPPED | SKIPPED | +-------------------------------+--------------------+-------------------------+----------------------+ | CentOS Stream 9 | PASS | SKIPPED | SKIPPED | +-------------------------------+--------------------+-------------------------+----------------------+ | Red Hat Enterprise Linux 8.10 | PASS | SKIPPED | SKIPPED | +-------------------------------+--------------------+-------------------------+----------------------+ | Fedora Linux 42 | PASS | SKIPPED | SKIPPED | +-------------------------------+--------------------+-------------------------+----------------------+ | openSUSE Leap 15.6 | PASS | SKIPPED | SKIPPED | +-------------------------------+--------------------+-------------------------+----------------------+ | Debian GNU/Linux 12 | PASS | SKIPPED | SKIPPED | +-------------------------------+--------------------+-------------------------+----------------------+ | Red Hat Enterprise Linux 9.5 | PASS | SKIPPED | SKIPPED | +-------------------------------+--------------------+-------------------------+----------------------+ | Ubuntu 22.04 | PASS | SKIPPED | SKIPPED | +-------------------------------+--------------------+-------------------------+----------------------+ | Ubuntu 24.04 | PASS | SKIPPED | SKIPPED | +-------------------------------+--------------------+-------------------------+----------------------+ | Windows Server 2022 | SKIPPED | PASS | PASS | +-------------------------------+--------------------+-------------------------+----------------------+ FreeBSD 14.2 Kernel: 14.2-RELEASE Compiler: clang 18.1.6 Ubuntu 20.04 Kernel: 4.19 Compiler: gcc gcc (Ubuntu 9.4.0-1ubuntu1~20.04.2) 9.4.0 CentOS Stream 10 Kernel: 5.15 Compiler: gcc gcc (GCC) 14.2.1 20250110 (Red Hat 14.2.1-8) CentOS Stream 9 Kernel: 5.15 Compiler: gcc gcc (GCC) 11.5.0 20240719 (Red Hat 11.5.0-11) Red Hat Enterprise Linux 8.10 Kernel: 5.15 Compiler: gcc gcc (GCC) 8.5.0 20210514 (Red Hat 8.5.0-22) Fedora Linux 42 Kernel: 5.15 Compiler: clang gcc (GCC) 15.2.1 20250808 (Red Hat 15.2.1-1) openSUSE Leap 15.6 Kernel: 5.15 Compiler: gcc gcc (SUSE Linux) 7.5.0 Debian GNU/Linux 12 Kernel: 5.15 Compiler: gcc gcc (Debian 12.2.0-14+deb12u1) 12.2.0 Red Hat Enterprise Linux 9.5 Kernel: 5.15 Compiler: gcc gcc (GCC) 11.5.0 20240719 (Red Hat 11.5.0-2) Ubuntu 22.04 Kernel: 5.15 Compiler: gcc gcc (Ubuntu 11.4.0-1ubuntu1~22.04) 11.4.0 Ubuntu 24.04 Kernel: 5.15 Compiler: gcc gcc (Ubuntu 13.3.0-6ubuntu2~24.04) 13.3.0 Windows Server 2022 Kernel: 10.0.20348.2031 Compiler: clang 15.0.7, gcc 14.1.0 (MinGW), and MSVC VS 19.39.33521 To view detailed results, visit: https://lab.dpdk.org/results/dashboard/tarballs/35397/ UNH-IOL DPDK Community Lab To manage your email subscriptions, visit: https://lab.dpdk.org/results/dashboard/preferences/subscriptions/