From mboxrd@z Thu Jan 1 00:00:00 1970 Return-Path: Received: from mails.dpdk.org (mails.dpdk.org [217.70.189.124]) by inbox.dpdk.org (Postfix) with ESMTP id 0B640489FC for ; Thu, 30 Oct 2025 07:13:35 +0100 (CET) Received: from mails.dpdk.org (localhost [127.0.0.1]) by mails.dpdk.org (Postfix) with ESMTP id DDB034027A; Thu, 30 Oct 2025 07:13:34 +0100 (CET) Received: from mail-io1-f98.google.com (mail-io1-f98.google.com [209.85.166.98]) by mails.dpdk.org (Postfix) with ESMTP id F3ACE4027A for ; Thu, 30 Oct 2025 07:13:33 +0100 (CET) Received: by mail-io1-f98.google.com with SMTP id ca18e2360f4ac-945a6c8721aso26970239f.0 for ; Wed, 29 Oct 2025 23:13:33 -0700 (PDT) DKIM-Signature: v=1; a=rsa-sha256; c=relaxed/relaxed; d=iol.unh.edu; s=unh-iol; t=1761804813; x=1762409613; darn=dpdk.org; h=references:in-reply-to:cc:to:from:subject:message-id:date:from:to :cc:subject:date:message-id:reply-to; bh=hyMqWlgGR/Hdoa0d+zT4Tt3YUYt/aA0hAbpCCYsc9bo=; b=bjwkF6qxQLWxkrkxUBReDbraweumuVT1cEhxULLBpGLwhBVEwqYKQ7YynHScD3vbYF qBHOaoM3IlHnGUPdloBbuO2ksPf3MtTTEU7fXaedLLJP0a57NqZZSotjTxFINQXCWZ3w auEd90h6R/DKc2xXsvD147HlVmcNH83NuhANU= X-Google-DKIM-Signature: v=1; a=rsa-sha256; c=relaxed/relaxed; d=1e100.net; s=20230601; t=1761804813; x=1762409613; h=references:in-reply-to:cc:to:from:subject:message-id:date :x-gm-message-state:from:to:cc:subject:date:message-id:reply-to; bh=hyMqWlgGR/Hdoa0d+zT4Tt3YUYt/aA0hAbpCCYsc9bo=; b=pL+KxH15ZLmlQ4k3OZLy6Muv3Gy4VlE9GU1oWjhYDkTHO1Aa3JNDVhA16U4jl8fhk3 +tlH5LVUFNJTQ3KmLhEZyMv/2+AYn7jvr/yoXHHr/EuPJT2cBZspWrKd3PrSLjhNynFI FZUv6RIQ5pRogN44YR3ADpL3vK8ltFiWMUEwj8J8+VVLewSFOxMce6n4Wa5MmAcic86N qpy5J1JeUu5l9Us0UNjMIEoHJK3dV/5P7LojecoCWyQZx0cFeaJ+l/rxT+DZqNQmKMAB 79EUhjgG48eofXcEeYMOGTEvVf+zrXjOvBcElEILIjtpfWSlSEPa4Pon67xZFU/ah3jV cdhQ== X-Gm-Message-State: AOJu0Yxy8j0ickpdp5umDUNbcBTC7Y3rgZdOY/PwFeS+fpmT5Va3Iqja sokUdRl3QHClQRLpMnn/1aSAP3P+/MIovkwTNQfpOFjezffpvusuIX4SPQ3w93BUcSRWXUfMJoa tGu+Md3Uua4ur9hlfzVh0BWnX1RkMjjNwE/ftPY8Rv/ICIzV1yzU7IUlwG1ra X-Gm-Gg: ASbGncvaUsKkN6PUehbLtYJbKtJHw5n4COJkhgqrdqIJiDPAxSO9sFxTpha6+1jH3JF QZXzk/d7vUEvMcnDNVXYhjtPf4EiXzy4K+TLqiFzpIWbJtSGsPSixjFtBs2jEnYRGS9ysrEoGwQ EEx9c+Od6Tvl8j/15HTCNT07JQEP3GcjcIf/bVyXGF+/O36/VWQ75dpEU5ZLG4m6AhI7RzFvsRh k4Z/0lhPZEe4r4mmgwGmUiWqI5Kzdlsk3Cr2094stW97GzkzV2AdynZezsKXKS/vwcJbv1EcxUY JXYMLTeg07AsaTLby3r2wTRhEni7PVSFR4vSUiGwCb3IBvHH7cfFTfR7S2OGK3uBJMRwrJwOmZC RytX2RdCy X-Google-Smtp-Source: AGHT+IHQPx2VQCeW78wDbWiVd7A5pPVW+SG+nJrsUKh3/lGI1c1zOCW9v6ROsMjsWtVytCzqzLK922Y9DD31 X-Received: by 2002:a05:6602:6c1c:b0:945:a8be:6787 with SMTP id ca18e2360f4ac-9481525d568mr326813039f.9.1761804813170; Wed, 29 Oct 2025 23:13:33 -0700 (PDT) Received: from postal.iol.unh.edu (postal.iol.unh.edu. [2606:4100:3880:1234::84]) by smtp-relay.gmail.com with ESMTPS id 8926c6da1cb9f-5aea9e32c85sm1115558173.29.2025.10.29.23.13.33 (version=TLS1_2 cipher=ECDHE-ECDSA-AES128-GCM-SHA256 bits=128/128); Wed, 29 Oct 2025 23:13:33 -0700 (PDT) X-Relaying-Domain: iol.unh.edu Date: Wed, 29 Oct 2025 23:13:33 -0700 (PDT) Message-ID: <6903020d.050a0220.13e9aa.40caSMTPIN_ADDED_MISSING@mx.google.com> Received: from [172.21.0.3] (unknown [172.18.0.240]) by postal.iol.unh.edu (Postfix) with ESMTP id AECF96051830; Thu, 30 Oct 2025 02:13:32 -0400 (EDT) Subject: |SUCCESS| pw158287-158289 [PATCH] [v2,3/3] doc: update TxPP document From: dpdklab@iol.unh.edu To: Test Report Cc: dpdk-test-reports@iol.unh.edu, Bruce Richardson In-Reply-To: <20251030173304.260209-4-soumyadeep.hore@intel.com> References: <20251030173304.260209-4-soumyadeep.hore@intel.com> Content-Type: text/plain X-BeenThere: test-report@dpdk.org X-Mailman-Version: 2.1.29 Precedence: list List-Id: automatic DPDK test reports List-Unsubscribe: , List-Archive: List-Post: List-Help: List-Subscribe: , Errors-To: test-report-bounces@dpdk.org Test-Label: iol-compile-amd64-testing Test-Status: SUCCESS http://dpdk.org/patch/158289 _Testing PASS_ Submitter: Soumyadeep Hore Date: Thursday, October 30 2025 17:33:04 DPDK git baseline: Repo:dpdk-next-net-intel Branch: master CommitID:6b997d6b9ffdbb4f8ecd14d1f217da69cdc783af 158287-158289 --> testing pass Upstream job id: Windows-Compile-DPDK-VS#7373 Test environment and result as below: +---------------------+--------------------+-------------------+ | Environment | dpdk_meson_compile | dpdk_msvc_compile | +=====================+====================+===================+ | Ubuntu 20.04 | PASS | SKIPPED | +---------------------+--------------------+-------------------+ | FreeBSD 14.2 | PASS | SKIPPED | +---------------------+--------------------+-------------------+ | Windows Server 2022 | SKIPPED | PASS | +---------------------+--------------------+-------------------+ Ubuntu 20.04 Kernel: 4.19 Compiler: gcc gcc (Ubuntu 9.4.0-1ubuntu1~20.04.2) 9.4.0 FreeBSD 14.2 Kernel: 14.2-RELEASE Compiler: clang 18.1.6 Windows Server 2022 Kernel: 10.0.20348.2031 Compiler: clang 15.0.7, gcc 14.1.0 (MinGW), and MSVC VS 19.39.33521 To view detailed results, visit: https://lab.dpdk.org/results/dashboard/patchsets/34424/ UNH-IOL DPDK Community Lab To manage your email subscriptions, visit: https://lab.dpdk.org/results/dashboard/preferences/subscriptions/