From: dpdklab@iol.unh.edu
To: Test Report <test-report@dpdk.org>
Cc: dpdk-test-reports@iol.unh.edu
Subject: |PENDING| pw158287-158289 [PATCH] [v2,3/3] doc: update TxPP document
Date: Wed, 29 Oct 2025 23:30:38 -0700 (PDT) [thread overview]
Message-ID: <6903060e.050a0220.183575.ad48SMTPIN_ADDED_MISSING@mx.google.com> (raw)
In-Reply-To: <20251030173304.260209-4-soumyadeep.hore@intel.com>
Test-Label: iol-unit-arm64-testing
Test-Status: PENDING
http://dpdk.org/patch/158289
_Testing pending_
Submitter: Soumyadeep Hore <soumyadeep.hore@intel.com>
Date: Thursday, October 30 2025 17:33:04
DPDK git baseline: Repo:dpdk-next-net-intel
Branch: master
CommitID:6b997d6b9ffdbb4f8ecd14d1f217da69cdc783af
158287-158289 --> testing pending
Upstream job id: Aarch32-Unit-Test#8034
Test environment and result as below:
+------------------------------+----------------+--------------+---------------------------+------------------------------+
| Environment | dpdk_unit_test | lpm_autotest | cryptodev_sw_zuc_autotest | cryptodev_sw_snow3g_autotest |
+==============================+================+==============+===========================+==============================+
| CentOS Stream 9 | PEND | SKIPPED | SKIPPED | SKIPPED |
+------------------------------+----------------+--------------+---------------------------+------------------------------+
| CentOS Stream 10 | PEND | SKIPPED | SKIPPED | SKIPPED |
+------------------------------+----------------+--------------+---------------------------+------------------------------+
| Debian GNU/Linux 12 | PEND | SKIPPED | SKIPPED | SKIPPED |
+------------------------------+----------------+--------------+---------------------------+------------------------------+
| Fedora Linux 40 | PEND | SKIPPED | SKIPPED | SKIPPED |
+------------------------------+----------------+--------------+---------------------------+------------------------------+
| Fedora Linux 41 | PEND | SKIPPED | SKIPPED | SKIPPED |
+------------------------------+----------------+--------------+---------------------------+------------------------------+
| Fedora Linux 42 | PEND | SKIPPED | SKIPPED | SKIPPED |
+------------------------------+----------------+--------------+---------------------------+------------------------------+
| Ubuntu 20.04 | PEND | PEND | SKIPPED | SKIPPED |
+------------------------------+----------------+--------------+---------------------------+------------------------------+
| Red Hat Enterprise Linux 9.5 | PEND | SKIPPED | SKIPPED | SKIPPED |
+------------------------------+----------------+--------------+---------------------------+------------------------------+
| Ubuntu 24.04 | PEND | SKIPPED | SKIPPED | SKIPPED |
+------------------------------+----------------+--------------+---------------------------+------------------------------+
| Ubuntu 22.04 | PASS | SKIPPED | SKIPPED | SKIPPED |
+------------------------------+----------------+--------------+---------------------------+------------------------------+
| Debian 12 (arm) | SKIPPED | SKIPPED | PEND | PEND |
+------------------------------+----------------+--------------+---------------------------+------------------------------+
CentOS Stream 9
Kernel: 5.4
Compiler: gcc gcc (GCC) 11.5.0 20240719 (Red Hat 11.5.0-11)
CentOS Stream 10
Kernel: 5.4
Compiler: gcc gcc (GCC) 14.2.1 20250110 (Red Hat 14.2.1-8)
Debian GNU/Linux 12
Kernel: 5.4
Compiler: gcc gcc (Debian 12.2.0-14+deb12u1) 12.2.0
Fedora Linux 40
Kernel: 5.4
Compiler: gcc gcc (GCC) 14.2.1 20240912 (Red Hat 14.2.1-3)
Fedora Linux 41
Kernel: 5.4
Compiler: gcc gcc (GCC) 14.3.1 20250523 (Red Hat 14.3.1-1)
Fedora Linux 42
Kernel: 5.4
Compiler: gcc gcc (GCC) 15.2.1 20250808 (Red Hat 15.2.1-1)
Ubuntu 20.04
Kernel: 5.4
Compiler: gcc gcc (Ubuntu 9.4.0-1ubuntu1~20.04.2) 9.4.0
Red Hat Enterprise Linux 9.5
Kernel: 5.4
Compiler: gcc gcc (GCC) 11.5.0 20240719 (Red Hat 11.5.0-2)
Ubuntu 24.04
Kernel: 5.4
Compiler: gcc gcc (Ubuntu 13.3.0-6ubuntu2~24.04) 13.3.0
Ubuntu 22.04
Kernel: 5.4
Compiler: gcc gcc (Ubuntu 11.4.0-1ubuntu1~22.04) 11.4.0
Debian 12 (arm)
Kernel: Depends on container host
Compiler: gcc (Debian 12.2.0-14) 12.2.0
To view detailed results, visit:
https://lab.dpdk.org/results/dashboard/patchsets/34424/
UNH-IOL DPDK Community Lab
To manage your email subscriptions, visit:
https://lab.dpdk.org/results/dashboard/preferences/subscriptions/
next prev parent reply other threads:[~2025-10-30 6:30 UTC|newest]
Thread overview: 27+ messages / expand[flat|nested] mbox.gz Atom feed top
[not found] <20251030173304.260209-4-soumyadeep.hore@intel.com>
2025-10-30 4:19 ` |SUCCESS| pw158287-158289 [PATCH v2 3/3] doc: update TxPP documentation qemudev
2025-10-30 4:24 ` qemudev
2025-10-30 4:54 ` |SUCCESS| pw158289 " checkpatch
2025-10-30 5:21 ` |PENDING| pw158287-158289 [PATCH] [v2,3/3] doc: update TxPP document dpdklab
2025-10-30 5:25 ` |SUCCESS| " dpdklab
2025-10-30 5:28 ` dpdklab
2025-10-30 5:29 ` dpdklab
2025-10-30 5:33 ` dpdklab
2025-10-30 5:56 ` dpdklab
2025-10-30 6:13 ` dpdklab
2025-10-30 6:22 ` |SUCCESS| pw158289 [PATCH v2 3/3] doc: update TxPP documentation 0-day Robot
2025-10-30 6:22 ` 0-day Robot
2025-10-30 6:28 ` |SUCCESS| pw158287-158289 [PATCH] [v2,3/3] doc: update TxPP document dpdklab
2025-10-30 6:30 ` dpdklab [this message]
2025-10-30 6:32 ` dpdklab
2025-10-30 6:53 ` dpdklab
2025-10-30 6:55 ` |WARNING| " dpdklab
2025-10-30 6:56 ` |SUCCESS| " dpdklab
2025-10-30 7:15 ` |PENDING| " dpdklab
2025-10-30 8:10 ` |WARNING| " dpdklab
2025-10-30 8:13 ` |SUCCESS| " dpdklab
2025-10-30 8:23 ` |PENDING| " dpdklab
2025-10-30 8:28 ` |WARNING| " dpdklab
2025-10-30 8:41 ` dpdklab
2025-10-30 8:41 ` |SUCCESS| " dpdklab
2025-10-30 8:48 ` dpdklab
2025-10-30 16:17 ` dpdklab
Reply instructions:
You may reply publicly to this message via plain-text email
using any one of the following methods:
* Save the following mbox file, import it into your mail client,
and reply-to-all from there: mbox
Avoid top-posting and favor interleaved quoting:
https://en.wikipedia.org/wiki/Posting_style#Interleaved_style
* Reply using the --to, --cc, and --in-reply-to
switches of git-send-email(1):
git send-email \
--in-reply-to=6903060e.050a0220.183575.ad48SMTPIN_ADDED_MISSING@mx.google.com \
--to=dpdklab@iol.unh.edu \
--cc=dpdk-test-reports@iol.unh.edu \
--cc=test-report@dpdk.org \
/path/to/YOUR_REPLY
https://kernel.org/pub/software/scm/git/docs/git-send-email.html
* If your mail client supports setting the In-Reply-To header
via mailto: links, try the mailto: link
Be sure your reply has a Subject: header at the top and a blank line
before the message body.
This is a public inbox, see mirroring instructions
for how to clone and mirror all data and code used for this inbox;
as well as URLs for NNTP newsgroup(s).