From mboxrd@z Thu Jan 1 00:00:00 1970 Return-Path: Received: from mails.dpdk.org (mails.dpdk.org [217.70.189.124]) by inbox.dpdk.org (Postfix) with ESMTP id 8BD45489FC for ; Thu, 30 Oct 2025 07:35:54 +0100 (CET) Received: from mails.dpdk.org (localhost [127.0.0.1]) by mails.dpdk.org (Postfix) with ESMTP id 695994027A; Thu, 30 Oct 2025 07:35:54 +0100 (CET) Received: from mail-qv1-f99.google.com (mail-qv1-f99.google.com [209.85.219.99]) by mails.dpdk.org (Postfix) with ESMTP id B86F94027A for ; Thu, 30 Oct 2025 07:35:53 +0100 (CET) Received: by mail-qv1-f99.google.com with SMTP id 6a1803df08f44-87dfd3cfafbso8609666d6.0 for ; Wed, 29 Oct 2025 23:35:53 -0700 (PDT) DKIM-Signature: v=1; a=rsa-sha256; c=relaxed/relaxed; d=iol.unh.edu; s=unh-iol; t=1761806153; x=1762410953; darn=dpdk.org; h=references:in-reply-to:cc:to:from:subject:message-id:date:from:to :cc:subject:date:message-id:reply-to; bh=7tZRKpDbpJicCXOrubgtORbMx9HsrfmrmmsYxUPaqgU=; b=XhtMt8JYOkhFRmTRdLKKXtqYDhjwCOEGr+X8mNuyDHaz2Qz7yj0S9VsnG+2l0m902Y hTciDJN6MLH3UETIsnpLsozxJGK62YS2cKpZNDjYSx50B90BvH87E/70GCC3brN29ykQ IelhSA9/rMkLDvjKP0hWAMc7nweFFdw5dA87g= X-Google-DKIM-Signature: v=1; a=rsa-sha256; c=relaxed/relaxed; d=1e100.net; s=20230601; t=1761806153; x=1762410953; h=references:in-reply-to:cc:to:from:subject:message-id:date :x-gm-message-state:from:to:cc:subject:date:message-id:reply-to; bh=7tZRKpDbpJicCXOrubgtORbMx9HsrfmrmmsYxUPaqgU=; b=F/f2oFtIxtLG2leZ0LttNDQVwoipzIpZUxis8iKwFZcu75lsB7muIjRHm8l0YxI+Pa cRBE21bYw6tniDHiQaKpYKlEMuTcYSbLKEi9bKHLPi3m2Z4/H0QeCnrz0+MwjJ8HOOHE wFT/ojW7MjlSeVgoQldqUgHg4SUsmjTNLutlNEC06uXlDZT/1lCxxoe1sYCci5Ps0IfC 7n7+eg9bs7NByvmC5qK956ug65OUKPYlSexNID083ILm8D+pGrmZkDbKUqpK98CIA0Kq Y7UzCuf3lfmRKxglZV+Zgd/DP/mvruhHOzz7KeAEtviDcHKAR7K04kEPVaOgGZ75ryl3 KA6w== X-Gm-Message-State: AOJu0YwR7yCWHCee1JrEjWzLojlKzCgqZ9U9EGvAyZvvekUt528y3FCA YOaDEd/xPvDRR2An1APMxbxtc8n5B1Uk738nFQrOQ1kbrM+8gRl+R4A8fjSXHq68Yfj7BS0rzNg CIqPFsUrp6pTC/mdEhUlQt4M3Q72ctiGlnISV9YdO3/P1 X-Gm-Gg: ASbGnct0s+B0WNoeWlw2Ds+a/u0BtVgKfYQqEWE/CudFMug8JxQ7FJ+c129jVyYtSOU pBErnOc6IgLExsCKmyykr1cWZYRjDQoJi1aul8YRfA6QAmnkEA9gXsQFiq6pmqDQRh/mBq4OKBK x9lOU1OipB0EqX6CTSDna1BUwRC42X2uU9Aw0kxTdQI4hpq0TlNKQTr3GZeAXbVjUugpIHm4wZR jEAxg3W6B+isqCIxCJPJ3IWo1FGmPpdaYPoIoUDxG3xMS/IRL9DNnbIZxtWGLazdIgQ9tO044f1 85lwH28WNvW/jrO87ogdOIThqCXvNKfDOhkTKj/Zky30aJ9ddPc66u9z6CjGkelNzzJy9vF+NkO oKTYmiTnLnzm8tz0AmRLhc1KYtukSkXQ= X-Google-Smtp-Source: AGHT+IERjffRh+ORNWCB/OU1RjfQiCrx8BiQzdBMlovgd3NgQ1SILpI5RZGaC5JxPl8i6uw/6qu3NZknlVL6 X-Received: by 2002:ad4:5ca9:0:b0:87c:2805:9f9f with SMTP id 6a1803df08f44-88009c0b51dmr65290236d6.57.1761806153031; Wed, 29 Oct 2025 23:35:53 -0700 (PDT) Received: from postal.iol.unh.edu (postal.iol.unh.edu. [132.177.123.84]) by smtp-relay.gmail.com with ESMTPS id 6a1803df08f44-87fc48dbb04sm14932256d6.4.2025.10.29.23.35.52 (version=TLS1_2 cipher=ECDHE-ECDSA-AES128-GCM-SHA256 bits=128/128); Wed, 29 Oct 2025 23:35:53 -0700 (PDT) X-Relaying-Domain: iol.unh.edu Date: Wed, 29 Oct 2025 23:35:53 -0700 (PDT) Message-ID: <69030749.d40a0220.145270.a31aSMTPIN_ADDED_MISSING@mx.google.com> Received: from [172.21.0.2] (unknown [172.18.0.240]) by postal.iol.unh.edu (Postfix) with ESMTP id B19506051830; Thu, 30 Oct 2025 02:35:52 -0400 (EDT) Subject: |SUCCESS| pw158286 [PATCH] net/cnxk: fix port ID default action From: dpdklab@iol.unh.edu To: Test Report Cc: dpdk-test-reports@iol.unh.edu In-Reply-To: <20251030034404.4187369-1-psatheesh@marvell.com> References: <20251030034404.4187369-1-psatheesh@marvell.com> Content-Type: text/plain X-BeenThere: test-report@dpdk.org X-Mailman-Version: 2.1.29 Precedence: list List-Id: automatic DPDK test reports List-Unsubscribe: , List-Archive: List-Post: List-Help: List-Subscribe: , Errors-To: test-report-bounces@dpdk.org Test-Label: iol-compile-amd64-testing Test-Status: SUCCESS http://dpdk.org/patch/158286 _Testing PASS_ Submitter: Satheesh Paul Antonysamy Date: Thursday, October 30 2025 03:44:03 DPDK git baseline: Repo:dpdk-next-net-mrvl Branch: master CommitID:39b54f2dcf44ad1f91eabc7080cd5dea763607fd 158286 --> testing pass Upstream job id: Windows-Compile-DPDK-Native#32007 Test environment and result as below: +---------------------+--------------------+-------------------+-------------------------+ | Environment | dpdk_meson_compile | dpdk_msvc_compile | dpdk_llvm_clang_compile | +=====================+====================+===================+=========================+ | Ubuntu 20.04 | PASS | SKIPPED | SKIPPED | +---------------------+--------------------+-------------------+-------------------------+ | FreeBSD 14.2 | PASS | SKIPPED | SKIPPED | +---------------------+--------------------+-------------------+-------------------------+ | Windows Server 2022 | SKIPPED | PASS | PASS | +---------------------+--------------------+-------------------+-------------------------+ Ubuntu 20.04 Kernel: 4.19 Compiler: gcc gcc (Ubuntu 9.4.0-1ubuntu1~20.04.2) 9.4.0 FreeBSD 14.2 Kernel: 14.2-RELEASE Compiler: clang 18.1.6 Windows Server 2022 Kernel: 10.0.20348.2031 Compiler: clang 15.0.7, gcc 14.1.0 (MinGW), and MSVC VS 19.39.33521 To view detailed results, visit: https://lab.dpdk.org/results/dashboard/patchsets/34423/ UNH-IOL DPDK Community Lab To manage your email subscriptions, visit: https://lab.dpdk.org/results/dashboard/preferences/subscriptions/