From mboxrd@z Thu Jan 1 00:00:00 1970 Return-Path: Received: from mails.dpdk.org (mails.dpdk.org [217.70.189.124]) by inbox.dpdk.org (Postfix) with ESMTP id 23AF1489FC for ; Thu, 30 Oct 2025 07:42:01 +0100 (CET) Received: from mails.dpdk.org (localhost [127.0.0.1]) by mails.dpdk.org (Postfix) with ESMTP id 0C11E4027A; Thu, 30 Oct 2025 07:42:01 +0100 (CET) Received: from mail-qv1-f97.google.com (mail-qv1-f97.google.com [209.85.219.97]) by mails.dpdk.org (Postfix) with ESMTP id DF9B94027A for ; Thu, 30 Oct 2025 07:41:59 +0100 (CET) Received: by mail-qv1-f97.google.com with SMTP id 6a1803df08f44-78ea15d3489so6981966d6.3 for ; Wed, 29 Oct 2025 23:41:59 -0700 (PDT) DKIM-Signature: v=1; a=rsa-sha256; c=relaxed/relaxed; d=iol.unh.edu; s=unh-iol; t=1761806519; x=1762411319; darn=dpdk.org; h=references:in-reply-to:cc:to:from:subject:message-id:date:from:to :cc:subject:date:message-id:reply-to; bh=4P5QBa5vfAsnhtFsZs4SwMTdhlAwcRV9NFY3O2Swe7k=; b=gfnmlqkvmi26/wdch9LT+c2odLEJty4mJH8brOvnKqJ0D3+ud9XJW1UFCulm4g1w9h fG2PFEUlUMOxOdrZreekgGoqkUujMp3wBiikonCW3sTvRGgnpWlFobz3PYuu62UQb/oC /BQ0e3hCCj3xEL9QGO7qvrLRUB0CGsaASorxU= X-Google-DKIM-Signature: v=1; a=rsa-sha256; c=relaxed/relaxed; d=1e100.net; s=20230601; t=1761806519; x=1762411319; h=references:in-reply-to:cc:to:from:subject:message-id:date :x-gm-message-state:from:to:cc:subject:date:message-id:reply-to; bh=4P5QBa5vfAsnhtFsZs4SwMTdhlAwcRV9NFY3O2Swe7k=; b=aI5cwJ5BRoqM3o/uULqihm1yASOvxMqwGSzlchJ29A4WFal1uevppkt4GFcphZhwCP rtWLXvdgTcxj2py8hzIId8uYyxQk9zYsm6tcJIs55+DTxwQitKL4IwUQGrcwi61OyBIp q2vCVd0b/YzMCTuLCjyITK4YtWbE/2AQ3d18bXIumR0fPOJtQ0u2ccov3WYIALH4TI9P E898zGQrypcEv2w7o3yC/RMoP0WgAMPT9PPJsyC5XvbvYgeUSb/a0RfNI+SCzD9JjyNp W8/L11RZg5w6rPn/HoczjxBDJQypv7Uex0wtkJtf4kZ9PKxV6cYmqf3ZEItSnyXvArik rnJw== X-Gm-Message-State: AOJu0YxUP/dvwLWjdyuayK98bU6rEYmmwpcJo8Ue9YU6+1LK2O7MCzex 0M/wgotWbuO8uDuxU8rR2Yp9rdeZsnZScnxp9R/bsWicmAXS5o7rPzcm4ETdu9LE4OPjcxWqj9W 20nvOax5hE7FDOQbTbsSvpfYWnEtedc1Rwm2qqgXkT/Md X-Gm-Gg: ASbGncug5oeQfCE7Tdy9vxU4Vs0dGQVwgt9qCpi5mlvLInsjiH/HU6T/wSV9znQkWGN 7+NGAtT96emIfIkgUY+bQExOa2r1EVhNi3pkUA2PdmWDRhDjS7ws0Tj507WRa/CsaSAFsVs5W62 kVj04j5yVHr1RzyFJhS0KzdNhzCoE0sj+lhKRmlhRyeo+6J6jRnGXAvr+ZMB94+dT+fUBsxyvUz doJay5IqbU+r7tmRmwc7JUmTY0b3DazNw5QBth1MCYcnBsKVBD3ojiZBZzi3teSMtmFHg8Hdell b1RI/OOlyDG6O24zNDbUp0LUmc+n5kvDLiGXUJEd/87VuJQQJQGJweMKPDEESPH4go5AgQsDTns 6Zj4kwAADAQmUKlR+6UmNIzt+D+wij3s= X-Google-Smtp-Source: AGHT+IHm92fuEwbBwqqdCpkAb18yT+ScHHk+0xfzGO6yWIWHBx7vBcuTE2PBUTmpL5363/M7TJegpXy61UrC X-Received: by 2002:a05:6214:2502:b0:87c:22f9:dac4 with SMTP id 6a1803df08f44-88009b006fbmr75762436d6.15.1761806519060; Wed, 29 Oct 2025 23:41:59 -0700 (PDT) Received: from postal.iol.unh.edu (postal.iol.unh.edu. [132.177.123.84]) by smtp-relay.gmail.com with ESMTPS id 6a1803df08f44-87fc48f8526sm16067206d6.9.2025.10.29.23.41.57 (version=TLS1_2 cipher=ECDHE-ECDSA-AES128-GCM-SHA256 bits=128/128); Wed, 29 Oct 2025 23:41:57 -0700 (PDT) X-Relaying-Domain: iol.unh.edu Date: Wed, 29 Oct 2025 23:41:57 -0700 (PDT) Message-ID: <690308b5.050a0220.3152c7.cc62SMTPIN_ADDED_MISSING@mx.google.com> Received: from [172.21.0.2] (unknown [172.18.0.240]) by postal.iol.unh.edu (Postfix) with ESMTP id 8AFFB6051830; Thu, 30 Oct 2025 02:41:57 -0400 (EDT) Subject: |SUCCESS| pw158286 [PATCH] net/cnxk: fix port ID default action From: dpdklab@iol.unh.edu To: Test Report Cc: dpdk-test-reports@iol.unh.edu In-Reply-To: <20251030034404.4187369-1-psatheesh@marvell.com> References: <20251030034404.4187369-1-psatheesh@marvell.com> Content-Type: text/plain X-BeenThere: test-report@dpdk.org X-Mailman-Version: 2.1.29 Precedence: list List-Id: automatic DPDK test reports List-Unsubscribe: , List-Archive: List-Post: List-Help: List-Subscribe: , Errors-To: test-report-bounces@dpdk.org Test-Label: iol-compile-amd64-testing Test-Status: SUCCESS http://dpdk.org/patch/158286 _Testing PASS_ Submitter: Satheesh Paul Antonysamy Date: Thursday, October 30 2025 03:44:03 DPDK git baseline: Repo:dpdk-next-net-mrvl Branch: master CommitID:39b54f2dcf44ad1f91eabc7080cd5dea763607fd 158286 --> testing pass Upstream job id: Windows-Compile-DPDK-Native#32008 Test environment and result as below: +---------------------+--------------------+-------------------+-------------------------+----------------------+ | Environment | dpdk_meson_compile | dpdk_msvc_compile | dpdk_llvm_clang_compile | dpdk_mingw64_compile | +=====================+====================+===================+=========================+======================+ | Ubuntu 20.04 | PASS | SKIPPED | SKIPPED | SKIPPED | +---------------------+--------------------+-------------------+-------------------------+----------------------+ | FreeBSD 14.2 | PASS | SKIPPED | SKIPPED | SKIPPED | +---------------------+--------------------+-------------------+-------------------------+----------------------+ | Windows Server 2022 | SKIPPED | PASS | PASS | PASS | +---------------------+--------------------+-------------------+-------------------------+----------------------+ Ubuntu 20.04 Kernel: 4.19 Compiler: gcc gcc (Ubuntu 9.4.0-1ubuntu1~20.04.2) 9.4.0 FreeBSD 14.2 Kernel: 14.2-RELEASE Compiler: clang 18.1.6 Windows Server 2022 Kernel: 10.0.20348.2031 Compiler: clang 15.0.7, gcc 14.1.0 (MinGW), and MSVC VS 19.39.33521 To view detailed results, visit: https://lab.dpdk.org/results/dashboard/patchsets/34423/ UNH-IOL DPDK Community Lab To manage your email subscriptions, visit: https://lab.dpdk.org/results/dashboard/preferences/subscriptions/