From: dpdklab@iol.unh.edu
To: Test Report <test-report@dpdk.org>
Cc: dpdk-test-reports@iol.unh.edu
Subject: |WARNING| pw158286 [PATCH] net/cnxk: fix port ID default action
Date: Wed, 29 Oct 2025 23:43:09 -0700 (PDT) [thread overview]
Message-ID: <690308fd.050a0220.3164a3.b267SMTPIN_ADDED_MISSING@mx.google.com> (raw)
In-Reply-To: <20251030034404.4187369-1-psatheesh@marvell.com>
Test-Label: iol-sample-apps-testing
Test-Status: WARNING
http://dpdk.org/patch/158286
_Testing issues_
Submitter: Satheesh Paul Antonysamy <psatheesh@marvell.com>
Date: Thursday, October 30 2025 03:44:03
DPDK git baseline: Repo:dpdk-next-net-mrvl
Branch: master
CommitID:39b54f2dcf44ad1f91eabc7080cd5dea763607fd
158286 --> testing issues
Upstream job id: ACVP-FIPS-testing#11618
Test environment and result as below:
+--------------+----------------------+----------------------+
| Environment | compressdev_zlib_pmd | dpdk_fips_validation |
+==============+======================+======================+
| Ubuntu 22.04 | PASS | SKIPPED |
+--------------+----------------------+----------------------+
| Ubuntu 20.04 | SKIPPED | WARN |
+--------------+----------------------+----------------------+
==== 20 line log output for Ubuntu 20.04 (dpdk_fips_validation): ====
Traceback (most recent call last):
File "/dpdk-ci/tools/acvp/acvp_tool.py", line 368, in <module>
main(
File "/dpdk-ci/tools/acvp/acvp_tool.py", line 314, in main
with open(response_path, 'r') as upload_file:
FileNotFoundError: [Errno 2] No such file or directory: '/root/workspace/ACVP-FIPS-testing/out/hmac-sha-1-answers.rsp'
INFO:root:Using response file...
Traceback (most recent call last):
File "/dpdk-ci/tools/acvp/acvp_tool.py", line 368, in <module>
main(
File "/dpdk-ci/tools/acvp/acvp_tool.py", line 314, in main
with open(response_path, 'r') as upload_file:
FileNotFoundError: [Errno 2] No such file or directory: '/root/workspace/ACVP-FIPS-testing/out/acvp-tdes-cbc-answers.rsp'
INFO:root:Using response file...
Traceback (most recent call last):
File "/dpdk-ci/tools/acvp/acvp_tool.py", line 368, in <module>
main(
File "/dpdk-ci/tools/acvp/acvp_tool.py", line 314, in main
with open(response_path, 'r') as upload_file:
FileNotFoundError: [Errno 2] No such file or directory: '/root/workspace/ACVP-FIPS-testing/out/acvp-aes-ctr-answers.rsp'
==== End log output ====
Ubuntu 22.04
Kernel: 5.15
Compiler: gcc gcc (Ubuntu 11.4.0-1ubuntu1~22.04.2) 11.4.0
Ubuntu 20.04
Kernel: 5.15
Compiler: gcc gcc (Ubuntu 9.4.0-1ubuntu1~20.04.2) 9.4.0
To view detailed results, visit:
https://lab.dpdk.org/results/dashboard/patchsets/34423/
UNH-IOL DPDK Community Lab
To manage your email subscriptions, visit:
https://lab.dpdk.org/results/dashboard/preferences/subscriptions/
next prev parent reply other threads:[~2025-10-30 6:43 UTC|newest]
Thread overview: 25+ messages / expand[flat|nested] mbox.gz Atom feed top
[not found] <20251030034404.4187369-1-psatheesh@marvell.com>
2025-10-30 3:11 ` |SUCCESS| " qemudev
2025-10-30 3:16 ` qemudev
2025-10-30 3:45 ` checkpatch
2025-10-30 4:19 ` dpdklab
2025-10-30 4:22 ` dpdklab
2025-10-30 4:26 ` dpdklab
2025-10-30 4:41 ` |SUCCESS| pw158286 [dpdk-dev] " 0-day Robot
2025-10-30 4:41 ` 0-day Robot
2025-10-30 5:02 ` |SUCCESS| pw158286 " dpdklab
2025-10-30 5:10 ` dpdklab
2025-10-30 5:33 ` dpdklab
2025-10-30 5:35 ` dpdklab
2025-10-30 6:06 ` |PENDING| " dpdklab
2025-10-30 6:06 ` |SUCCESS| " dpdklab
2025-10-30 6:28 ` dpdklab
2025-10-30 6:35 ` dpdklab
2025-10-30 6:41 ` dpdklab
2025-10-30 6:43 ` dpdklab [this message]
2025-10-30 6:48 ` |PENDING| " dpdklab
2025-10-30 7:28 ` |SUCCESS| " dpdklab
2025-10-30 7:43 ` |WARNING| " dpdklab
2025-10-30 7:56 ` |SUCCESS| " dpdklab
2025-10-30 8:19 ` dpdklab
2025-10-30 8:39 ` |WARNING| " dpdklab
2025-10-30 11:25 ` |SUCCESS| " dpdklab
Reply instructions:
You may reply publicly to this message via plain-text email
using any one of the following methods:
* Save the following mbox file, import it into your mail client,
and reply-to-all from there: mbox
Avoid top-posting and favor interleaved quoting:
https://en.wikipedia.org/wiki/Posting_style#Interleaved_style
* Reply using the --to, --cc, and --in-reply-to
switches of git-send-email(1):
git send-email \
--in-reply-to=690308fd.050a0220.3164a3.b267SMTPIN_ADDED_MISSING@mx.google.com \
--to=dpdklab@iol.unh.edu \
--cc=dpdk-test-reports@iol.unh.edu \
--cc=test-report@dpdk.org \
/path/to/YOUR_REPLY
https://kernel.org/pub/software/scm/git/docs/git-send-email.html
* If your mail client supports setting the In-Reply-To header
via mailto: links, try the mailto: link
Be sure your reply has a Subject: header at the top and a blank line
before the message body.
This is a public inbox, see mirroring instructions
for how to clone and mirror all data and code used for this inbox;
as well as URLs for NNTP newsgroup(s).