From mboxrd@z Thu Jan 1 00:00:00 1970 Return-Path: Received: from mails.dpdk.org (mails.dpdk.org [217.70.189.124]) by inbox.dpdk.org (Postfix) with ESMTP id 493E2489FC for ; Thu, 30 Oct 2025 07:43:40 +0100 (CET) Received: from mails.dpdk.org (localhost [127.0.0.1]) by mails.dpdk.org (Postfix) with ESMTP id 41E404027A; Thu, 30 Oct 2025 07:43:40 +0100 (CET) Received: from mail-io1-f97.google.com (mail-io1-f97.google.com [209.85.166.97]) by mails.dpdk.org (Postfix) with ESMTP id 2A1054027A for ; Thu, 30 Oct 2025 07:43:39 +0100 (CET) Received: by mail-io1-f97.google.com with SMTP id ca18e2360f4ac-945a4218f19so84539839f.1 for ; Wed, 29 Oct 2025 23:43:39 -0700 (PDT) DKIM-Signature: v=1; a=rsa-sha256; c=relaxed/relaxed; d=iol.unh.edu; s=unh-iol; t=1761806618; x=1762411418; darn=dpdk.org; h=cc:to:from:subject:message-id:date:from:to:cc:subject:date :message-id:reply-to; bh=ryDTnbLr1tAhQ56tlp72PapNwWYsLzit/gl+XLmfbDM=; b=PFrCtlJUq+Rqw5v9FPdDAplfFqhYEn1NQG8yMJjvygoj8Eon1XmGb0Ym6WEpglUiUL H6YE6eCwJq1NJwX78ThDVIwvDBVHkOtLSGhwACy10ezIO4dKss+dpmtksqoc/nGvWnMw 1PYomvCtuKQQ6vAqfYpV923XKEKvQ7xxaNwVc= X-Google-DKIM-Signature: v=1; a=rsa-sha256; c=relaxed/relaxed; d=1e100.net; s=20230601; t=1761806618; x=1762411418; h=cc:to:from:subject:message-id:date:x-gm-message-state:from:to:cc :subject:date:message-id:reply-to; bh=ryDTnbLr1tAhQ56tlp72PapNwWYsLzit/gl+XLmfbDM=; b=P2EdaFrK03Q2Eey6PZ4xDYrJ5AM2CQEZr4TZZWqBeIHK6iL5HXVHd+Co1iANddlVtH XFcywY/MTtiIIuP9iS5xeKCp94NYWl4r+f7UcnSNzHvbX1bn51KmifHo1Xnv8Q0Fdmfo 92fb8mjrMV4ynS83St3LZElcBXyRfCw2799zeXau3fU+4zBPPaiGurawGKctebt8yzcl HjfY/Z8WnKfa/yYYwbiDNzsEbfyx4dMtidd0Esmi8/Ht4Mi6gWqR7WLVw0U/AvLXJXAq zlOE6dlnkTqj3beWSfBQlJDwMQdyEenUtncV03+b8uSCdU2/WyawwSybPaPRuZK6JXNV BY7Q== X-Gm-Message-State: AOJu0YziRGUvHVanN0mYNwu9QGoNTzw3ZONCcOQOXlRYOkLwTjD9Jk85 IZvGzgtgMzZUwLlTnmpHvv2wo7SY3Rqg6M+dY3Lxl4Kb9TBKlr3DL2ZUW1QQU1CRdFzkElBw3LK 6BGw4KCcLuzFk7dg8wZNhBNh3iwQBSazzoizZ X-Gm-Gg: ASbGncu+pIgy9Vx1S45KVd3i3aVY0HRNA0QhCgZl1JRWSMlHZZbOqhyyQySs9A2Iyr9 hu7sTGlL5ntL4ud6K9TtY1YS42pKit76mu01PL5XBGcaZSTRo7s7BFyEoZzu/hNk0em4x0C9/PC CBau/BkFL2q5ozRX5cz1o/CiLE97EyjF+oN2ruptHWpXuUUhcbeG0XezFgj3dEQQeIcfS0DTObz m6bX3WGT0bmxA5GYgxj7BeQFL27jVSlyWexYDv2YF50W+NisCiu1+GsOeo4RRhxAwp3f6tFc2Xw mYxeeFsOyRkCSILAFBRGb2IThC8pRug0Rv8h5c65ndYfjKlNWjZqMU1HhiyRHzMGNYbpw/G6bRt GhjF9RxENeFxP/g8pmXg05Tg2sa1BHHs= X-Google-Smtp-Source: AGHT+IGA/wNcePT8PunsbS4i3jkXtthCmFvALFHdt6Ceb/BSLnm6DUkG8mb0MNbRbQWlss5bjBznG5GBwQpY X-Received: by 2002:a05:6e02:460b:b0:432:fe00:8953 with SMTP id e9e14a558f8ab-4330124a43bmr28106515ab.15.1761806618423; Wed, 29 Oct 2025 23:43:38 -0700 (PDT) Received: from postal.iol.unh.edu (postal.iol.unh.edu. [132.177.123.84]) by smtp-relay.gmail.com with ESMTPS id e9e14a558f8ab-431f689a184sm15888745ab.27.2025.10.29.23.43.38 (version=TLS1_2 cipher=ECDHE-ECDSA-AES128-GCM-SHA256 bits=128/128); Wed, 29 Oct 2025 23:43:38 -0700 (PDT) X-Relaying-Domain: iol.unh.edu Date: Wed, 29 Oct 2025 23:43:38 -0700 (PDT) Message-ID: <6903091a.050a0220.332832.b839SMTPIN_ADDED_MISSING@mx.google.com> Received: from [172.21.0.2] (unknown [172.18.0.240]) by postal.iol.unh.edu (Postfix) with ESMTP id 03D976051830; Thu, 30 Oct 2025 02:43:38 -0400 (EDT) Subject: |SUCCESS| [GIT MASTER] b287e404643aeab5bb5db084c142789df187844e From: dpdklab@iol.unh.edu To: Test Report Cc: dpdk-test-reports@iol.unh.edu, Xueming Li , Christian Ehrhardt , Kevin Traynor , Luca Boccassi Content-Type: text/plain X-BeenThere: test-report@dpdk.org X-Mailman-Version: 2.1.29 Precedence: list List-Id: automatic DPDK test reports List-Unsubscribe: , List-Archive: List-Post: List-Help: List-Subscribe: , Errors-To: test-report-bounces@dpdk.org _Testing PASS_ Branch: tags/v24.11 b287e404643aeab5bb5db084c142789df187844e --> testing pass Upstream job id: Generic-DPDK-Compile-Meson#439295 Test environment and result as below: +-------------------------------+--------------------+-------------------+------------------+-------------------+-------------------------+----------------------+ | Environment | dpdk_meson_compile | dpdk_compile_spdk | dpdk_compile_ovs | dpdk_msvc_compile | dpdk_llvm_clang_compile | dpdk_mingw64_compile | +===============================+====================+===================+==================+===================+=========================+======================+ | Ubuntu 20.04 | PASS | SKIPPED | SKIPPED | SKIPPED | SKIPPED | SKIPPED | +-------------------------------+--------------------+-------------------+------------------+-------------------+-------------------------+----------------------+ | CentOS Stream 9 | PASS | PASS | SKIPPED | SKIPPED | SKIPPED | SKIPPED | +-------------------------------+--------------------+-------------------+------------------+-------------------+-------------------------+----------------------+ | Debian GNU/Linux 12 | PASS | PASS | SKIPPED | SKIPPED | SKIPPED | SKIPPED | +-------------------------------+--------------------+-------------------+------------------+-------------------+-------------------------+----------------------+ | openSUSE Leap 15.6 | PASS | SKIPPED | SKIPPED | SKIPPED | SKIPPED | SKIPPED | +-------------------------------+--------------------+-------------------+------------------+-------------------+-------------------------+----------------------+ | Fedora Linux 42 | PASS | PASS | PASS | SKIPPED | SKIPPED | SKIPPED | +-------------------------------+--------------------+-------------------+------------------+-------------------+-------------------------+----------------------+ | Red Hat Enterprise Linux 8.10 | PASS | SKIPPED | SKIPPED | SKIPPED | SKIPPED | SKIPPED | +-------------------------------+--------------------+-------------------+------------------+-------------------+-------------------------+----------------------+ | CentOS Stream 10 | PASS | SKIPPED | SKIPPED | SKIPPED | SKIPPED | SKIPPED | +-------------------------------+--------------------+-------------------+------------------+-------------------+-------------------------+----------------------+ | Red Hat Enterprise Linux 9.5 | PASS | SKIPPED | SKIPPED | SKIPPED | SKIPPED | SKIPPED | +-------------------------------+--------------------+-------------------+------------------+-------------------+-------------------------+----------------------+ | Ubuntu 24.04 | PASS | PASS | PASS | SKIPPED | SKIPPED | SKIPPED | +-------------------------------+--------------------+-------------------+------------------+-------------------+-------------------------+----------------------+ | Alpine Linux 3.22.0 | PASS | SKIPPED | SKIPPED | SKIPPED | SKIPPED | SKIPPED | +-------------------------------+--------------------+-------------------+------------------+-------------------+-------------------------+----------------------+ | Ubuntu 22.04 | PASS | PASS | SKIPPED | SKIPPED | SKIPPED | SKIPPED | +-------------------------------+--------------------+-------------------+------------------+-------------------+-------------------------+----------------------+ | FreeBSD 14.2 | PASS | SKIPPED | SKIPPED | SKIPPED | SKIPPED | SKIPPED | +-------------------------------+--------------------+-------------------+------------------+-------------------+-------------------------+----------------------+ | Windows Server 2022 | SKIPPED | SKIPPED | SKIPPED | PASS | PASS | PASS | +-------------------------------+--------------------+-------------------+------------------+-------------------+-------------------------+----------------------+ Ubuntu 20.04 Kernel: 4.19 Compiler: gcc gcc (Ubuntu 9.4.0-1ubuntu1~20.04.2) 9.4.0 CentOS Stream 9 Kernel: 5.15 Compiler: gcc gcc (GCC) 11.5.0 20240719 (Red Hat 11.5.0-11) Debian GNU/Linux 12 Kernel: 5.15 Compiler: gcc gcc (Debian 12.2.0-14+deb12u1) 12.2.0 openSUSE Leap 15.6 Kernel: 5.15 Compiler: gcc gcc (SUSE Linux) 7.5.0 Fedora Linux 42 Kernel: 5.15 Compiler: gcc gcc (GCC) 15.2.1 20250808 (Red Hat 15.2.1-1) Red Hat Enterprise Linux 8.10 Kernel: 5.15 Compiler: gcc gcc (GCC) 8.5.0 20210514 (Red Hat 8.5.0-22) CentOS Stream 10 Kernel: 5.15 Compiler: gcc gcc (GCC) 14.2.1 20250110 (Red Hat 14.2.1-8) Red Hat Enterprise Linux 9.5 Kernel: 5.15 Compiler: gcc gcc (GCC) 11.5.0 20240719 (Red Hat 11.5.0-2) Ubuntu 24.04 Kernel: 5.15 Compiler: gcc gcc (Ubuntu 13.3.0-6ubuntu2~24.04) 13.3.0 Alpine Linux 3.22.0 Kernel: 5.15 Compiler: gcc gcc (Alpine 14.2.0) 14.2.0 Ubuntu 22.04 Kernel: 5.15 Compiler: gcc gcc (Ubuntu 11.4.0-1ubuntu1~22.04) 11.4.0 FreeBSD 14.2 Kernel: 14.2-RELEASE Compiler: clang 18.1.6 Windows Server 2022 Kernel: 10.0.20348.2031 Compiler: clang 15.0.7, gcc 14.1.0 (MinGW), and MSVC VS 19.39.33521 To view detailed results, visit: https://lab.dpdk.org/results/dashboard/tarballs/35399/ UNH-IOL DPDK Community Lab To manage your email subscriptions, visit: https://lab.dpdk.org/results/dashboard/preferences/subscriptions/