From: dpdklab@iol.unh.edu
To: Test Report <test-report@dpdk.org>
Cc: dpdk-test-reports@iol.unh.edu
Subject: |PENDING| pw158286 [PATCH] net/cnxk: fix port ID default action
Date: Wed, 29 Oct 2025 23:48:33 -0700 (PDT)	[thread overview]
Message-ID: <69030a41.050a0220.1b1603.42e2SMTPIN_ADDED_MISSING@mx.google.com> (raw)
In-Reply-To: <20251030034404.4187369-1-psatheesh@marvell.com>
Test-Label: iol-unit-amd64-testing
Test-Status: PENDING
http://dpdk.org/patch/158286
_Testing pending_
Submitter: Satheesh Paul Antonysamy <psatheesh@marvell.com>
Date: Thursday, October 30 2025 03:44:03 
DPDK git baseline: Repo:dpdk-next-net-mrvl
  Branch: master
  CommitID:39b54f2dcf44ad1f91eabc7080cd5dea763607fd
158286 --> testing pending
Upstream job id: Generic-VM-Unit-Test-DPDK#32181
Test environment and result as below:
+-------------------------------+----------------+
|          Environment          | dpdk_unit_test |
+===============================+================+
| CentOS Stream 9               | PEND           |
+-------------------------------+----------------+
| CentOS Stream 10              | PEND           |
+-------------------------------+----------------+
| Fedora Linux 40               | PEND           |
+-------------------------------+----------------+
| Fedora Linux 41               | PEND           |
+-------------------------------+----------------+
| Debian GNU/Linux 12           | PEND           |
+-------------------------------+----------------+
| Fedora Linux 42               | PEND           |
+-------------------------------+----------------+
| Red Hat Enterprise Linux 8.10 | PEND           |
+-------------------------------+----------------+
| Red Hat Enterprise Linux 9.5  | PEND           |
+-------------------------------+----------------+
| Ubuntu 20.04                  | PEND           |
+-------------------------------+----------------+
| Ubuntu 24.04                  | PEND           |
+-------------------------------+----------------+
| Ubuntu 22.04                  | PEND           |
+-------------------------------+----------------+
| Windows Server 2022           | PASS           |
+-------------------------------+----------------+
CentOS Stream 9
	Kernel: 5.15
	Compiler: gcc gcc (GCC) 11.5.0 20240719 (Red Hat 11.5.0-11)
CentOS Stream 10
	Kernel: 5.15
	Compiler: gcc gcc (GCC) 14.2.1 20250110 (Red Hat 14.2.1-8)
Fedora Linux 40
	Kernel: 5.15
	Compiler: clang gcc (GCC) 14.2.1 20240912 (Red Hat 14.2.1-3)
Fedora Linux 41
	Kernel: 5.15
	Compiler: gcc gcc (GCC) 14.3.1 20250523 (Red Hat 14.3.1-1)
Debian GNU/Linux 12
	Kernel: 5.15
	Compiler: gcc gcc (Debian 12.2.0-14+deb12u1) 12.2.0
Fedora Linux 42
	Kernel: 5.15
	Compiler: clang gcc (GCC) 15.2.1 20250808 (Red Hat 15.2.1-1)
Red Hat Enterprise Linux 8.10
	Kernel: 5.15
	Compiler: gcc gcc (GCC) 8.5.0 20210514 (Red Hat 8.5.0-22)
Red Hat Enterprise Linux 9.5
	Kernel: 5.15
	Compiler: gcc gcc (GCC) 11.5.0 20240719 (Red Hat 11.5.0-2)
Ubuntu 20.04
	Kernel: 5.15
	Compiler: gcc gcc (Ubuntu 9.4.0-1ubuntu1~20.04.2) 9.4.0
Ubuntu 24.04
	Kernel: 5.15
	Compiler: gcc gcc (Ubuntu 13.3.0-6ubuntu2~24.04) 13.3.0
Ubuntu 22.04
	Kernel: 5.15
	Compiler: gcc gcc (Ubuntu 11.4.0-1ubuntu1~22.04) 11.4.0
Windows Server 2022
	Kernel: 10.0.20348.2031
	Compiler: clang 15.0.7, gcc 14.1.0 (MinGW), and MSVC VS 19.39.33521
To view detailed results, visit:
https://lab.dpdk.org/results/dashboard/patchsets/34423/
UNH-IOL DPDK Community Lab
To manage your email subscriptions, visit: 
https://lab.dpdk.org/results/dashboard/preferences/subscriptions/
next prev parent reply	other threads:[~2025-10-30  6:48 UTC|newest]
Thread overview: 27+ messages / expand[flat|nested]  mbox.gz  Atom feed  top
     [not found] <20251030034404.4187369-1-psatheesh@marvell.com>
2025-10-30  3:11 ` |SUCCESS| " qemudev
2025-10-30  3:16 ` qemudev
2025-10-30  3:45 ` checkpatch
2025-10-30  4:19 ` dpdklab
2025-10-30  4:22 ` dpdklab
2025-10-30  4:26 ` dpdklab
2025-10-30  4:41 ` |SUCCESS| pw158286 [dpdk-dev] " 0-day Robot
2025-10-30  4:41 ` 0-day Robot
2025-10-30  5:02 ` |SUCCESS| pw158286 " dpdklab
2025-10-30  5:10 ` dpdklab
2025-10-30  5:33 ` dpdklab
2025-10-30  5:35 ` dpdklab
2025-10-30  6:06 ` |PENDING| " dpdklab
2025-10-30  6:06 ` |SUCCESS| " dpdklab
2025-10-30  6:28 ` dpdklab
2025-10-30  6:35 ` dpdklab
2025-10-30  6:41 ` dpdklab
2025-10-30  6:43 ` |WARNING| " dpdklab
2025-10-30  6:48 ` dpdklab [this message]
2025-10-30  7:28 ` |SUCCESS| " dpdklab
2025-10-30  7:43 ` |WARNING| " dpdklab
2025-10-30  7:56 ` |SUCCESS| " dpdklab
2025-10-30  8:19 ` dpdklab
2025-10-30  8:39 ` |WARNING| " dpdklab
2025-10-30 11:25 ` |SUCCESS| " dpdklab
2025-10-31  5:42 ` dpdklab
2025-10-31  5:55 ` dpdklab
Reply instructions:
You may reply publicly to this message via plain-text email
using any one of the following methods:
* Save the following mbox file, import it into your mail client,
  and reply-to-all from there: mbox
  Avoid top-posting and favor interleaved quoting:
  https://en.wikipedia.org/wiki/Posting_style#Interleaved_style
* Reply using the --to, --cc, and --in-reply-to
  switches of git-send-email(1):
  git send-email \
    --in-reply-to=69030a41.050a0220.1b1603.42e2SMTPIN_ADDED_MISSING@mx.google.com \
    --to=dpdklab@iol.unh.edu \
    --cc=dpdk-test-reports@iol.unh.edu \
    --cc=test-report@dpdk.org \
    /path/to/YOUR_REPLY
  https://kernel.org/pub/software/scm/git/docs/git-send-email.html
* If your mail client supports setting the In-Reply-To header
  via mailto: links, try the mailto: link
  Be sure your reply has a Subject: header at the top and a blank line
  before the message body.
This is a public inbox, see mirroring instructions
for how to clone and mirror all data and code used for this inbox;
as well as URLs for NNTP newsgroup(s).