From: dpdklab@iol.unh.edu
To: Test Report <test-report@dpdk.org>
Cc: dpdk-test-reports@iol.unh.edu,
Bruce Richardson <bruce.richardson@intel.com>
Subject: |SUCCESS| pw158287-158289 [PATCH] [v2,3/3] doc: update TxPP document
Date: Wed, 29 Oct 2025 23:53:49 -0700 (PDT) [thread overview]
Message-ID: <69030b7d.050a0220.26926e.3198SMTPIN_ADDED_MISSING@mx.google.com> (raw)
In-Reply-To: <20251030173304.260209-4-soumyadeep.hore@intel.com>
Test-Label: iol-compile-amd64-testing
Test-Status: SUCCESS
http://dpdk.org/patch/158289
_Testing PASS_
Submitter: Soumyadeep Hore <soumyadeep.hore@intel.com>
Date: Thursday, October 30 2025 17:33:04
DPDK git baseline: Repo:dpdk-next-net-intel
Branch: master
CommitID:6b997d6b9ffdbb4f8ecd14d1f217da69cdc783af
158287-158289 --> testing pass
Upstream job id: Windows-Compile-DPDK-Native#32009
Test environment and result as below:
+---------------------+--------------------+-------------------+-------------------------+
| Environment | dpdk_meson_compile | dpdk_msvc_compile | dpdk_llvm_clang_compile |
+=====================+====================+===================+=========================+
| Ubuntu 20.04 | PASS | SKIPPED | SKIPPED |
+---------------------+--------------------+-------------------+-------------------------+
| FreeBSD 14.2 | PASS | SKIPPED | SKIPPED |
+---------------------+--------------------+-------------------+-------------------------+
| Windows Server 2022 | SKIPPED | PASS | PASS |
+---------------------+--------------------+-------------------+-------------------------+
Ubuntu 20.04
Kernel: 4.19
Compiler: gcc gcc (Ubuntu 9.4.0-1ubuntu1~20.04.2) 9.4.0
FreeBSD 14.2
Kernel: 14.2-RELEASE
Compiler: clang 18.1.6
Windows Server 2022
Kernel: 10.0.20348.2031
Compiler: clang 15.0.7, gcc 14.1.0 (MinGW), and MSVC VS 19.39.33521
To view detailed results, visit:
https://lab.dpdk.org/results/dashboard/patchsets/34424/
UNH-IOL DPDK Community Lab
To manage your email subscriptions, visit:
https://lab.dpdk.org/results/dashboard/preferences/subscriptions/
next prev parent reply other threads:[~2025-10-30 6:53 UTC|newest]
Thread overview: 27+ messages / expand[flat|nested] mbox.gz Atom feed top
[not found] <20251030173304.260209-4-soumyadeep.hore@intel.com>
2025-10-30 4:19 ` |SUCCESS| pw158287-158289 [PATCH v2 3/3] doc: update TxPP documentation qemudev
2025-10-30 4:24 ` qemudev
2025-10-30 4:54 ` |SUCCESS| pw158289 " checkpatch
2025-10-30 5:21 ` |PENDING| pw158287-158289 [PATCH] [v2,3/3] doc: update TxPP document dpdklab
2025-10-30 5:25 ` |SUCCESS| " dpdklab
2025-10-30 5:28 ` dpdklab
2025-10-30 5:29 ` dpdklab
2025-10-30 5:33 ` dpdklab
2025-10-30 5:56 ` dpdklab
2025-10-30 6:13 ` dpdklab
2025-10-30 6:22 ` |SUCCESS| pw158289 [PATCH v2 3/3] doc: update TxPP documentation 0-day Robot
2025-10-30 6:22 ` 0-day Robot
2025-10-30 6:28 ` |SUCCESS| pw158287-158289 [PATCH] [v2,3/3] doc: update TxPP document dpdklab
2025-10-30 6:30 ` |PENDING| " dpdklab
2025-10-30 6:32 ` |SUCCESS| " dpdklab
2025-10-30 6:53 ` dpdklab [this message]
2025-10-30 6:55 ` |WARNING| " dpdklab
2025-10-30 6:56 ` |SUCCESS| " dpdklab
2025-10-30 7:15 ` |PENDING| " dpdklab
2025-10-30 8:10 ` |WARNING| " dpdklab
2025-10-30 8:13 ` |SUCCESS| " dpdklab
2025-10-30 8:23 ` |PENDING| " dpdklab
2025-10-30 8:28 ` |WARNING| " dpdklab
2025-10-30 8:41 ` dpdklab
2025-10-30 8:41 ` |SUCCESS| " dpdklab
2025-10-30 8:48 ` dpdklab
2025-10-30 16:17 ` dpdklab
Reply instructions:
You may reply publicly to this message via plain-text email
using any one of the following methods:
* Save the following mbox file, import it into your mail client,
and reply-to-all from there: mbox
Avoid top-posting and favor interleaved quoting:
https://en.wikipedia.org/wiki/Posting_style#Interleaved_style
* Reply using the --to, --cc, and --in-reply-to
switches of git-send-email(1):
git send-email \
--in-reply-to=69030b7d.050a0220.26926e.3198SMTPIN_ADDED_MISSING@mx.google.com \
--to=dpdklab@iol.unh.edu \
--cc=bruce.richardson@intel.com \
--cc=dpdk-test-reports@iol.unh.edu \
--cc=test-report@dpdk.org \
/path/to/YOUR_REPLY
https://kernel.org/pub/software/scm/git/docs/git-send-email.html
* If your mail client supports setting the In-Reply-To header
via mailto: links, try the mailto: link
Be sure your reply has a Subject: header at the top and a blank line
before the message body.
This is a public inbox, see mirroring instructions
for how to clone and mirror all data and code used for this inbox;
as well as URLs for NNTP newsgroup(s).