From mboxrd@z Thu Jan 1 00:00:00 1970 Return-Path: Received: from mails.dpdk.org (mails.dpdk.org [217.70.189.124]) by inbox.dpdk.org (Postfix) with ESMTP id 34B36489FC for ; Thu, 30 Oct 2025 07:53:51 +0100 (CET) Received: from mails.dpdk.org (localhost [127.0.0.1]) by mails.dpdk.org (Postfix) with ESMTP id 2F3F94027A; Thu, 30 Oct 2025 07:53:51 +0100 (CET) Received: from mail-qk1-f225.google.com (mail-qk1-f225.google.com [209.85.222.225]) by mails.dpdk.org (Postfix) with ESMTP id C0BF44027A for ; Thu, 30 Oct 2025 07:53:49 +0100 (CET) Received: by mail-qk1-f225.google.com with SMTP id af79cd13be357-8a9b1cb735bso68392285a.1 for ; Wed, 29 Oct 2025 23:53:49 -0700 (PDT) DKIM-Signature: v=1; a=rsa-sha256; c=relaxed/relaxed; d=iol.unh.edu; s=unh-iol; t=1761807229; x=1762412029; darn=dpdk.org; h=references:in-reply-to:cc:to:from:subject:message-id:date:from:to :cc:subject:date:message-id:reply-to; bh=ghCT0M6Nnbn9THNEVwFrnW4B0Wqalkl4Qq9xcv1yML0=; b=M2xE8Do7mI9JoKiAOVuQFBRDzQOCMG8Thhfaf6QArStRMzxDWEcUsBufkDsoxaCsSD PJpGLOGiqCxjctty2tj5syUcGdgFgyapV2A8t2DkB5zfKAL7sW2h0KQpTdJhPDFXijJj MO336A5ojeuFy0h7n5OeWuX1AwOxjieEKtsR0= X-Google-DKIM-Signature: v=1; a=rsa-sha256; c=relaxed/relaxed; d=1e100.net; s=20230601; t=1761807229; x=1762412029; h=references:in-reply-to:cc:to:from:subject:message-id:date :x-gm-message-state:from:to:cc:subject:date:message-id:reply-to; bh=ghCT0M6Nnbn9THNEVwFrnW4B0Wqalkl4Qq9xcv1yML0=; b=CrAIU68ZBbW8faRP2S5BOfW/WejLFAvA1HrpdZaehlSKpIWSL/zWxRpXgiNlkzZoeo ffxA3dHSHmKx5w+1iFAVN+OwoIWkAx5zUnAzLfF8xGjdb6EMC/Do5OjNIFeDPPAUaO/v Dfp+TFoMyi0dvkBxbUYV0PH0zYkO/l1nFipWcuFeGrbAFXEz2aLTllxo+s0iWJSqFBcI +o8cx4AOCMBl9kkS7XA5FX67QBsIG6qsRfM7rTU+jaeU/4GWHFIVbFOPMDHjoG2y+pvq rwNH7NOCK3YedvK1bxH+2QaCEUfL2x/b+YudMYoEmDp5P4Az0K3zl1NLLBa7TBGPBVhn rnzA== X-Gm-Message-State: AOJu0Yx6OaY5E8afu67huPUU2+aATyqvYXk7LmEgslQ/A5kpHG3QtRBk fyKHqkhAuny99BzhuBJ4qr9Xvha1gR3bCswN7uLOgQDtU31OA7+yiWR0eWIfB3eRVGtAzGr+pA9 S+iBTt62IP3ynKNzp+iVnmuDPju3/q2FZeQsqyQXotCpf X-Gm-Gg: ASbGncuAidTGNVy1CiuT8Z1etfuk6VEr64ZJGm7B5srsnZcs/JisavNf59M4i60TUTv gQQhIY6NN5hahi0Yi8gNK+RsXAlBSpMLKvqsQ4bL0L5A2/WvTajHfg5XX9KScHbptbL5A4OCElL D3UkGhlfAO3ISnysmmrKcNGv9S89Ffk9ZPcTIyNVXceLm3khkfKjlEFJuu4a7znWqkWsRvNMNNn 4VVS0FGpCYTHlQ7NEGtQPBUAH5a38lARppwK84/DE9yxNy4XJP6fOzktcs/M0yVI5S/7QJ3/KX0 cRl5W5+CmePs4cRneaCiJ2+tJ7BZFskl96N+/eah7dzZ9zgaBb4qvZp233tJKXFj2fuBcK3+kwn T5MN8h0IAw+3Uh6x9OGj70lffZEUzfKk= X-Google-Smtp-Source: AGHT+IHc3OpTC0fgn1RheX6RDAJTEbuXP5gnxmsukITkQpjqlKpkrwDB0XFJpM3l68AEptMxMeLxzcmrziSt X-Received: by 2002:a05:620a:408a:b0:890:62b7:5af3 with SMTP id af79cd13be357-8aa2de73f6cmr333655385a.51.1761807229077; Wed, 29 Oct 2025 23:53:49 -0700 (PDT) Received: from postal.iol.unh.edu (postal.iol.unh.edu. [132.177.123.84]) by smtp-relay.gmail.com with ESMTPS id af79cd13be357-89f2346532bsm144410585a.0.2025.10.29.23.53.49 (version=TLS1_2 cipher=ECDHE-ECDSA-AES128-GCM-SHA256 bits=128/128); Wed, 29 Oct 2025 23:53:49 -0700 (PDT) X-Relaying-Domain: iol.unh.edu Date: Wed, 29 Oct 2025 23:53:49 -0700 (PDT) Message-ID: <69030b7d.050a0220.26926e.3198SMTPIN_ADDED_MISSING@mx.google.com> Received: from [172.21.0.2] (unknown [172.18.0.240]) by postal.iol.unh.edu (Postfix) with ESMTP id CDEB96051830; Thu, 30 Oct 2025 02:53:48 -0400 (EDT) Subject: |SUCCESS| pw158287-158289 [PATCH] [v2,3/3] doc: update TxPP document From: dpdklab@iol.unh.edu To: Test Report Cc: dpdk-test-reports@iol.unh.edu, Bruce Richardson In-Reply-To: <20251030173304.260209-4-soumyadeep.hore@intel.com> References: <20251030173304.260209-4-soumyadeep.hore@intel.com> Content-Type: text/plain X-BeenThere: test-report@dpdk.org X-Mailman-Version: 2.1.29 Precedence: list List-Id: automatic DPDK test reports List-Unsubscribe: , List-Archive: List-Post: List-Help: List-Subscribe: , Errors-To: test-report-bounces@dpdk.org Test-Label: iol-compile-amd64-testing Test-Status: SUCCESS http://dpdk.org/patch/158289 _Testing PASS_ Submitter: Soumyadeep Hore Date: Thursday, October 30 2025 17:33:04 DPDK git baseline: Repo:dpdk-next-net-intel Branch: master CommitID:6b997d6b9ffdbb4f8ecd14d1f217da69cdc783af 158287-158289 --> testing pass Upstream job id: Windows-Compile-DPDK-Native#32009 Test environment and result as below: +---------------------+--------------------+-------------------+-------------------------+ | Environment | dpdk_meson_compile | dpdk_msvc_compile | dpdk_llvm_clang_compile | +=====================+====================+===================+=========================+ | Ubuntu 20.04 | PASS | SKIPPED | SKIPPED | +---------------------+--------------------+-------------------+-------------------------+ | FreeBSD 14.2 | PASS | SKIPPED | SKIPPED | +---------------------+--------------------+-------------------+-------------------------+ | Windows Server 2022 | SKIPPED | PASS | PASS | +---------------------+--------------------+-------------------+-------------------------+ Ubuntu 20.04 Kernel: 4.19 Compiler: gcc gcc (Ubuntu 9.4.0-1ubuntu1~20.04.2) 9.4.0 FreeBSD 14.2 Kernel: 14.2-RELEASE Compiler: clang 18.1.6 Windows Server 2022 Kernel: 10.0.20348.2031 Compiler: clang 15.0.7, gcc 14.1.0 (MinGW), and MSVC VS 19.39.33521 To view detailed results, visit: https://lab.dpdk.org/results/dashboard/patchsets/34424/ UNH-IOL DPDK Community Lab To manage your email subscriptions, visit: https://lab.dpdk.org/results/dashboard/preferences/subscriptions/