From mboxrd@z Thu Jan 1 00:00:00 1970 Return-Path: Received: from mails.dpdk.org (mails.dpdk.org [217.70.189.124]) by inbox.dpdk.org (Postfix) with ESMTP id 7E2AA489FC for ; Thu, 30 Oct 2025 07:56:45 +0100 (CET) Received: from mails.dpdk.org (localhost [127.0.0.1]) by mails.dpdk.org (Postfix) with ESMTP id 77BAB4027A; Thu, 30 Oct 2025 07:56:45 +0100 (CET) Received: from mail-vs1-f98.google.com (mail-vs1-f98.google.com [209.85.217.98]) by mails.dpdk.org (Postfix) with ESMTP id 138304027A for ; Thu, 30 Oct 2025 07:56:44 +0100 (CET) Received: by mail-vs1-f98.google.com with SMTP id ada2fe7eead31-58de3ab1831so746599137.3 for ; Wed, 29 Oct 2025 23:56:44 -0700 (PDT) DKIM-Signature: v=1; a=rsa-sha256; c=relaxed/relaxed; d=iol.unh.edu; s=unh-iol; t=1761807403; x=1762412203; darn=dpdk.org; h=references:in-reply-to:cc:to:from:subject:message-id:date:from:to :cc:subject:date:message-id:reply-to; bh=YTmv7LLelU5PKrblc7A04te/9OcXs6uqi7SLpVsoluk=; b=UyJpiGhXfkZ1LKEPLadAlgdcB6UGfUIXHkVBNrS567LVyAd+gFdbylAx+klUET1JaB Vh8ucGnIa6hETd8vpY3Y4BcDCjc1GqnlVvyIdZInCRoDv/RdLlMeslPXJbb/MhlVvI/H VjjraRc5BLSEcC3emsuiz4zazGbMLUKLE5LSg= X-Google-DKIM-Signature: v=1; a=rsa-sha256; c=relaxed/relaxed; d=1e100.net; s=20230601; t=1761807403; x=1762412203; h=references:in-reply-to:cc:to:from:subject:message-id:date :x-gm-message-state:from:to:cc:subject:date:message-id:reply-to; bh=YTmv7LLelU5PKrblc7A04te/9OcXs6uqi7SLpVsoluk=; b=MUggEqMRHOcevj76ke17YlYzx/8oMMK0KhAZIw+AY/+AlA5vVUh2DoSD4bWQLr0klC aTDyqDmEnN/QeYS3PwJ/Sxh//vmkuBaqkTihi/RPPhfpNJ73H/uh8egj+X3H3zqZ03oY V+VRhHpm8jbg5u5m5vKs3qrv8FZT382liTsjwAe9qQAeiHc3YfacVEi6vc4uO51Sm06a PXFOaB6iXQEhkl80sEX77KaOl9Kgb88nG71mnnEmPboBxxHfcX6XkYmCOLnQw1XZ+AkB gGLUkX+jsqsqn0ACQe53HgahdLkhXcAptRMhQainY7QSbah+3X/e1YepRZR+c6D4sfE9 Z8Rw== X-Gm-Message-State: AOJu0YzchSzAuRGM5MkzoI0fN8eir62aIyFlzbdjaPE9L5WRIrwVK2rf cr6GoTuaSZWgSaKbjSRTPiD/0whrrpQh+HKjGVRsnWlFHS05Ns8C+NO8PUCFzEJdz6FvxTi2wwb ezGd+LN94P9qrfULnDDbRwgVUYiOQrpkHUAkIXu7Gfc3m X-Gm-Gg: ASbGncuwKU9Zhw+qcLqSYld16tHcanpTRFmjXHgkMaqMZEc8iOrH9i67fn0SZdbXX1S WWCyKvSvYY4j37EodbyWKyjJmkzkvj78Ys6AWwEKfWoyE4ixJ32TOadfAOhEPMyTb35iw3798rq d0hgECwk6y9GF4g0JjcAE/7V5j5/2GJYFIJruCVukGzSYkuGNzza2zEKvR82gJffpY3K4hB+CLV ZqNt1vUxMtNnac5dhlBzOvxDJ4D1tGpdyC7lv6/NQDakleOPv8P0Q04prTG6863XUA9Hm4GPle9 GZgvsDON6YCnM5dk1gsO5W44wuozt2zrB+C46mjO2+S1+ROdG2D5lWaA9YwxYlHHdKDXVAbCXqf s+ypj9Ytb/mO0Acr4zaeRZqYpoScZe9s= X-Google-Smtp-Source: AGHT+IEyb8AEp5+HBjVahnl92WRJeXJ8BbQYowXRb6Be1mcs/keD0KP3KDowiX9+A/QUhgiBW2u7K9UYEklF X-Received: by 2002:a05:6102:c86:b0:4fb:de9e:6d87 with SMTP id ada2fe7eead31-5db905b2295mr2138758137.11.1761807403383; Wed, 29 Oct 2025 23:56:43 -0700 (PDT) Received: from postal.iol.unh.edu (postal.iol.unh.edu. [132.177.123.84]) by smtp-relay.gmail.com with ESMTPS id ada2fe7eead31-5db4e5b9a1fsm1773981137.2.2025.10.29.23.56.43 (version=TLS1_2 cipher=ECDHE-ECDSA-AES128-GCM-SHA256 bits=128/128); Wed, 29 Oct 2025 23:56:43 -0700 (PDT) X-Relaying-Domain: iol.unh.edu Date: Wed, 29 Oct 2025 23:56:43 -0700 (PDT) Message-ID: <69030c2b.050a0220.3820ff.4049SMTPIN_ADDED_MISSING@mx.google.com> Received: from [172.21.0.3] (unknown [172.18.0.240]) by postal.iol.unh.edu (Postfix) with ESMTP id 141916051830; Thu, 30 Oct 2025 02:56:43 -0400 (EDT) Subject: |SUCCESS| pw158287-158289 [PATCH] [v2,3/3] doc: update TxPP document From: dpdklab@iol.unh.edu To: Test Report Cc: dpdk-test-reports@iol.unh.edu, Bruce Richardson In-Reply-To: <20251030173304.260209-4-soumyadeep.hore@intel.com> References: <20251030173304.260209-4-soumyadeep.hore@intel.com> Content-Type: text/plain X-BeenThere: test-report@dpdk.org X-Mailman-Version: 2.1.29 Precedence: list List-Id: automatic DPDK test reports List-Unsubscribe: , List-Archive: List-Post: List-Help: List-Subscribe: , Errors-To: test-report-bounces@dpdk.org Test-Label: iol-compile-amd64-testing Test-Status: SUCCESS http://dpdk.org/patch/158289 _Testing PASS_ Submitter: Soumyadeep Hore Date: Thursday, October 30 2025 17:33:04 DPDK git baseline: Repo:dpdk-next-net-intel Branch: master CommitID:6b997d6b9ffdbb4f8ecd14d1f217da69cdc783af 158287-158289 --> testing pass Upstream job id: Windows-Compile-DPDK-Native#32010 Test environment and result as below: +---------------------+--------------------+-------------------+-------------------------+----------------------+ | Environment | dpdk_meson_compile | dpdk_msvc_compile | dpdk_llvm_clang_compile | dpdk_mingw64_compile | +=====================+====================+===================+=========================+======================+ | Ubuntu 20.04 | PASS | SKIPPED | SKIPPED | SKIPPED | +---------------------+--------------------+-------------------+-------------------------+----------------------+ | FreeBSD 14.2 | PASS | SKIPPED | SKIPPED | SKIPPED | +---------------------+--------------------+-------------------+-------------------------+----------------------+ | Windows Server 2022 | SKIPPED | PASS | PASS | PASS | +---------------------+--------------------+-------------------+-------------------------+----------------------+ Ubuntu 20.04 Kernel: 4.19 Compiler: gcc gcc (Ubuntu 9.4.0-1ubuntu1~20.04.2) 9.4.0 FreeBSD 14.2 Kernel: 14.2-RELEASE Compiler: clang 18.1.6 Windows Server 2022 Kernel: 10.0.20348.2031 Compiler: clang 15.0.7, gcc 14.1.0 (MinGW), and MSVC VS 19.39.33521 To view detailed results, visit: https://lab.dpdk.org/results/dashboard/patchsets/34424/ UNH-IOL DPDK Community Lab To manage your email subscriptions, visit: https://lab.dpdk.org/results/dashboard/preferences/subscriptions/